Workbook

Sheet SOMMARIO
A4: Energia elettrica 19
A5: Convenzione per la fornitura di energia elettrica a prezzo fisso o a prezzo variabile e servizi connessi per tutte le Pubbliche Amministrazioni
A7: Configuratore corrispettivi a Prezzo Variabile per la fornitura di Energia Elettrica edizione 19
A9: Sommario
A10: Lotto 1: Valle d’Aosta, Piemonte | I10: Fornitore: Global Power S.p.A.
A11: Lotto 2: Province di Milano e Lodi | D11: Lotto 2: Province di Milano e Lodi | I11: Fornitore: Enel Energia S.p.A.
A12: Lotto 3: Lombardia escluse le Province di Milano e Lodi | I12: Fornitore: Enel Energia S.p.A.
A13: Lotto 4: Trentino Alto Adige, Friuli Venezia Giulia | I13: Fornitore: AGSM Energia S.p.A.
A14: Lotto 5: Veneto | I14: Fornitore: Enel Energia S.p.A.
A15: Lotto 6: Emilia Romagna | I15: Fornitore: Enel Energia S.p.A.
A16: Lotto 7: Sardegna, Liguria | I16: Fornitore: Enel Energia S.p.A.
A17: Lotto 8: Toscana | I17: Fornitore: AGSM Energia S.p.A.
A18: Lotto 9: Umbria, Marche | I18: Fornitore: AGSM Energia S.p.A.
A19: Lotto 10: Provincia di Roma | I19: Fornitore: Hera Comm.
A20: Lotto 11: Lazio esclusa la Provincia di Roma | I20: Fornitore: Global Power S.p.A.
A21: Lotto 12: Abruzzo, Molise | I21: Fornitore: A2A S.p.A.
A22: Lotto 13: Campania | I22: Fornitore: Hera Comm.
A23: Lotto 14: Puglia, Basilicata | I23: Fornitore: AGSM Energia S.p.A.
... A26: Lotto 17: Italia | I26: Fornitore: AGSM Energia S.p.A.
A28: I corrispettivi mensili sono inclusivi degli oneri relativi a:
A29: - Sbilanciamento | I29: Base d'Asta e Perdite di Rete
A30: - Emission Trading (CO2)
A31: - Certificati Verdi (CV) | I31: Opzione Verde
A32: Sono inceve totalmente a carico dell’Amministrazione, alle condizioni stabilite dalle autorità competenti:
A33: - le Perdite di Rete Standard | I33: PUNIndex e PUN per fascia
A34: - il Servizio di Dispacciamento
A35: - il Servizio di Trasporto (trasmissione e distribuzione) | I35: Fasce Orarie
A36: - il Servizio di Misura
A37: - gli Oneri di Sistema relativi al solo mercato libero come stabiliti, tempo per tempo, dall’ARERA (a titolo es. le componenti tariffarie ARIM, ASOS, UC, CMOR).
A38: - le Imposte e le Addizionali previste dalla normativa vigente.
A40: Si segnala che il presente configuratore rappresenta un mero strumento di ausilio diretto a fornire delle indicazioni di massima in ordine al possibile utilizzo della Convenzione da parte della singola P.A. in relazione a sue specifiche esigenze. Consip S.p.A. ed il MEF non assumono pertanto responsabilità alcuna in ordine ad eventuali errori/inesattezze contenuti nel software e/o nel foglio elettronico di calcolo che compongono il configuratore, ovvero anche ad eventuali errori nell’utilizzo di detti strumenti. Restano ferme tutte le condizioni contenute nella Convenzione e relativi allegati, alla cui attenta lettura ed esame, pertanto, si rinvia integralmente.

Sheet OPZIONE VERDE
M1: torna al SOMMARIO
A4: Energia elettrica 19
A5: Convenzione per la fornitura di energia elettrica a prezzo fisso o a prezzo variabile e servizi connessi per tutte le Pubbliche Amministrazioni
A7: Configuratore corrispettivi a Prezzo Variabile per la fornitura di Energia Elettrica edizione 19
A9: Base d'Asta e Prezzi dell' Opzione Verde
A11: Il Fornitore, ai sensi della deliberazione ARERA ARG/elt n. 104/11 e s.m.i., tramite Garanzia d’Origine, è tenuto a certificare la produzione di Energia Verde per tutti i Punti di Prelievo per i quali sia stata attivata l’Opzione Verde per un ammontare non inferiore al consumo totale effettivo degli stessi. L’attivazione dell’Opzione Verde (OV) consente all’amministrazione l’utilizzo del marchio offerto dal rispettivo Fornitore. Il Logo verrà concesso in uso dal Fornitore per la durata della fornitura. Il corrispettivo che si applica ad ogni MWh consumato, è fisso ed invariabile per tutta la durata contrattuale. Per ulteriori informazioni si rimanda alla Convenzione, al Capitolato Tecnico e alla Guida. Informazioni sulla Garanzia d'Origine si trovano sul sito www.gse.it
A13: Base d'Asta Opzione Verde (Euro/MWh) | E13: 1
A15: Fornitore | E15: Lotti | H15: Valore Opzione (Euro/MWh) | K15: Marchio
A18: Enel Energia S.p.A. | E18: Lotti 2, 3, 5, 6, 7 | H18: 0.8
A20: AGSM Energia S.p.A. | E20: Lotto 4, 8, 9, 14, 17 | H20: 0.9
A22: Hera Comm. | E22: Lotto 10, 13, 15, 16 | H22: 0.9
A24: Global Power S.p.A. | E24: Lotto 1 e 11 | H24: 0,65 (L1); 0,6 (L11)
A26: Hera Comm. | E26: Lotto 12 | H26: 0.9

Sheet BASI D'ASTA e PERDITE DI RETE
J1: torna al SOMMARIO
A4: Energia elettrica 19
A5: Convenzione per la fornitura di energia elettrica a prezzo fisso o a prezzo variabile e servizi connessi per tutte le Pubbliche Amministrazioni
A7: Configuratore corrispettivi a Prezzo Variabile per la fornitura di Energia Elettrica edizione 19
A9: Basi d'Asta e Perdite di Rete
A12: SPREAD a Base d'Asta (al netto delle perdite di rete)*
A13: F1 | B13: F2 | C13: F3
A14: 10 | B14: 10 | C14: 10
A16: *Per tutte le tipologie di contratto di cui al comma 2.2 del TIT 2016-2019
A19: Tipologie di contratto di cui al comma 2.2 del TIT 2016-2019 | H19: Fattori percentuali di perdita di energia elettrica sulle reti con obbligo di connessione di terzi. Tabella 4 del TIS - Allegato A alla Deliberazione ARERA ARG/elt 107/09 s.m.i.
A20: Lettera b) Utenze in bassa tensione di illuminazione pubblica
A21: Lettera c) Utenze in BT ricarica veicoli elettrici pubblici
A22: Lettera d) Altre utenze in bassa tensione | H22: Livello di Tensione | J22: Perdite (%)
A23: Lettera e) Utenze in media tensione di illuminazione pubblica | H23: 380 kV | J23: 0.7
A24: Lettera f) Altre utenze in media tensione | H24: 220 kV | J24: 1.1
A25: Lettera g) Utenze in alta tensione | H25: ≤ 150 kV | J25: 1.8
A26: Lettera h) Utenze in altissima tensione < 380 kV | H26: MT (Media Tensione) | J26: 3.8
A27: Lettera i) Utenze in altissima tensione ≥ 380 kV | H27: BT (Bassa Tensione) | J27: 10.4

Sheet PUNIndex e PUN per fascia
L1: torna al SOMMARIO
A4: Energia elettrica 19
A5: Convenzione per la fornitura di energia elettrica a prezzo fisso o a prezzo variabile e servizi connessi per tutte le Pubbliche Amministrazioni
A7: Configuratore corrispettivi a Prezzo Variabile per la fornitura di Energia Elettrica edizione 19
A9: PUNIndex e PUN per fascia 12 e 24 mesi
I11: PUNIndex e PUN per fascia
I13: Mese | J13: F0 | K13: F1 | L13: F2 | M13: F3
J14: Euro/MWh | K14: Euro/MWh | L14: Euro/MWh | M14: Euro/MWh
I15: 44531 | J15: 281.24 | K15: 327.5 | L15: 295.65 | M15: 242.08
I16: 44562 | J16: 224.5 | K16: 257.19 | L16: 242.35 | M16: 196.39
I17: 44593 | J17: 211.69 | K17: 224.88 | L17: 225.68 | M17: 193.65

Sheet FASCE ORARIE
J1: torna al SOMMARIO
A4: Energia elettrica 19
A5: Convenzione per la fornitura di energia elettrica a prezzo fisso o a prezzo variabile e servizi connessi per tutte le Pubbliche Amministrazioni
A7: Configuratore corrispettivi a Prezzo Variabile per la fornitura di Energia Elettrica edizione 19
A9: Fasce Orarie
A11: Deliberazione ARERA n. 301/2012/R/eel e s.m.i. - "TIV" - Allegato A - Tabella 6: Fasce orarie
A12: F1 | B12: Nei giorni dal lunedì al venerdì: dalle ore 8.00 alle ore 19.00
A13: F2 | B13: Nei giorni dal lunedì al venerdì: dalle ore 7.00 alle ore 8.00 e dalle ore 19.00 alle ore 23.00
B14: Nei giorni di sabato: dalle ore 7.00 alle ore 23.00
A15: F3 | B15: Nei giorni dal lunedì al sabato: dalle ore 00.00 alle ore 7.00 e dalle ore 23.00 dalle ore 24.00
B16: Nei giorni di domenica e festivi*: Tutte le ore della giornata
A17: * Si considerano festivi: 1 gennaio; 6 gennaio; lunedì di Pasqua; 25 Aprile; 1 maggio; 2 giugno; 15 agosto; 1 novembre; 8 dicembre; 25 dicembre; 26 dicembre
A20: inizio | B20: fine | C20: Lunedì | D20: Martedì | E20: Mercoledì | F20: Giovedì | G20: Venerdì | H20: Sabato | I20: Domenica
A21: 0 | B21: 0.041666667 | C21: F3 | D21: F3 | E21: F3 | F21: F3 | G21: F3 | H21: F3 | I21: F3
A22: 0.041666667 | B22: 0.083333333 | C22: F3 | D22: F3 | E22: F3 | F22: F3 | G22: F3 | H22: F3 | I22: F3
A23: 0.083333333 | B23: 0.125 | C23: F3 | D23: F3 | E23: F3 | F23: F3 | G23: F3 | H23: F3 | I23: F3
A24: 0.125 | B24: 0.16666667 | C24: F3 | D24: F3 | E24: F3 | F24: F3 | G24: F3 | H24: F3 | I24: F3
A25: 0.16666667 | B25: 0.20833333 | C25: F3 | D25: F3 | E25: F3 | F25: F3 | G25: F3 | H25: F3 | I25: F3
A26: 0.20833333 | B26: 0.25 | C26: F3 | D26: F3 | E26: F3 | F26: F3 | G26: F3 | H26: F3 | I26: F3
A27: 0.25 | B27: 0.29166667 | C27: F3 | D27: F3 | E27: F3 | F27: F3 | G27: F3 | H27: F3 | I27: F3
A28: 0.29166667 | B28: 0.33333333 | C28: F2 | D28: F2 | E28: F2 | F28: F2 | G28: F2 | H28: F2 | I28: F3
A29: 0.33333333 | B29: 0.375 | C29: F1 | D29: F1 | E29: F1 | F29: F1 | G29: F1 | H29: F2 | I29: F3
A30: 0.375 | B30: 0.41666667 | C30: F1 | D30: F1 | E30: F1 | F30: F1 | G30: F1 | H30: F2 | I30: F3
A31: 0.41666667 | B31: 0.45833333 | C31: F1 | D31: F1 | E31: F1 | F31: F1 | G31: F1 | H31: F2 | I31: F3
A32: 0.45833333 | B32: 0.5 | C32: F1 | D32: F1 | E32: F1 | F32: F1 | G32: F1 | H32: F2 | I32: F3
... A44: 0.95833333 | B44: 1 | C44: F3 | D44: F3 | E44: F3 | F44: F3 | G44: F3 | H44: F3 | I44: F3

Sheet Lotto 1
Q1: torna al SOMMARIO
A4: Energia elettrica 19
A5: Convenzione per la fornitura di energia elettrica a prezzo fisso o a prezzo variabile e servizi connessi per tutte le Pubbliche Amministrazioni
A7: Configuratore corrispettivi a Prezzo Variabile per la fornitura di Energia Elettrica edizione 19
A9: =+SOMMARIO!A10 -> Lotto 1: Valle d’Aosta, Piemonte
A11: Sconto PA Virtuose S | C11: 0,01 Euro/MWh
A12: Opzione Verde | C12: 0,65 Euro/MWh
A15: Forniture a Prezzo variabile a 12 e 24 mesi
B16: Fascia oraria | C16: ΨVAR | E16: 44531 | F16: 44562 | G16: 44593 | H16: 44621 | I16: 44652 | J16: 44682 | K16: 44713 | L16: 44743 | M16: 44774 | N16: 44805 | O16: 44835 | P16: 44866 | Q16: 44896 | S16: =_xlfn.IFNA($C$17+VLOOKUP(S$14,'PUNIndex e PUN per fascia'!$I:$M,2,FALSE),"") -> #NAME? | T16: =_xlfn.IFNA($C$17+VLOOKUP(T$14,'PUNIndex e PUN per fascia'!$I:$M,2,FALSE),"") -> #NAME? | U16: =_xlfn.IFNA($C$17+VLOOKUP(U$14,'PUNIndex e PUN per fascia'!$I:$M,2,FALSE),"") -> #NAME? | V16: =_xlfn.IFNA($C$17+VLOOKUP(V$14,'PUNIndex e PUN per fascia'!$I:$M,2,FALSE),"") -> #NAME? | W16: =_xlfn.IFNA($C$17+VLOOKUP(W$14,'PUNIndex e PUN per fascia'!$I:$M,2,FALSE),"") -> #NAME? | X16: =_xlfn.IFNA($C$17+VLOOKUP(X$14,'PUNIndex e PUN per fascia'!$I:$M,2,FALSE),"") -> #NAME? | Y16: =_xlfn.IFNA($C$17+VLOOKUP(Y$14,'PUNIndex e PUN per fascia'!$I:$M,2,FALSE),"") -> #NAME? | Z16: =_xlfn.IFNA($C$17+VLOOKUP(Z$14,'PUNIndex e PUN per fascia'!$I:$M,2,FALSE),"") -> #NAME?
B17: F0 | C17: 1.8 | E17: non attivo | F17: =_xlfn.IFNA($C$17+VLOOKUP(F$16,'PUNIndex e PUN per fascia'!$I:$M,2,FALSE),"") -> #NAME? | G17: =_xlfn.IFNA($C$17+VLOOKUP(G$16,'PUNIndex e PUN per fascia'!$I:$M,2,FALSE),"") -> #NAME? | H17: =_xlfn.IFNA($C$17+VLOOKUP(H$16,'PUNIndex e PUN per fascia'!$I:$M,2,FALSE),"") -> #NAME? | I17: =_xlfn.IFNA($C$17+VLOOKUP(I$16,'PUNIndex e PUN per fascia'!$I:$M,2,FALSE),"") -> #NAME? | J17: =_xlfn.IFNA($C$17+VLOOKUP(J$16,'PUNIndex e PUN per fascia'!$I:$M,2,FALSE),"") -> #NAME? | K17: =_xlfn.IFNA($C$17+VLOOKUP(K$16,'PUNIndex e PUN per fascia'!$I:$M,2,FALSE),"") -> #NAME? | L17: =_xlfn.IFNA($C$17+VLOOKUP(L$16,'PUNIndex e PUN per fascia'!$I:$M,2,FALSE),"") -> #NAME? | M17: =_xlfn.IFNA($C$17+VLOOKUP(M$16,'PUNIndex e PUN per fascia'!$I:$M,2,FALSE),"") -> #NAME? | ... Q17: =_xlfn.IFNA($C$17+VLOOKUP(Q$16,'PUNIndex e PUN per fascia'!$I:$M,2,FALSE),"") -> #NAME? | R17: =_xlfn.IFNA($C$17+VLOOKUP(R$14,'PUNIndex e PUN per fascia'!$I:$M,2,FALSE),"") -> #NAME? | S17: =_xlfn.IFNA($C$18+VLOOKUP(S$14,'PUNIndex e PUN per fascia'!$I:$M,3,FALSE),"") -> #NAME? | T17: =_xlfn.IFNA($C$18+VLOOKUP(T$14,'PUNIndex e PUN per fascia'!$I:$M,3,FALSE),"") -> #NAME? | U17: =_xlfn.IFNA($C$18+VLOOKUP(U$14,'PUNIndex e PUN per fascia'!$I:$M,3,FALSE),"") -> #NAME? | V17: =_xlfn.IFNA($C$18+VLOOKUP(V$14,'PUNIndex e PUN per fascia'!$I:$M,3,FALSE),"") -> #NAME? | W17: =_xlfn.IFNA($C$18+VLOOKUP(W$14,'PUNIndex e PUN per fascia'!$I:$M,3,FALSE),"") -> #NAME? | X17: =_xlfn.IFNA($C$18+VLOOKUP(X$14,'PUNIndex e PUN per fascia'!$I:$M,3,FALSE),"") -> #NAME? | Y17: =_xlfn.IFNA($C$18+VLOOKUP(Y$14,'PUNIndex e PUN per fascia'!$I:$M,3,FALSE),"") -> #NAME? | Z17: =_xlfn.IFNA($C$18+VLOOKUP(Z$14,'PUNIndex e PUN per fascia'!$I:$M,3,FALSE),"") -> #NAME?
B18: F1 | C18: 1.8 | E18: non attivo | F18: =_xlfn.IFNA($C$18+VLOOKUP(F$16,'PUNIndex e PUN per fascia'!$I:$M,3,FALSE),"") -> #NAME? | G18: =_xlfn.IFNA($C$18+VLOOKUP(G$16,'PUNIndex e PUN per fascia'!$I:$M,3,FALSE),"") -> #NAME? | H18: =_xlfn.IFNA($C$18+VLOOKUP(H$16,'PUNIndex e PUN per fascia'!$I:$M,3,FALSE),"") -> #NAME? | I18: =_xlfn.IFNA($C$18+VLOOKUP(I$16,'PUNIndex e PUN per fascia'!$I:$M,3,FALSE),"") -> #NAME? | J18: =_xlfn.IFNA($C$18+VLOOKUP(J$16,'PUNIndex e PUN per fascia'!$I:$M,3,FALSE),"") -> #NAME? | K18: =_xlfn.IFNA($C$18+VLOOKUP(K$16,'PUNIndex e PUN per fascia'!$I:$M,3,FALSE),"") -> #NAME? | L18: =_xlfn.IFNA($C$18+VLOOKUP(L$16,'PUNIndex e PUN per fascia'!$I:$M,3,FALSE),"") -> #NAME? | M18: =_xlfn.IFNA($C$18+VLOOKUP(M$16,'PUNIndex e PUN per fascia'!$I:$M,3,FALSE),"") -> #NAME? | ... Q18: =_xlfn.IFNA($C$18+VLOOKUP(Q$16,'PUNIndex e PUN per fascia'!$I:$M,3,FALSE),"") -> #NAME? | R18: =_xlfn.IFNA($C$18+VLOOKUP(R$14,'PUNIndex e PUN per fascia'!$I:$M,3,FALSE),"") -> #NAME? | S18: =_xlfn.IFNA($C$19+VLOOKUP(S$14,'PUNIndex e PUN per fascia'!$I:$M,4,FALSE),"") -> #NAME? | T18: =_xlfn.IFNA($C$19+VLOOKUP(T$14,'PUNIndex e PUN per fascia'!$I:$M,4,FALSE),"") -> #NAME? | U18: =_xlfn.IFNA($C$19+VLOOKUP(U$14,'PUNIndex e PUN per fascia'!$I:$M,4,FALSE),"") -> #NAME? | V18: =_xlfn.IFNA($C$19+VLOOKUP(V$14,'PUNIndex e PUN per fascia'!$I:$M,4,FALSE),"") -> #NAME? | W18: =_xlfn.IFNA($C$19+VLOOKUP(W$14,'PUNIndex e PUN per fascia'!$I:$M,4,FALSE),"") -> #NAME? | X18: =_xlfn.IFNA($C$19+VLOOKUP(X$14,'PUNIndex e PUN per fascia'!$I:$M,4,FALSE),"") -> #NAME? | Y18: =_xlfn.IFNA($C$19+VLOOKUP(Y$14,'PUNIndex e PUN per fascia'!$I:$M,4,FALSE),"") -> #NAME? | Z18: =_xlfn.IFNA($C$19+VLOOKUP(Z$14,'PUNIndex e PUN per fascia'!$I:$M,4,FALSE),"") -> #NAME?
B19: F2 | C19: 1.8 | E19: non attivo | F19: =_xlfn.IFNA($C$19+VLOOKUP(F$16,'PUNIndex e PUN per fascia'!$I:$M,4,FALSE),"") -> #NAME? | G19: =_xlfn.IFNA($C$19+VLOOKUP(G$16,'PUNIndex e PUN per fascia'!$I:$M,4,FALSE),"") -> #NAME? | H19: =_xlfn.IFNA($C$19+VLOOKUP(H$16,'PUNIndex e PUN per fascia'!$I:$M,4,FALSE),"") -> #NAME? | I19: =_xlfn.IFNA($C$19+VLOOKUP(I$16,'PUNIndex e PUN per fascia'!$I:$M,4,FALSE),"") -> #NAME? | J19: =_xlfn.IFNA($C$19+VLOOKUP(J$16,'PUNIndex e PUN per fascia'!$I:$M,4,FALSE),"") -> #NAME? | K19: =_xlfn.IFNA($C$19+VLOOKUP(K$16,'PUNIndex e PUN per fascia'!$I:$M,4,FALSE),"") -> #NAME? | L19: =_xlfn.IFNA($C$19+VLOOKUP(L$16,'PUNIndex e PUN per fascia'!$I:$M,4,FALSE),"") -> #NAME? | M19: =_xlfn.IFNA($C$19+VLOOKUP(M$16,'PUNIndex e PUN per fascia'!$I:$M,4,FALSE),"") -> #NAME? | ... Q19: =_xlfn.IFNA($C$19+VLOOKUP(Q$16,'PUNIndex e PUN per fascia'!$I:$M,4,FALSE),"") -> #NAME? | R19: =_xlfn.IFNA($C$19+VLOOKUP(R$14,'PUNIndex e PUN per fascia'!$I:$M,4,FALSE),"") -> #NAME? | S19: =_xlfn.IFNA($C$20+VLOOKUP(S$14,'PUNIndex e PUN per fascia'!$I:$M,5,FALSE),"") -> #NAME? | T19: =_xlfn.IFNA($C$20+VLOOKUP(T$14,'PUNIndex e PUN per fascia'!$I:$M,5,FALSE),"") -> #NAME? | U19: =_xlfn.IFNA($C$20+VLOOKUP(U$14,'PUNIndex e PUN per fascia'!$I:$M,5,FALSE),"") -> #NAME? | V19: =_xlfn.IFNA($C$20+VLOOKUP(V$14,'PUNIndex e PUN per fascia'!$I:$M,5,FALSE),"") -> #NAME? | W19: =_xlfn.IFNA($C$20+VLOOKUP(W$14,'PUNIndex e PUN per fascia'!$I:$M,5,FALSE),"") -> #NAME? | X19: =_xlfn.IFNA($C$20+VLOOKUP(X$14,'PUNIndex e PUN per fascia'!$I:$M,5,FALSE),"") -> #NAME? | Y19: =_xlfn.IFNA($C$20+VLOOKUP(Y$14,'PUNIndex e PUN per fascia'!$I:$M,5,FALSE),"") -> #NAME? | Z19: =_xlfn.IFNA($C$20+VLOOKUP(Z$14,'PUNIndex e PUN per fascia'!$I:$M,5,FALSE),"") -> #NAME?
B20: F3 | C20: 1.8 | E20: non attivo | F20: =_xlfn.IFNA($C$20+VLOOKUP(F$16,'PUNIndex e PUN per fascia'!$I:$M,5,FALSE),"") -> #NAME? | G20: =_xlfn.IFNA($C$20+VLOOKUP(G$16,'PUNIndex e PUN per fascia'!$I:$M,5,FALSE),"") -> #NAME? | H20: =_xlfn.IFNA($C$20+VLOOKUP(H$16,'PUNIndex e PUN per fascia'!$I:$M,5,FALSE),"") -> #NAME? | I20: =_xlfn.IFNA($C$20+VLOOKUP(I$16,'PUNIndex e PUN per fascia'!$I:$M,5,FALSE),"") -> #NAME? | J20: =_xlfn.IFNA($C$20+VLOOKUP(J$16,'PUNIndex e PUN per fascia'!$I:$M,5,FALSE),"") -> #NAME? | K20: =_xlfn.IFNA($C$20+VLOOKUP(K$16,'PUNIndex e PUN per fascia'!$I:$M,5,FALSE),"") -> #NAME? | L20: =_xlfn.IFNA($C$20+VLOOKUP(L$16,'PUNIndex e PUN per fascia'!$I:$M,5,FALSE),"") -> #NAME? | M20: =_xlfn.IFNA($C$20+VLOOKUP(M$16,'PUNIndex e PUN per fascia'!$I:$M,5,FALSE),"") -> #NAME? | ... Q20: =_xlfn.IFNA($C$20+VLOOKUP(Q$16,'PUNIndex e PUN per fascia'!$I:$M,5,FALSE),"") -> #NAME? | R20: =_xlfn.IFNA($C$20+VLOOKUP(R$14,'PUNIndex e PUN per fascia'!$I:$M,5,FALSE),"") -> #NAME?
A21: =+A9& "- Prezzi variabili al netto delle perdite di rete (Euro/MWh)" -> Lotto 1: Valle d’Aosta, Piemonte - Prezzi variabili al netto delle perdite di rete (Euro/MWh)

Sheet Lotto 2
Q1: torna al SOMMARIO
A4: Energia elettrica 19
A5: Convenzione per la fornitura di energia elettrica a prezzo fisso o a prezzo variabile e servizi connessi per tutte le Pubbliche Amministrazioni
A7: Configuratore corrispettivi a Prezzo Variabile per la fornitura di Energia Elettrica edizione 19
A9: =+SOMMARIO!A11 -> Lotto 2: Province di Milano e Lodi
A11: Sconto PA Virtuose S | C11: 0,46 Euro/MWh
A12: Opzione Verde | C12: 0,8 Euro/MWh
A15: Forniture a Prezzo variabile a 12 e 24 mesi
B16: Fascia oraria | C16: ΨVAR | E16: 44531 | F16: 44562 | G16: 44593 | H16: 44621 | I16: 44652 | J16: 44682 | K16: 44713 | L16: 44743 | M16: 44774 | N16: 44805 | O16: 44835 | P16: 44866 | Q16: 44896 | S16: =_xlfn.IFNA($C$17+VLOOKUP(S$14,'PUNIndex e PUN per fascia'!$I:$M,2,FALSE),"") -> #NAME? | T16: =_xlfn.IFNA($C$17+VLOOKUP(T$14,'PUNIndex e PUN per fascia'!$I:$M,2,FALSE),"") -> #NAME? | U16: =_xlfn.IFNA($C$17+VLOOKUP(U$14,'PUNIndex e PUN per fascia'!$I:$M,2,FALSE),"") -> #NAME? | V16: =_xlfn.IFNA($C$17+VLOOKUP(V$14,'PUNIndex e PUN per fascia'!$I:$M,2,FALSE),"") -> #NAME? | W16: =_xlfn.IFNA($C$17+VLOOKUP(W$14,'PUNIndex e PUN per fascia'!$I:$M,2,FALSE),"") -> #NAME? | X16: =_xlfn.IFNA($C$17+VLOOKUP(X$14,'PUNIndex e PUN per fascia'!$I:$M,2,FALSE),"") -> #NAME? | Y16: =_xlfn.IFNA($C$17+VLOOKUP(Y$14,'PUNIndex e PUN per fascia'!$I:$M,2,FALSE),"") -> #NAME? | Z16: =_xlfn.IFNA($C$17+VLOOKUP(Z$14,'PUNIndex e PUN per fascia'!$I:$M,2,FALSE),"") -> #NAME?
B17: F0 | C17: 1.6 | E17: non attivo | F17: =_xlfn.IFNA($C$17+VLOOKUP(F$16,'PUNIndex e PUN per fascia'!$I:$M,2,FALSE),"") -> #NAME? | G17: =_xlfn.IFNA($C$17+VLOOKUP(G$16,'PUNIndex e PUN per fascia'!$I:$M,2,FALSE),"") -> #NAME? | H17: =_xlfn.IFNA($C$17+VLOOKUP(H$16,'PUNIndex e PUN per fascia'!$I:$M,2,FALSE),"") -> #NAME? | I17: =_xlfn.IFNA($C$17+VLOOKUP(I$16,'PUNIndex e PUN per fascia'!$I:$M,2,FALSE),"") -> #NAME? | J17: =_xlfn.IFNA($C$17+VLOOKUP(J$16,'PUNIndex e PUN per fascia'!$I:$M,2,FALSE),"") -> #NAME? | K17: =_xlfn.IFNA($C$17+VLOOKUP(K$16,'PUNIndex e PUN per fascia'!$I:$M,2,FALSE),"") -> #NAME? | L17: =_xlfn.IFNA($C$17+VLOOKUP(L$16,'PUNIndex e PUN per fascia'!$I:$M,2,FALSE),"") -> #NAME? | M17: =_xlfn.IFNA($C$17+VLOOKUP(M$16,'PUNIndex e PUN per fascia'!$I:$M,2,FALSE),"") -> #NAME? | ... Q17: =_xlfn.IFNA($C$17+VLOOKUP(Q$16,'PUNIndex e PUN per fascia'!$I:$M,2,FALSE),"") -> #NAME? | R17: =_xlfn.IFNA($C$17+VLOOKUP(R$14,'PUNIndex e PUN per fascia'!$I:$M,2,FALSE),"") -> #NAME? | S17: =_xlfn.IFNA($C$18+VLOOKUP(S$14,'PUNIndex e PUN per fascia'!$I:$M,3,FALSE),"") -> #NAME? | T17: =_xlfn.IFNA($C$18+VLOOKUP(T$14,'PUNIndex e PUN per fascia'!$I:$M,3,FALSE),"") -> #NAME? | U17: =_xlfn.IFNA($C$18+VLOOKUP(U$14,'PUNIndex e PUN per fascia'!$I:$M,3,FALSE),"") -> #NAME? | V17: =_xlfn.IFNA($C$18+VLOOKUP(V$14,'PUNIndex e PUN per fascia'!$I:$M,3,FALSE),"") -> #NAME? | W17: =_xlfn.IFNA($C$18+VLOOKUP(W$14,'PUNIndex e PUN per fascia'!$I:$M,3,FALSE),"") -> #NAME? | X17: =_xlfn.IFNA($C$18+VLOOKUP(X$14,'PUNIndex e PUN per fascia'!$I:$M,3,FALSE),"") -> #NAME? | Y17: =_xlfn.IFNA($C$18+VLOOKUP(Y$14,'PUNIndex e PUN per fascia'!$I:$M,3,FALSE),"") -> #NAME? | Z17: =_xlfn.IFNA($C$18+VLOOKUP(Z$14,'PUNIndex e PUN per fascia'!$I:$M,3,FALSE),"") -> #NAME?
B18: F1 | C18: 1.6 | E18: non attivo | F18: =_xlfn.IFNA($C$18+VLOOKUP(F$16,'PUNIndex e PUN per fascia'!$I:$M,3,FALSE),"") -> #NAME? | G18: =_xlfn.IFNA($C$18+VLOOKUP(G$16,'PUNIndex e PUN per fascia'!$I:$M,3,FALSE),"") -> #NAME? | H18: =_xlfn.IFNA($C$18+VLOOKUP(H$16,'PUNIndex e PUN per fascia'!$I:$M,3,FALSE),"") -> #NAME? | I18: =_xlfn.IFNA($C$18+VLOOKUP(I$16,'PUNIndex e PUN per fascia'!$I:$M,3,FALSE),"") -> #NAME? | J18: =_xlfn.IFNA($C$18+VLOOKUP(J$16,'PUNIndex e PUN per fascia'!$I:$M,3,FALSE),"") -> #NAME? | K18: =_xlfn.IFNA($C$18+VLOOKUP(K$16,'PUNIndex e PUN per fascia'!$I:$M,3,FALSE),"") -> #NAME? | L18: =_xlfn.IFNA($C$18+VLOOKUP(L$16,'PUNIndex e PUN per fascia'!$I:$M,3,FALSE),"") -> #NAME? | M18: =_xlfn.IFNA($C$18+VLOOKUP(M$16,'PUNIndex e PUN per fascia'!$I:$M,3,FALSE),"") -> #NAME? | ... Q18: =_xlfn.IFNA($C$18+VLOOKUP(Q$16,'PUNIndex e PUN per fascia'!$I:$M,3,FALSE),"") -> #NAME? | R18: =_xlfn.IFNA($C$18+VLOOKUP(R$14,'PUNIndex e PUN per fascia'!$I:$M,3,FALSE),"") -> #NAME? | S18: =_xlfn.IFNA($C$19+VLOOKUP(S$14,'PUNIndex e PUN per fascia'!$I:$M,4,FALSE),"") -> #NAME? | T18: =_xlfn.IFNA($C$19+VLOOKUP(T$14,'PUNIndex e PUN per fascia'!$I:$M,4,FALSE),"") -> #NAME? | U18: =_xlfn.IFNA($C$19+VLOOKUP(U$14,'PUNIndex e PUN per fascia'!$I:$M,4,FALSE),"") -> #NAME? | V18: =_xlfn.IFNA($C$19+VLOOKUP(V$14,'PUNIndex e PUN per fascia'!$I:$M,4,FALSE),"") -> #NAME? | W18: =_xlfn.IFNA($C$19+VLOOKUP(W$14,'PUNIndex e PUN per fascia'!$I:$M,4,FALSE),"") -> #NAME? | X18: =_xlfn.IFNA($C$19+VLOOKUP(X$14,'PUNIndex e PUN per fascia'!$I:$M,4,FALSE),"") -> #NAME? | Y18: =_xlfn.IFNA($C$19+VLOOKUP(Y$14,'PUNIndex e PUN per fascia'!$I:$M,4,FALSE),"") -> #NAME? | Z18: =_xlfn.IFNA($C$19+VLOOKUP(Z$14,'PUNIndex e PUN per fascia'!$I:$M,4,FALSE),"") -> #NAME?
B19: F2 | C19: 1.6 | E19: non attivo | F19: =_xlfn.IFNA($C$19+VLOOKUP(F$16,'PUNIndex e PUN per fascia'!$I:$M,4,FALSE),"") -> #NAME? | G19: =_xlfn.IFNA($C$19+VLOOKUP(G$16,'PUNIndex e PUN per fascia'!$I:$M,4,FALSE),"") -> #NAME? | H19: =_xlfn.IFNA($C$19+VLOOKUP(H$16,'PUNIndex e PUN per fascia'!$I:$M,4,FALSE),"") -> #NAME? | I19: =_xlfn.IFNA($C$19+VLOOKUP(I$16,'PUNIndex e PUN per fascia'!$I:$M,4,FALSE),"") -> #NAME? | J19: =_xlfn.IFNA($C$19+VLOOKUP(J$16,'PUNIndex e PUN per fascia'!$I:$M,4,FALSE),"") -> #NAME? | K19: =_xlfn.IFNA($C$19+VLOOKUP(K$16,'PUNIndex e PUN per fascia'!$I:$M,4,FALSE),"") -> #NAME? | L19: =_xlfn.IFNA($C$19+VLOOKUP(L$16,'PUNIndex e PUN per fascia'!$I:$M,4,FALSE),"") -> #NAME? | M19: =_xlfn.IFNA($C$19+VLOOKUP(M$16,'PUNIndex e PUN per fascia'!$I:$M,4,FALSE),"") -> #NAME? | ... Q19: =_xlfn.IFNA($C$19+VLOOKUP(Q$16,'PUNIndex e PUN per fascia'!$I:$M,4,FALSE),"") -> #NAME? | R19: =_xlfn.IFNA($C$19+VLOOKUP(R$14,'PUNIndex e PUN per fascia'!$I:$M,4,FALSE),"") -> #NAME? | S19: =_xlfn.IFNA($C$20+VLOOKUP(S$14,'PUNIndex e PUN per fascia'!$I:$M,5,FALSE),"") -> #NAME? | T19: =_xlfn.IFNA($C$20+VLOOKUP(T$14,'PUNIndex e PUN per fascia'!$I:$M,5,FALSE),"") -> #NAME? | U19: =_xlfn.IFNA($C$20+VLOOKUP(U$14,'PUNIndex e PUN per fascia'!$I:$M,5,FALSE),"") -> #NAME? | V19: =_xlfn.IFNA($C$20+VLOOKUP(V$14,'PUNIndex e PUN per fascia'!$I:$M,5,FALSE),"") -> #NAME? | W19: =_xlfn.IFNA($C$20+VLOOKUP(W$14,'PUNIndex e PUN per fascia'!$I:$M,5,FALSE),"") -> #NAME? | X19: =_xlfn.IFNA($C$20+VLOOKUP(X$14,'PUNIndex e PUN per fascia'!$I:$M,5,FALSE),"") -> #NAME? | Y19: =_xlfn.IFNA($C$20+VLOOKUP(Y$14,'PUNIndex e PUN per fascia'!$I:$M,5,FALSE),"") -> #NAME? | Z19: =_xlfn.IFNA($C$20+VLOOKUP(Z$14,'PUNIndex e PUN per fascia'!$I:$M,5,FALSE),"") -> #NAME?
B20: F3 | C20: 1.6 | E20: non attivo | F20: =_xlfn.IFNA($C$20+VLOOKUP(F$16,'PUNIndex e PUN per fascia'!$I:$M,5,FALSE),"") -> #NAME? | G20: =_xlfn.IFNA($C$20+VLOOKUP(G$16,'PUNIndex e PUN per fascia'!$I:$M,5,FALSE),"") -> #NAME? | H20: =_xlfn.IFNA($C$20+VLOOKUP(H$16,'PUNIndex e PUN per fascia'!$I:$M,5,FALSE),"") -> #NAME? | I20: =_xlfn.IFNA($C$20+VLOOKUP(I$16,'PUNIndex e PUN per fascia'!$I:$M,5,FALSE),"") -> #NAME? | J20: =_xlfn.IFNA($C$20+VLOOKUP(J$16,'PUNIndex e PUN per fascia'!$I:$M,5,FALSE),"") -> #NAME? | K20: =_xlfn.IFNA($C$20+VLOOKUP(K$16,'PUNIndex e PUN per fascia'!$I:$M,5,FALSE),"") -> #NAME? | L20: =_xlfn.IFNA($C$20+VLOOKUP(L$16,'PUNIndex e PUN per fascia'!$I:$M,5,FALSE),"") -> #NAME? | M20: =_xlfn.IFNA($C$20+VLOOKUP(M$16,'PUNIndex e PUN per fascia'!$I:$M,5,FALSE),"") -> #NAME? | ... Q20: =_xlfn.IFNA($C$20+VLOOKUP(Q$16,'PUNIndex e PUN per fascia'!$I:$M,5,FALSE),"") -> #NAME? | R20: =_xlfn.IFNA($C$20+VLOOKUP(R$14,'PUNIndex e PUN per fascia'!$I:$M,5,FALSE),"") -> #NAME?
A21: =+A9& "- Prezzi variabili al netto delle perdite di rete (Euro/MWh)" -> Lotto 2: Province di Milano e Lodi - Prezzi variabili al netto delle perdite di rete (Euro/MWh)

Sheet Lotto 3
Q1: torna al SOMMARIO
A4: Energia elettrica 19
A5: Convenzione per la fornitura di energia elettrica a prezzo fisso o a prezzo variabile e servizi connessi per tutte le Pubbliche Amministrazioni
A7: Configuratore corrispettivi a Prezzo Variabile per la fornitura di Energia Elettrica edizione 19
A9: =+SOMMARIO!A12 -> Lotto 3: Lombardia escluse le Province di Milano e Lodi
A11: Sconto PA Virtuose S | C11: 0,5 Euro/MWh
A12: Opzione Verde | C12: 0,8 Euro/MWh
A15: Forniture a Prezzo variabile a 12 e 24 mesi
B16: Fascia oraria | C16: ΨVAR | E16: 44531 | F16: 44562 | G16: 44593 | H16: 44621 | I16: 44652 | J16: 44682 | K16: 44713 | L16: 44743 | M16: 44774 | N16: 44805 | O16: 44835 | P16: 44866 | Q16: 44896 | S16: =_xlfn.IFNA($C$17+VLOOKUP(S$14,'PUNIndex e PUN per fascia'!$I:$M,2,FALSE),"") -> #NAME? | T16: =_xlfn.IFNA($C$17+VLOOKUP(T$14,'PUNIndex e PUN per fascia'!$I:$M,2,FALSE),"") -> #NAME? | U16: =_xlfn.IFNA($C$17+VLOOKUP(U$14,'PUNIndex e PUN per fascia'!$I:$M,2,FALSE),"") -> #NAME? | V16: =_xlfn.IFNA($C$17+VLOOKUP(V$14,'PUNIndex e PUN per fascia'!$I:$M,2,FALSE),"") -> #NAME? | W16: =_xlfn.IFNA($C$17+VLOOKUP(W$14,'PUNIndex e PUN per fascia'!$I:$M,2,FALSE),"") -> #NAME? | X16: =_xlfn.IFNA($C$17+VLOOKUP(X$14,'PUNIndex e PUN per fascia'!$I:$M,2,FALSE),"") -> #NAME? | Y16: =_xlfn.IFNA($C$17+VLOOKUP(Y$14,'PUNIndex e PUN per fascia'!$I:$M,2,FALSE),"") -> #NAME? | Z16: =_xlfn.IFNA($C$17+VLOOKUP(Z$14,'PUNIndex e PUN per fascia'!$I:$M,2,FALSE),"") -> #NAME?
B17: F0 | C17: 1.46 | E17: non attivo | F17: =_xlfn.IFNA($C$17+VLOOKUP(F$16,'PUNIndex e PUN per fascia'!$I:$M,2,FALSE),"") -> #NAME? | G17: =_xlfn.IFNA($C$17+VLOOKUP(G$16,'PUNIndex e PUN per fascia'!$I:$M,2,FALSE),"") -> #NAME? | H17: =_xlfn.IFNA($C$17+VLOOKUP(H$16,'PUNIndex e PUN per fascia'!$I:$M,2,FALSE),"") -> #NAME? | I17: =_xlfn.IFNA($C$17+VLOOKUP(I$16,'PUNIndex e PUN per fascia'!$I:$M,2,FALSE),"") -> #NAME? | J17: =_xlfn.IFNA($C$17+VLOOKUP(J$16,'PUNIndex e PUN per fascia'!$I:$M,2,FALSE),"") -> #NAME? | K17: =_xlfn.IFNA($C$17+VLOOKUP(K$16,'PUNIndex e PUN per fascia'!$I:$M,2,FALSE),"") -> #NAME? | L17: =_xlfn.IFNA($C$17+VLOOKUP(L$16,'PUNIndex e PUN per fascia'!$I:$M,2,FALSE),"") -> #NAME? | M17: =_xlfn.IFNA($C$17+VLOOKUP(M$16,'PUNIndex e PUN per fascia'!$I:$M,2,FALSE),"") -> #NAME? | ... Q17: =_xlfn.IFNA($C$17+VLOOKUP(Q$16,'PUNIndex e PUN per fascia'!$I:$M,2,FALSE),"") -> #NAME? | R17: =_xlfn.IFNA($C$17+VLOOKUP(R$14,'PUNIndex e PUN per fascia'!$I:$M,2,FALSE),"") -> #NAME? | S17: =_xlfn.IFNA($C$18+VLOOKUP(S$14,'PUNIndex e PUN per fascia'!$I:$M,3,FALSE),"") -> #NAME? | T17: =_xlfn.IFNA($C$18+VLOOKUP(T$14,'PUNIndex e PUN per fascia'!$I:$M,3,FALSE),"") -> #NAME? | U17: =_xlfn.IFNA($C$18+VLOOKUP(U$14,'PUNIndex e PUN per fascia'!$I:$M,3,FALSE),"") -> #NAME? | V17: =_xlfn.IFNA($C$18+VLOOKUP(V$14,'PUNIndex e PUN per fascia'!$I:$M,3,FALSE),"") -> #NAME? | W17: =_xlfn.IFNA($C$18+VLOOKUP(W$14,'PUNIndex e PUN per fascia'!$I:$M,3,FALSE),"") -> #NAME? | X17: =_xlfn.IFNA($C$18+VLOOKUP(X$14,'PUNIndex e PUN per fascia'!$I:$M,3,FALSE),"") -> #NAME? | Y17: =_xlfn.IFNA($C$18+VLOOKUP(Y$14,'PUNIndex e PUN per fascia'!$I:$M,3,FALSE),"") -> #NAME? | Z17: =_xlfn.IFNA($C$18+VLOOKUP(Z$14,'PUNIndex e PUN per fascia'!$I:$M,3,FALSE),"") -> #NAME?
B18: F1 | C18: 1.46 | E18: non attivo | F18: =_xlfn.IFNA($C$18+VLOOKUP(F$16,'PUNIndex e PUN per fascia'!$I:$M,3,FALSE),"") -> #NAME? | G18: =_xlfn.IFNA($C$18+VLOOKUP(G$16,'PUNIndex e PUN per fascia'!$I:$M,3,FALSE),"") -> #NAME? | H18: =_xlfn.IFNA($C$18+VLOOKUP(H$16,'PUNIndex e PUN per fascia'!$I:$M,3,FALSE),"") -> #NAME? | I18: =_xlfn.IFNA($C$18+VLOOKUP(I$16,'PUNIndex e PUN per fascia'!$I:$M,3,FALSE),"") -> #NAME? | J18: =_xlfn.IFNA($C$18+VLOOKUP(J$16,'PUNIndex e PUN per fascia'!$I:$M,3,FALSE),"") -> #NAME? | K18: =_xlfn.IFNA($C$18+VLOOKUP(K$16,'PUNIndex e PUN per fascia'!$I:$M,3,FALSE),"") -> #NAME? | L18: =_xlfn.IFNA($C$18+VLOOKUP(L$16,'PUNIndex e PUN per fascia'!$I:$M,3,FALSE),"") -> #NAME? | M18: =_xlfn.IFNA($C$18+VLOOKUP(M$16,'PUNIndex e PUN per fascia'!$I:$M,3,FALSE),"") -> #NAME? | ... Q18: =_xlfn.IFNA($C$18+VLOOKUP(Q$16,'PUNIndex e PUN per fascia'!$I:$M,3,FALSE),"") -> #NAME? | R18: =_xlfn.IFNA($C$18+VLOOKUP(R$14,'PUNIndex e PUN per fascia'!$I:$M,3,FALSE),"") -> #NAME? | S18: =_xlfn.IFNA($C$19+VLOOKUP(S$14,'PUNIndex e PUN per fascia'!$I:$M,4,FALSE),"") -> #NAME? | T18: =_xlfn.IFNA($C$19+VLOOKUP(T$14,'PUNIndex e PUN per fascia'!$I:$M,4,FALSE),"") -> #NAME? | U18: =_xlfn.IFNA($C$19+VLOOKUP(U$14,'PUNIndex e PUN per fascia'!$I:$M,4,FALSE),"") -> #NAME? | V18: =_xlfn.IFNA($C$19+VLOOKUP(V$14,'PUNIndex e PUN per fascia'!$I:$M,4,FALSE),"") -> #NAME? | W18: =_xlfn.IFNA($C$19+VLOOKUP(W$14,'PUNIndex e PUN per fascia'!$I:$M,4,FALSE),"") -> #NAME? | X18: =_xlfn.IFNA($C$19+VLOOKUP(X$14,'PUNIndex e PUN per fascia'!$I:$M,4,FALSE),"") -> #NAME? | Y18: =_xlfn.IFNA($C$19+VLOOKUP(Y$14,'PUNIndex e PUN per fascia'!$I:$M,4,FALSE),"") -> #NAME? | Z18: =_xlfn.IFNA($C$19+VLOOKUP(Z$14,'PUNIndex e PUN per fascia'!$I:$M,4,FALSE),"") -> #NAME?
B19: F2 | C19: 1.46 | E19: non attivo | F19: =_xlfn.IFNA($C$19+VLOOKUP(F$16,'PUNIndex e PUN per fascia'!$I:$M,4,FALSE),"") -> #NAME? | G19: =_xlfn.IFNA($C$19+VLOOKUP(G$16,'PUNIndex e PUN per fascia'!$I:$M,4,FALSE),"") -> #NAME? | H19: =_xlfn.IFNA($C$19+VLOOKUP(H$16,'PUNIndex e PUN per fascia'!$I:$M,4,FALSE),"") -> #NAME? | I19: =_xlfn.IFNA($C$19+VLOOKUP(I$16,'PUNIndex e PUN per fascia'!$I:$M,4,FALSE),"") -> #NAME? | J19: =_xlfn.IFNA($C$19+VLOOKUP(J$16,'PUNIndex e PUN per fascia'!$I:$M,4,FALSE),"") -> #NAME? | K19: =_xlfn.IFNA($C$19+VLOOKUP(K$16,'PUNIndex e PUN per fascia'!$I:$M,4,FALSE),"") -> #NAME? | L19: =_xlfn.IFNA($C$19+VLOOKUP(L$16,'PUNIndex e PUN per fascia'!$I:$M,4,FALSE),"") -> #NAME? | M19: =_xlfn.IFNA($C$19+VLOOKUP(M$16,'PUNIndex e PUN per fascia'!$I:$M,4,FALSE),"") -> #NAME? | ... Q19: =_xlfn.IFNA($C$19+VLOOKUP(Q$16,'PUNIndex e PUN per fascia'!$I:$M,4,FALSE),"") -> #NAME? | R19: =_xlfn.IFNA($C$19+VLOOKUP(R$14,'PUNIndex e PUN per fascia'!$I:$M,4,FALSE),"") -> #NAME? | S19: =_xlfn.IFNA($C$20+VLOOKUP(S$14,'PUNIndex e PUN per fascia'!$I:$M,5,FALSE),"") -> #NAME? | T19: =_xlfn.IFNA($C$20+VLOOKUP(T$14,'PUNIndex e PUN per fascia'!$I:$M,5,FALSE),"") -> #NAME? | U19: =_xlfn.IFNA($C$20+VLOOKUP(U$14,'PUNIndex e PUN per fascia'!$I:$M,5,FALSE),"") -> #NAME? | V19: =_xlfn.IFNA($C$20+VLOOKUP(V$14,'PUNIndex e PUN per fascia'!$I:$M,5,FALSE),"") -> #NAME? | W19: =_xlfn.IFNA($C$20+VLOOKUP(W$14,'PUNIndex e PUN per fascia'!$I:$M,5,FALSE),"") -> #NAME? | X19: =_xlfn.IFNA($C$20+VLOOKUP(X$14,'PUNIndex e PUN per fascia'!$I:$M,5,FALSE),"") -> #NAME? | Y19: =_xlfn.IFNA($C$20+VLOOKUP(Y$14,'PUNIndex e PUN per fascia'!$I:$M,5,FALSE),"") -> #NAME? | Z19: =_xlfn.IFNA($C$20+VLOOKUP(Z$14,'PUNIndex e PUN per fascia'!$I:$M,5,FALSE),"") -> #NAME?
B20: F3 | C20: 1.46 | E20: non attivo | F20: =_xlfn.IFNA($C$20+VLOOKUP(F$16,'PUNIndex e PUN per fascia'!$I:$M,5,FALSE),"") -> #NAME? | G20: =_xlfn.IFNA($C$20+VLOOKUP(G$16,'PUNIndex e PUN per fascia'!$I:$M,5,FALSE),"") -> #NAME? | H20: =_xlfn.IFNA($C$20+VLOOKUP(H$16,'PUNIndex e PUN per fascia'!$I:$M,5,FALSE),"") -> #NAME? | I20: =_xlfn.IFNA($C$20+VLOOKUP(I$16,'PUNIndex e PUN per fascia'!$I:$M,5,FALSE),"") -> #NAME? | J20: =_xlfn.IFNA($C$20+VLOOKUP(J$16,'PUNIndex e PUN per fascia'!$I:$M,5,FALSE),"") -> #NAME? | K20: =_xlfn.IFNA($C$20+VLOOKUP(K$16,'PUNIndex e PUN per fascia'!$I:$M,5,FALSE),"") -> #NAME? | L20: =_xlfn.IFNA($C$20+VLOOKUP(L$16,'PUNIndex e PUN per fascia'!$I:$M,5,FALSE),"") -> #NAME? | M20: =_xlfn.IFNA($C$20+VLOOKUP(M$16,'PUNIndex e PUN per fascia'!$I:$M,5,FALSE),"") -> #NAME? | ... Q20: =_xlfn.IFNA($C$20+VLOOKUP(Q$16,'PUNIndex e PUN per fascia'!$I:$M,5,FALSE),"") -> #NAME? | R20: =_xlfn.IFNA($C$20+VLOOKUP(R$14,'PUNIndex e PUN per fascia'!$I:$M,5,FALSE),"") -> #NAME?
A21: =+A9& "- Prezzi variabili al netto delle perdite di rete (Euro/MWh)" -> Lotto 3: Lombardia escluse le Province di Milano e Lodi - Prezzi variabili al netto delle perdite di rete (Euro/MWh)

Sheet Lotto 4
Q1: torna al SOMMARIO
A4: Energia elettrica 19
A5: Convenzione per la fornitura di energia elettrica a prezzo fisso o a prezzo variabile e servizi connessi per tutte le Pubbliche Amministrazioni
A7: Configuratore corrispettivi a Prezzo Variabile per la fornitura di Energia Elettrica edizione 19
A9: =+SOMMARIO!A13 -> Lotto 4: Trentino Alto Adige, Friuli Venezia Giulia
A11: Sconto PA Virtuose S | C11: 0,1 Euro/MWh
A12: Opzione Verde | C12: 0,9 Euro/MWh
A15: Forniture a Prezzo variabile a 12 e 24 mesi
B16: Fascia oraria | C16: ΨVAR | E16: 44531 | F16: 44562 | G16: 44593 | H16: 44621 | I16: 44652 | J16: 44682 | K16: 44713 | L16: 44743 | M16: 44774 | N16: 44805 | O16: 44835 | P16: 44866 | Q16: 44896 | S16: =_xlfn.IFNA($C$17+VLOOKUP(S$14,'PUNIndex e PUN per fascia'!$I:$M,2,FALSE),"") -> #NAME? | T16: =_xlfn.IFNA($C$17+VLOOKUP(T$14,'PUNIndex e PUN per fascia'!$I:$M,2,FALSE),"") -> #NAME? | U16: =_xlfn.IFNA($C$17+VLOOKUP(U$14,'PUNIndex e PUN per fascia'!$I:$M,2,FALSE),"") -> #NAME? | V16: =_xlfn.IFNA($C$17+VLOOKUP(V$14,'PUNIndex e PUN per fascia'!$I:$M,2,FALSE),"") -> #NAME? | W16: =_xlfn.IFNA($C$17+VLOOKUP(W$14,'PUNIndex e PUN per fascia'!$I:$M,2,FALSE),"") -> #NAME? | X16: =_xlfn.IFNA($C$17+VLOOKUP(X$14,'PUNIndex e PUN per fascia'!$I:$M,2,FALSE),"") -> #NAME? | Y16: =_xlfn.IFNA($C$17+VLOOKUP(Y$14,'PUNIndex e PUN per fascia'!$I:$M,2,FALSE),"") -> #NAME? | Z16: =_xlfn.IFNA($C$17+VLOOKUP(Z$14,'PUNIndex e PUN per fascia'!$I:$M,2,FALSE),"") -> #NAME?
B17: F0 | C17: 1.6 | E17: non attivo | F17: =_xlfn.IFNA($C$17+VLOOKUP(F$16,'PUNIndex e PUN per fascia'!$I:$M,2,FALSE),"") -> #NAME? | G17: =_xlfn.IFNA($C$17+VLOOKUP(G$16,'PUNIndex e PUN per fascia'!$I:$M,2,FALSE),"") -> #NAME? | H17: =_xlfn.IFNA($C$17+VLOOKUP(H$16,'PUNIndex e PUN per fascia'!$I:$M,2,FALSE),"") -> #NAME? | I17: =_xlfn.IFNA($C$17+VLOOKUP(I$16,'PUNIndex e PUN per fascia'!$I:$M,2,FALSE),"") -> #NAME? | J17: =_xlfn.IFNA($C$17+VLOOKUP(J$16,'PUNIndex e PUN per fascia'!$I:$M,2,FALSE),"") -> #NAME? | K17: =_xlfn.IFNA($C$17+VLOOKUP(K$16,'PUNIndex e PUN per fascia'!$I:$M,2,FALSE),"") -> #NAME? | L17: =_xlfn.IFNA($C$17+VLOOKUP(L$16,'PUNIndex e PUN per fascia'!$I:$M,2,FALSE),"") -> #NAME? | M17: =_xlfn.IFNA($C$17+VLOOKUP(M$16,'PUNIndex e PUN per fascia'!$I:$M,2,FALSE),"") -> #NAME? | ... Q17: =_xlfn.IFNA($C$17+VLOOKUP(Q$16,'PUNIndex e PUN per fascia'!$I:$M,2,FALSE),"") -> #NAME? | R17: =_xlfn.IFNA($C$17+VLOOKUP(R$14,'PUNIndex e PUN per fascia'!$I:$M,2,FALSE),"") -> #NAME? | S17: =_xlfn.IFNA($C$18+VLOOKUP(S$14,'PUNIndex e PUN per fascia'!$I:$M,3,FALSE),"") -> #NAME? | T17: =_xlfn.IFNA($C$18+VLOOKUP(T$14,'PUNIndex e PUN per fascia'!$I:$M,3,FALSE),"") -> #NAME? | U17: =_xlfn.IFNA($C$18+VLOOKUP(U$14,'PUNIndex e PUN per fascia'!$I:$M,3,FALSE),"") -> #NAME? | V17: =_xlfn.IFNA($C$18+VLOOKUP(V$14,'PUNIndex e PUN per fascia'!$I:$M,3,FALSE),"") -> #NAME? | W17: =_xlfn.IFNA($C$18+VLOOKUP(W$14,'PUNIndex e PUN per fascia'!$I:$M,3,FALSE),"") -> #NAME? | X17: =_xlfn.IFNA($C$18+VLOOKUP(X$14,'PUNIndex e PUN per fascia'!$I:$M,3,FALSE),"") -> #NAME? | Y17: =_xlfn.IFNA($C$18+VLOOKUP(Y$14,'PUNIndex e PUN per fascia'!$I:$M,3,FALSE),"") -> #NAME? | Z17: =_xlfn.IFNA($C$18+VLOOKUP(Z$14,'PUNIndex e PUN per fascia'!$I:$M,3,FALSE),"") -> #NAME?
B18: F1 | C18: 1.6 | E18: non attivo | F18: =_xlfn.IFNA($C$18+VLOOKUP(F$16,'PUNIndex e PUN per fascia'!$I:$M,3,FALSE),"") -> #NAME? | G18: =_xlfn.IFNA($C$18+VLOOKUP(G$16,'PUNIndex e PUN per fascia'!$I:$M,3,FALSE),"") -> #NAME? | H18: =_xlfn.IFNA($C$18+VLOOKUP(H$16,'PUNIndex e PUN per fascia'!$I:$M,3,FALSE),"") -> #NAME? | I18: =_xlfn.IFNA($C$18+VLOOKUP(I$16,'PUNIndex e PUN per fascia'!$I:$M,3,FALSE),"") -> #NAME? | J18: =_xlfn.IFNA($C$18+VLOOKUP(J$16,'PUNIndex e PUN per fascia'!$I:$M,3,FALSE),"") -> #NAME? | K18: =_xlfn.IFNA($C$18+VLOOKUP(K$16,'PUNIndex e PUN per fascia'!$I:$M,3,FALSE),"") -> #NAME? | L18: =_xlfn.IFNA($C$18+VLOOKUP(L$16,'PUNIndex e PUN per fascia'!$I:$M,3,FALSE),"") -> #NAME? | M18: =_xlfn.IFNA($C$18+VLOOKUP(M$16,'PUNIndex e PUN per fascia'!$I:$M,3,FALSE),"") -> #NAME? | ... Q18: =_xlfn.IFNA($C$18+VLOOKUP(Q$16,'PUNIndex e PUN per fascia'!$I:$M,3,FALSE),"") -> #NAME? | R18: =_xlfn.IFNA($C$18+VLOOKUP(R$14,'PUNIndex e PUN per fascia'!$I:$M,3,FALSE),"") -> #NAME? | S18: =_xlfn.IFNA($C$19+VLOOKUP(S$14,'PUNIndex e PUN per fascia'!$I:$M,4,FALSE),"") -> #NAME? | T18: =_xlfn.IFNA($C$19+VLOOKUP(T$14,'PUNIndex e PUN per fascia'!$I:$M,4,FALSE),"") -> #NAME? | U18: =_xlfn.IFNA($C$19+VLOOKUP(U$14,'PUNIndex e PUN per fascia'!$I:$M,4,FALSE),"") -> #NAME? | V18: =_xlfn.IFNA($C$19+VLOOKUP(V$14,'PUNIndex e PUN per fascia'!$I:$M,4,FALSE),"") -> #NAME? | W18: =_xlfn.IFNA($C$19+VLOOKUP(W$14,'PUNIndex e PUN per fascia'!$I:$M,4,FALSE),"") -> #NAME? | X18: =_xlfn.IFNA($C$19+VLOOKUP(X$14,'PUNIndex e PUN per fascia'!$I:$M,4,FALSE),"") -> #NAME? | Y18: =_xlfn.IFNA($C$19+VLOOKUP(Y$14,'PUNIndex e PUN per fascia'!$I:$M,4,FALSE),"") -> #NAME? | Z18: =_xlfn.IFNA($C$19+VLOOKUP(Z$14,'PUNIndex e PUN per fascia'!$I:$M,4,FALSE),"") -> #NAME?
B19: F2 | C19: 1.6 | E19: non attivo | F19: =_xlfn.IFNA($C$19+VLOOKUP(F$16,'PUNIndex e PUN per fascia'!$I:$M,4,FALSE),"") -> #NAME? | G19: =_xlfn.IFNA($C$19+VLOOKUP(G$16,'PUNIndex e PUN per fascia'!$I:$M,4,FALSE),"") -> #NAME? | H19: =_xlfn.IFNA($C$19+VLOOKUP(H$16,'PUNIndex e PUN per fascia'!$I:$M,4,FALSE),"") -> #NAME? | I19: =_xlfn.IFNA($C$19+VLOOKUP(I$16,'PUNIndex e PUN per fascia'!$I:$M,4,FALSE),"") -> #NAME? | J19: =_xlfn.IFNA($C$19+VLOOKUP(J$16,'PUNIndex e PUN per fascia'!$I:$M,4,FALSE),"") -> #NAME? | K19: =_xlfn.IFNA($C$19+VLOOKUP(K$16,'PUNIndex e PUN per fascia'!$I:$M,4,FALSE),"") -> #NAME? | L19: =_xlfn.IFNA($C$19+VLOOKUP(L$16,'PUNIndex e PUN per fascia'!$I:$M,4,FALSE),"") -> #NAME? | M19: =_xlfn.IFNA($C$19+VLOOKUP(M$16,'PUNIndex e PUN per fascia'!$I:$M,4,FALSE),"") -> #NAME? | ... Q19: =_xlfn.IFNA($C$19+VLOOKUP(Q$16,'PUNIndex e PUN per fascia'!$I:$M,4,FALSE),"") -> #NAME? | R19: =_xlfn.IFNA($C$19+VLOOKUP(R$14,'PUNIndex e PUN per fascia'!$I:$M,4,FALSE),"") -> #NAME? | S19: =_xlfn.IFNA($C$20+VLOOKUP(S$14,'PUNIndex e PUN per fascia'!$I:$M,5,FALSE),"") -> #NAME? | T19: =_xlfn.IFNA($C$20+VLOOKUP(T$14,'PUNIndex e PUN per fascia'!$I:$M,5,FALSE),"") -> #NAME? | U19: =_xlfn.IFNA($C$20+VLOOKUP(U$14,'PUNIndex e PUN per fascia'!$I:$M,5,FALSE),"") -> #NAME? | V19: =_xlfn.IFNA($C$20+VLOOKUP(V$14,'PUNIndex e PUN per fascia'!$I:$M,5,FALSE),"") -> #NAME? | W19: =_xlfn.IFNA($C$20+VLOOKUP(W$14,'PUNIndex e PUN per fascia'!$I:$M,5,FALSE),"") -> #NAME? | X19: =_xlfn.IFNA($C$20+VLOOKUP(X$14,'PUNIndex e PUN per fascia'!$I:$M,5,FALSE),"") -> #NAME? | Y19: =_xlfn.IFNA($C$20+VLOOKUP(Y$14,'PUNIndex e PUN per fascia'!$I:$M,5,FALSE),"") -> #NAME? | Z19: =_xlfn.IFNA($C$20+VLOOKUP(Z$14,'PUNIndex e PUN per fascia'!$I:$M,5,FALSE),"") -> #NAME?
B20: F3 | C20: 1.6 | E20: non attivo | F20: =_xlfn.IFNA($C$20+VLOOKUP(F$16,'PUNIndex e PUN per fascia'!$I:$M,5,FALSE),"") -> #NAME? | G20: =_xlfn.IFNA($C$20+VLOOKUP(G$16,'PUNIndex e PUN per fascia'!$I:$M,5,FALSE),"") -> #NAME? | H20: =_xlfn.IFNA($C$20+VLOOKUP(H$16,'PUNIndex e PUN per fascia'!$I:$M,5,FALSE),"") -> #NAME? | I20: =_xlfn.IFNA($C$20+VLOOKUP(I$16,'PUNIndex e PUN per fascia'!$I:$M,5,FALSE),"") -> #NAME? | J20: =_xlfn.IFNA($C$20+VLOOKUP(J$16,'PUNIndex e PUN per fascia'!$I:$M,5,FALSE),"") -> #NAME? | K20: =_xlfn.IFNA($C$20+VLOOKUP(K$16,'PUNIndex e PUN per fascia'!$I:$M,5,FALSE),"") -> #NAME? | L20: =_xlfn.IFNA($C$20+VLOOKUP(L$16,'PUNIndex e PUN per fascia'!$I:$M,5,FALSE),"") -> #NAME? | M20: =_xlfn.IFNA($C$20+VLOOKUP(M$16,'PUNIndex e PUN per fascia'!$I:$M,5,FALSE),"") -> #NAME? | ... Q20: =_xlfn.IFNA($C$20+VLOOKUP(Q$16,'PUNIndex e PUN per fascia'!$I:$M,5,FALSE),"") -> #NAME? | R20: =_xlfn.IFNA($C$20+VLOOKUP(R$14,'PUNIndex e PUN per fascia'!$I:$M,5,FALSE),"") -> #NAME?
A21: =+A9& "- Prezzi variabili al netto delle perdite di rete (Euro/MWh)" -> Lotto 4: Trentino Alto Adige, Friuli Venezia Giulia- Prezzi variabili al netto delle perdite di rete (Euro/MWh)

Sheet Lotto 5
Q1: torna al SOMMARIO
A4: Energia elettrica 19
A5: Convenzione per la fornitura di energia elettrica a prezzo fisso o a prezzo variabile e servizi connessi per tutte le Pubbliche Amministrazioni
A7: Configuratore corrispettivi a Prezzo Variabile per la fornitura di Energia Elettrica edizione 19
A9: =+SOMMARIO!A14 -> Lotto 5: Veneto
A11: Sconto PA Virtuose S | C11: 0,44 Euro/MWh
A12: Opzione Verde | C12: 0,8 Euro/MWh
A15: Forniture a Prezzo variabile a 12 e 24 mesi
B16: Fascia oraria | C16: ΨVAR | E16: 44531 | F16: 44562 | G16: 44593 | H16: 44621 | I16: 44652 | J16: 44682 | K16: 44713 | L16: 44743 | M16: 44774 | N16: 44805 | O16: 44835 | P16: 44866 | Q16: 44896 | S16: =_xlfn.IFNA($C$17+VLOOKUP(S$14,'PUNIndex e PUN per fascia'!$I:$M,2,FALSE),"") -> #NAME? | T16: =_xlfn.IFNA($C$17+VLOOKUP(T$14,'PUNIndex e PUN per fascia'!$I:$M,2,FALSE),"") -> #NAME? | U16: =_xlfn.IFNA($C$17+VLOOKUP(U$14,'PUNIndex e PUN per fascia'!$I:$M,2,FALSE),"") -> #NAME? | V16: =_xlfn.IFNA($C$17+VLOOKUP(V$14,'PUNIndex e PUN per fascia'!$I:$M,2,FALSE),"") -> #NAME? | W16: =_xlfn.IFNA($C$17+VLOOKUP(W$14,'PUNIndex e PUN per fascia'!$I:$M,2,FALSE),"") -> #NAME? | X16: =_xlfn.IFNA($C$17+VLOOKUP(X$14,'PUNIndex e PUN per fascia'!$I:$M,2,FALSE),"") -> #NAME? | Y16: =_xlfn.IFNA($C$17+VLOOKUP(Y$14,'PUNIndex e PUN per fascia'!$I:$M,2,FALSE),"") -> #NAME? | Z16: =_xlfn.IFNA($C$17+VLOOKUP(Z$14,'PUNIndex e PUN per fascia'!$I:$M,2,FALSE),"") -> #NAME?
B17: F0 | C17: 1.96 | E17: =_xlfn.IFNA($C$17+VLOOKUP(E$16,'PUNIndex e PUN per fascia'!$I:$M,2,FALSE),"") -> #NAME? | F17: =_xlfn.IFNA($C$17+VLOOKUP(F$16,'PUNIndex e PUN per fascia'!$I:$M,2,FALSE),"") -> #NAME? | G17: =_xlfn.IFNA($C$17+VLOOKUP(G$16,'PUNIndex e PUN per fascia'!$I:$M,2,FALSE),"") -> #NAME? | H17: =_xlfn.IFNA($C$17+VLOOKUP(H$16,'PUNIndex e PUN per fascia'!$I:$M,2,FALSE),"") -> #NAME? | I17: =_xlfn.IFNA($C$17+VLOOKUP(I$16,'PUNIndex e PUN per fascia'!$I:$M,2,FALSE),"") -> #NAME? | J17: =_xlfn.IFNA($C$17+VLOOKUP(J$16,'PUNIndex e PUN per fascia'!$I:$M,2,FALSE),"") -> #NAME? | K17: =_xlfn.IFNA($C$17+VLOOKUP(K$16,'PUNIndex e PUN per fascia'!$I:$M,2,FALSE),"") -> #NAME? | L17: =_xlfn.IFNA($C$17+VLOOKUP(L$16,'PUNIndex e PUN per fascia'!$I:$M,2,FALSE),"") -> #NAME? | ... Q17: =_xlfn.IFNA($C$17+VLOOKUP(Q$16,'PUNIndex e PUN per fascia'!$I:$M,2,FALSE),"") -> #NAME? | R17: =_xlfn.IFNA($C$17+VLOOKUP(R$14,'PUNIndex e PUN per fascia'!$I:$M,2,FALSE),"") -> #NAME? | S17: =_xlfn.IFNA($C$18+VLOOKUP(S$14,'PUNIndex e PUN per fascia'!$I:$M,3,FALSE),"") -> #NAME? | T17: =_xlfn.IFNA($C$18+VLOOKUP(T$14,'PUNIndex e PUN per fascia'!$I:$M,3,FALSE),"") -> #NAME? | U17: =_xlfn.IFNA($C$18+VLOOKUP(U$14,'PUNIndex e PUN per fascia'!$I:$M,3,FALSE),"") -> #NAME? | V17: =_xlfn.IFNA($C$18+VLOOKUP(V$14,'PUNIndex e PUN per fascia'!$I:$M,3,FALSE),"") -> #NAME? | W17: =_xlfn.IFNA($C$18+VLOOKUP(W$14,'PUNIndex e PUN per fascia'!$I:$M,3,FALSE),"") -> #NAME? | X17: =_xlfn.IFNA($C$18+VLOOKUP(X$14,'PUNIndex e PUN per fascia'!$I:$M,3,FALSE),"") -> #NAME? | Y17: =_xlfn.IFNA($C$18+VLOOKUP(Y$14,'PUNIndex e PUN per fascia'!$I:$M,3,FALSE),"") -> #NAME? | Z17: =_xlfn.IFNA($C$18+VLOOKUP(Z$14,'PUNIndex e PUN per fascia'!$I:$M,3,FALSE),"") -> #NAME?
B18: F1 | C18: 1.96 | E18: =_xlfn.IFNA($C$18+VLOOKUP(E$16,'PUNIndex e PUN per fascia'!$I:$M,3,FALSE),"") -> #NAME? | F18: =_xlfn.IFNA($C$18+VLOOKUP(F$16,'PUNIndex e PUN per fascia'!$I:$M,3,FALSE),"") -> #NAME? | G18: =_xlfn.IFNA($C$18+VLOOKUP(G$16,'PUNIndex e PUN per fascia'!$I:$M,3,FALSE),"") -> #NAME? | H18: =_xlfn.IFNA($C$18+VLOOKUP(H$16,'PUNIndex e PUN per fascia'!$I:$M,3,FALSE),"") -> #NAME? | I18: =_xlfn.IFNA($C$18+VLOOKUP(I$16,'PUNIndex e PUN per fascia'!$I:$M,3,FALSE),"") -> #NAME? | J18: =_xlfn.IFNA($C$18+VLOOKUP(J$16,'PUNIndex e PUN per fascia'!$I:$M,3,FALSE),"") -> #NAME? | K18: =_xlfn.IFNA($C$18+VLOOKUP(K$16,'PUNIndex e PUN per fascia'!$I:$M,3,FALSE),"") -> #NAME? | L18: =_xlfn.IFNA($C$18+VLOOKUP(L$16,'PUNIndex e PUN per fascia'!$I:$M,3,FALSE),"") -> #NAME? | ... Q18: =_xlfn.IFNA($C$18+VLOOKUP(Q$16,'PUNIndex e PUN per fascia'!$I:$M,3,FALSE),"") -> #NAME? | R18: =_xlfn.IFNA($C$18+VLOOKUP(R$14,'PUNIndex e PUN per fascia'!$I:$M,3,FALSE),"") -> #NAME? | S18: =_xlfn.IFNA($C$19+VLOOKUP(S$14,'PUNIndex e PUN per fascia'!$I:$M,4,FALSE),"") -> #NAME? | T18: =_xlfn.IFNA($C$19+VLOOKUP(T$14,'PUNIndex e PUN per fascia'!$I:$M,4,FALSE),"") -> #NAME? | U18: =_xlfn.IFNA($C$19+VLOOKUP(U$14,'PUNIndex e PUN per fascia'!$I:$M,4,FALSE),"") -> #NAME? | V18: =_xlfn.IFNA($C$19+VLOOKUP(V$14,'PUNIndex e PUN per fascia'!$I:$M,4,FALSE),"") -> #NAME? | W18: =_xlfn.IFNA($C$19+VLOOKUP(W$14,'PUNIndex e PUN per fascia'!$I:$M,4,FALSE),"") -> #NAME? | X18: =_xlfn.IFNA($C$19+VLOOKUP(X$14,'PUNIndex e PUN per fascia'!$I:$M,4,FALSE),"") -> #NAME? | Y18: =_xlfn.IFNA($C$19+VLOOKUP(Y$14,'PUNIndex e PUN per fascia'!$I:$M,4,FALSE),"") -> #NAME? | Z18: =_xlfn.IFNA($C$19+VLOOKUP(Z$14,'PUNIndex e PUN per fascia'!$I:$M,4,FALSE),"") -> #NAME?
B19: F2 | C19: 1.96 | E19: =_xlfn.IFNA($C$19+VLOOKUP(E$16,'PUNIndex e PUN per fascia'!$I:$M,4,FALSE),"") -> #NAME? | F19: =_xlfn.IFNA($C$19+VLOOKUP(F$16,'PUNIndex e PUN per fascia'!$I:$M,4,FALSE),"") -> #NAME? | G19: =_xlfn.IFNA($C$19+VLOOKUP(G$16,'PUNIndex e PUN per fascia'!$I:$M,4,FALSE),"") -> #NAME? | H19: =_xlfn.IFNA($C$19+VLOOKUP(H$16,'PUNIndex e PUN per fascia'!$I:$M,4,FALSE),"") -> #NAME? | I19: =_xlfn.IFNA($C$19+VLOOKUP(I$16,'PUNIndex e PUN per fascia'!$I:$M,4,FALSE),"") -> #NAME? | J19: =_xlfn.IFNA($C$19+VLOOKUP(J$16,'PUNIndex e PUN per fascia'!$I:$M,4,FALSE),"") -> #NAME? | K19: =_xlfn.IFNA($C$19+VLOOKUP(K$16,'PUNIndex e PUN per fascia'!$I:$M,4,FALSE),"") -> #NAME? | L19: =_xlfn.IFNA($C$19+VLOOKUP(L$16,'PUNIndex e PUN per fascia'!$I:$M,4,FALSE),"") -> #NAME? | ... Q19: =_xlfn.IFNA($C$19+VLOOKUP(Q$16,'PUNIndex e PUN per fascia'!$I:$M,4,FALSE),"") -> #NAME? | R19: =_xlfn.IFNA($C$19+VLOOKUP(R$14,'PUNIndex e PUN per fascia'!$I:$M,4,FALSE),"") -> #NAME? | S19: =_xlfn.IFNA($C$20+VLOOKUP(S$14,'PUNIndex e PUN per fascia'!$I:$M,5,FALSE),"") -> #NAME? | T19: =_xlfn.IFNA($C$20+VLOOKUP(T$14,'PUNIndex e PUN per fascia'!$I:$M,5,FALSE),"") -> #NAME? | U19: =_xlfn.IFNA($C$20+VLOOKUP(U$14,'PUNIndex e PUN per fascia'!$I:$M,5,FALSE),"") -> #NAME? | V19: =_xlfn.IFNA($C$20+VLOOKUP(V$14,'PUNIndex e PUN per fascia'!$I:$M,5,FALSE),"") -> #NAME? | W19: =_xlfn.IFNA($C$20+VLOOKUP(W$14,'PUNIndex e PUN per fascia'!$I:$M,5,FALSE),"") -> #NAME? | X19: =_xlfn.IFNA($C$20+VLOOKUP(X$14,'PUNIndex e PUN per fascia'!$I:$M,5,FALSE),"") -> #NAME? | Y19: =_xlfn.IFNA($C$20+VLOOKUP(Y$14,'PUNIndex e PUN per fascia'!$I:$M,5,FALSE),"") -> #NAME? | Z19: =_xlfn.IFNA($C$20+VLOOKUP(Z$14,'PUNIndex e PUN per fascia'!$I:$M,5,FALSE),"") -> #NAME?
B20: F3 | C20: 1.96 | E20: =_xlfn.IFNA($C$20+VLOOKUP(E$16,'PUNIndex e PUN per fascia'!$I:$M,5,FALSE),"") -> #NAME? | F20: =_xlfn.IFNA($C$20+VLOOKUP(F$16,'PUNIndex e PUN per fascia'!$I:$M,5,FALSE),"") -> #NAME? | G20: =_xlfn.IFNA($C$20+VLOOKUP(G$16,'PUNIndex e PUN per fascia'!$I:$M,5,FALSE),"") -> #NAME? | H20: =_xlfn.IFNA($C$20+VLOOKUP(H$16,'PUNIndex e PUN per fascia'!$I:$M,5,FALSE),"") -> #NAME? | I20: =_xlfn.IFNA($C$20+VLOOKUP(I$16,'PUNIndex e PUN per fascia'!$I:$M,5,FALSE),"") -> #NAME? | J20: =_xlfn.IFNA($C$20+VLOOKUP(J$16,'PUNIndex e PUN per fascia'!$I:$M,5,FALSE),"") -> #NAME? | K20: =_xlfn.IFNA($C$20+VLOOKUP(K$16,'PUNIndex e PUN per fascia'!$I:$M,5,FALSE),"") -> #NAME? | L20: =_xlfn.IFNA($C$20+VLOOKUP(L$16,'PUNIndex e PUN per fascia'!$I:$M,5,FALSE),"") -> #NAME? | ... Q20: =_xlfn.IFNA($C$20+VLOOKUP(Q$16,'PUNIndex e PUN per fascia'!$I:$M,5,FALSE),"") -> #NAME? | R20: =_xlfn.IFNA($C$20+VLOOKUP(R$14,'PUNIndex e PUN per fascia'!$I:$M,5,FALSE),"") -> #NAME?
A21: =+A9& "- Prezzi variabili al netto delle perdite di rete (Euro/MWh)" -> Lotto 5: Veneto- Prezzi variabili al netto delle perdite di rete (Euro/MWh)

Sheet Lotto 6
Q1: torna al SOMMARIO
A4: Energia elettrica 19
A5: Convenzione per la fornitura di energia elettrica a prezzo fisso o a prezzo variabile e servizi connessi per tutte le Pubbliche Amministrazioni
A7: Configuratore corrispettivi a Prezzo Variabile per la fornitura di Energia Elettrica edizione 19
A9: =+SOMMARIO!A15 -> Lotto 6: Emilia Romagna
A11: Sconto PA Virtuose S | C11: 0,38 Euro/MWh
A12: Opzione Verde | C12: 0,8 Euro/MWh
A15: Forniture a Prezzo variabile a 12 e 24 mesi
B16: Fascia oraria | C16: ΨVAR | E16: 44531 | F16: 44562 | G16: 44593 | H16: 44621 | I16: 44652 | J16: 44682 | K16: 44713 | L16: 44743 | M16: 44774 | N16: 44805 | O16: 44835 | P16: 44866 | Q16: 44896 | S16: =_xlfn.IFNA($C$17+VLOOKUP(S$14,'PUNIndex e PUN per fascia'!$I:$M,2,FALSE),"") -> #NAME? | T16: =_xlfn.IFNA($C$17+VLOOKUP(T$14,'PUNIndex e PUN per fascia'!$I:$M,2,FALSE),"") -> #NAME? | U16: =_xlfn.IFNA($C$17+VLOOKUP(U$14,'PUNIndex e PUN per fascia'!$I:$M,2,FALSE),"") -> #NAME? | V16: =_xlfn.IFNA($C$17+VLOOKUP(V$14,'PUNIndex e PUN per fascia'!$I:$M,2,FALSE),"") -> #NAME? | W16: =_xlfn.IFNA($C$17+VLOOKUP(W$14,'PUNIndex e PUN per fascia'!$I:$M,2,FALSE),"") -> #NAME? | X16: =_xlfn.IFNA($C$17+VLOOKUP(X$14,'PUNIndex e PUN per fascia'!$I:$M,2,FALSE),"") -> #NAME? | Y16: =_xlfn.IFNA($C$17+VLOOKUP(Y$14,'PUNIndex e PUN per fascia'!$I:$M,2,FALSE),"") -> #NAME? | Z16: =_xlfn.IFNA($C$17+VLOOKUP(Z$14,'PUNIndex e PUN per fascia'!$I:$M,2,FALSE),"") -> #NAME?
B17: F0 | C17: 1.94 | E17: non attivo | F17: =_xlfn.IFNA($C$17+VLOOKUP(F$16,'PUNIndex e PUN per fascia'!$I:$M,2,FALSE),"") -> #NAME? | G17: =_xlfn.IFNA($C$17+VLOOKUP(G$16,'PUNIndex e PUN per fascia'!$I:$M,2,FALSE),"") -> #NAME? | H17: =_xlfn.IFNA($C$17+VLOOKUP(H$16,'PUNIndex e PUN per fascia'!$I:$M,2,FALSE),"") -> #NAME? | I17: =_xlfn.IFNA($C$17+VLOOKUP(I$16,'PUNIndex e PUN per fascia'!$I:$M,2,FALSE),"") -> #NAME? | J17: =_xlfn.IFNA($C$17+VLOOKUP(J$16,'PUNIndex e PUN per fascia'!$I:$M,2,FALSE),"") -> #NAME? | K17: =_xlfn.IFNA($C$17+VLOOKUP(K$16,'PUNIndex e PUN per fascia'!$I:$M,2,FALSE),"") -> #NAME? | L17: =_xlfn.IFNA($C$17+VLOOKUP(L$16,'PUNIndex e PUN per fascia'!$I:$M,2,FALSE),"") -> #NAME? | M17: =_xlfn.IFNA($C$17+VLOOKUP(M$16,'PUNIndex e PUN per fascia'!$I:$M,2,FALSE),"") -> #NAME? | ... Q17: =_xlfn.IFNA($C$17+VLOOKUP(Q$16,'PUNIndex e PUN per fascia'!$I:$M,2,FALSE),"") -> #NAME? | R17: =_xlfn.IFNA($C$17+VLOOKUP(R$14,'PUNIndex e PUN per fascia'!$I:$M,2,FALSE),"") -> #NAME? | S17: =_xlfn.IFNA($C$18+VLOOKUP(S$14,'PUNIndex e PUN per fascia'!$I:$M,3,FALSE),"") -> #NAME? | T17: =_xlfn.IFNA($C$18+VLOOKUP(T$14,'PUNIndex e PUN per fascia'!$I:$M,3,FALSE),"") -> #NAME? | U17: =_xlfn.IFNA($C$18+VLOOKUP(U$14,'PUNIndex e PUN per fascia'!$I:$M,3,FALSE),"") -> #NAME? | V17: =_xlfn.IFNA($C$18+VLOOKUP(V$14,'PUNIndex e PUN per fascia'!$I:$M,3,FALSE),"") -> #NAME? | W17: =_xlfn.IFNA($C$18+VLOOKUP(W$14,'PUNIndex e PUN per fascia'!$I:$M,3,FALSE),"") -> #NAME? | X17: =_xlfn.IFNA($C$18+VLOOKUP(X$14,'PUNIndex e PUN per fascia'!$I:$M,3,FALSE),"") -> #NAME? | Y17: =_xlfn.IFNA($C$18+VLOOKUP(Y$14,'PUNIndex e PUN per fascia'!$I:$M,3,FALSE),"") -> #NAME? | Z17: =_xlfn.IFNA($C$18+VLOOKUP(Z$14,'PUNIndex e PUN per fascia'!$I:$M,3,FALSE),"") -> #NAME?
B18: F1 | C18: 1.94 | E18: non attivo | F18: =_xlfn.IFNA($C$18+VLOOKUP(F$16,'PUNIndex e PUN per fascia'!$I:$M,3,FALSE),"") -> #NAME? | G18: =_xlfn.IFNA($C$18+VLOOKUP(G$16,'PUNIndex e PUN per fascia'!$I:$M,3,FALSE),"") -> #NAME? | H18: =_xlfn.IFNA($C$18+VLOOKUP(H$16,'PUNIndex e PUN per fascia'!$I:$M,3,FALSE),"") -> #NAME? | I18: =_xlfn.IFNA($C$18+VLOOKUP(I$16,'PUNIndex e PUN per fascia'!$I:$M,3,FALSE),"") -> #NAME? | J18: =_xlfn.IFNA($C$18+VLOOKUP(J$16,'PUNIndex e PUN per fascia'!$I:$M,3,FALSE),"") -> #NAME? | K18: =_xlfn.IFNA($C$18+VLOOKUP(K$16,'PUNIndex e PUN per fascia'!$I:$M,3,FALSE),"") -> #NAME? | L18: =_xlfn.IFNA($C$18+VLOOKUP(L$16,'PUNIndex e PUN per fascia'!$I:$M,3,FALSE),"") -> #NAME? | M18: =_xlfn.IFNA($C$18+VLOOKUP(M$16,'PUNIndex e PUN per fascia'!$I:$M,3,FALSE),"") -> #NAME? | ... Q18: =_xlfn.IFNA($C$18+VLOOKUP(Q$16,'PUNIndex e PUN per fascia'!$I:$M,3,FALSE),"") -> #NAME? | R18: =_xlfn.IFNA($C$18+VLOOKUP(R$14,'PUNIndex e PUN per fascia'!$I:$M,3,FALSE),"") -> #NAME? | S18: =_xlfn.IFNA($C$19+VLOOKUP(S$14,'PUNIndex e PUN per fascia'!$I:$M,4,FALSE),"") -> #NAME? | T18: =_xlfn.IFNA($C$19+VLOOKUP(T$14,'PUNIndex e PUN per fascia'!$I:$M,4,FALSE),"") -> #NAME? | U18: =_xlfn.IFNA($C$19+VLOOKUP(U$14,'PUNIndex e PUN per fascia'!$I:$M,4,FALSE),"") -> #NAME? | V18: =_xlfn.IFNA($C$19+VLOOKUP(V$14,'PUNIndex e PUN per fascia'!$I:$M,4,FALSE),"") -> #NAME? | W18: =_xlfn.IFNA($C$19+VLOOKUP(W$14,'PUNIndex e PUN per fascia'!$I:$M,4,FALSE),"") -> #NAME? | X18: =_xlfn.IFNA($C$19+VLOOKUP(X$14,'PUNIndex e PUN per fascia'!$I:$M,4,FALSE),"") -> #NAME? | Y18: =_xlfn.IFNA($C$19+VLOOKUP(Y$14,'PUNIndex e PUN per fascia'!$I:$M,4,FALSE),"") -> #NAME? | Z18: =_xlfn.IFNA($C$19+VLOOKUP(Z$14,'PUNIndex e PUN per fascia'!$I:$M,4,FALSE),"") -> #NAME?
B19: F2 | C19: 1.94 | E19: non attivo | F19: =_xlfn.IFNA($C$19+VLOOKUP(F$16,'PUNIndex e PUN per fascia'!$I:$M,4,FALSE),"") -> #NAME? | G19: =_xlfn.IFNA($C$19+VLOOKUP(G$16,'PUNIndex e PUN per fascia'!$I:$M,4,FALSE),"") -> #NAME? | H19: =_xlfn.IFNA($C$19+VLOOKUP(H$16,'PUNIndex e PUN per fascia'!$I:$M,4,FALSE),"") -> #NAME? | I19: =_xlfn.IFNA($C$19+VLOOKUP(I$16,'PUNIndex e PUN per fascia'!$I:$M,4,FALSE),"") -> #NAME? | J19: =_xlfn.IFNA($C$19+VLOOKUP(J$16,'PUNIndex e PUN per fascia'!$I:$M,4,FALSE),"") -> #NAME? | K19: =_xlfn.IFNA($C$19+VLOOKUP(K$16,'PUNIndex e PUN per fascia'!$I:$M,4,FALSE),"") -> #NAME? | L19: =_xlfn.IFNA($C$19+VLOOKUP(L$16,'PUNIndex e PUN per fascia'!$I:$M,4,FALSE),"") -> #NAME? | M19: =_xlfn.IFNA($C$19+VLOOKUP(M$16,'PUNIndex e PUN per fascia'!$I:$M,4,FALSE),"") -> #NAME? | ... Q19: =_xlfn.IFNA($C$19+VLOOKUP(Q$16,'PUNIndex e PUN per fascia'!$I:$M,4,FALSE),"") -> #NAME? | R19: =_xlfn.IFNA($C$19+VLOOKUP(R$14,'PUNIndex e PUN per fascia'!$I:$M,4,FALSE),"") -> #NAME? | S19: =_xlfn.IFNA($C$20+VLOOKUP(S$14,'PUNIndex e PUN per fascia'!$I:$M,5,FALSE),"") -> #NAME? | T19: =_xlfn.IFNA($C$20+VLOOKUP(T$14,'PUNIndex e PUN per fascia'!$I:$M,5,FALSE),"") -> #NAME? | U19: =_xlfn.IFNA($C$20+VLOOKUP(U$14,'PUNIndex e PUN per fascia'!$I:$M,5,FALSE),"") -> #NAME? | V19: =_xlfn.IFNA($C$20+VLOOKUP(V$14,'PUNIndex e PUN per fascia'!$I:$M,5,FALSE),"") -> #NAME? | W19: =_xlfn.IFNA($C$20+VLOOKUP(W$14,'PUNIndex e PUN per fascia'!$I:$M,5,FALSE),"") -> #NAME? | X19: =_xlfn.IFNA($C$20+VLOOKUP(X$14,'PUNIndex e PUN per fascia'!$I:$M,5,FALSE),"") -> #NAME? | Y19: =_xlfn.IFNA($C$20+VLOOKUP(Y$14,'PUNIndex e PUN per fascia'!$I:$M,5,FALSE),"") -> #NAME? | Z19: =_xlfn.IFNA($C$20+VLOOKUP(Z$14,'PUNIndex e PUN per fascia'!$I:$M,5,FALSE),"") -> #NAME?
B20: F3 | C20: 1.94 | E20: non attivo | F20: =_xlfn.IFNA($C$20+VLOOKUP(F$16,'PUNIndex e PUN per fascia'!$I:$M,5,FALSE),"") -> #NAME? | G20: =_xlfn.IFNA($C$20+VLOOKUP(G$16,'PUNIndex e PUN per fascia'!$I:$M,5,FALSE),"") -> #NAME? | H20: =_xlfn.IFNA($C$20+VLOOKUP(H$16,'PUNIndex e PUN per fascia'!$I:$M,5,FALSE),"") -> #NAME? | I20: =_xlfn.IFNA($C$20+VLOOKUP(I$16,'PUNIndex e PUN per fascia'!$I:$M,5,FALSE),"") -> #NAME? | J20: =_xlfn.IFNA($C$20+VLOOKUP(J$16,'PUNIndex e PUN per fascia'!$I:$M,5,FALSE),"") -> #NAME? | K20: =_xlfn.IFNA($C$20+VLOOKUP(K$16,'PUNIndex e PUN per fascia'!$I:$M,5,FALSE),"") -> #NAME? | L20: =_xlfn.IFNA($C$20+VLOOKUP(L$16,'PUNIndex e PUN per fascia'!$I:$M,5,FALSE),"") -> #NAME? | M20: =_xlfn.IFNA($C$20+VLOOKUP(M$16,'PUNIndex e PUN per fascia'!$I:$M,5,FALSE),"") -> #NAME? | ... Q20: =_xlfn.IFNA($C$20+VLOOKUP(Q$16,'PUNIndex e PUN per fascia'!$I:$M,5,FALSE),"") -> #NAME? | R20: =_xlfn.IFNA($C$20+VLOOKUP(R$14,'PUNIndex e PUN per fascia'!$I:$M,5,FALSE),"") -> #NAME?
A21: =+A9& "- Prezzi variabili al netto delle perdite di rete (Euro/MWh)" -> Lotto 6: Emilia Romagna - Prezzi variabili al netto delle perdite di rete (Euro/MWh)

Sheet Lotto 7
Q1: torna al SOMMARIO
A4: Energia elettrica 19
A5: Convenzione per la fornitura di energia elettrica a prezzo fisso o a prezzo variabile e servizi connessi per tutte le Pubbliche Amministrazioni
A7: Configuratore corrispettivi a Prezzo Variabile per la fornitura di Energia Elettrica edizione 19
A9: =+SOMMARIO!A16 -> Lotto 7: Sardegna, Liguria
A11: Sconto PA Virtuose S | C11: 0,51 Euro/MWh
A12: Opzione Verde | C12: 0,8 Euro/MWh
A15: Forniture a Prezzo variabile a 12 e 24 mesi
B16: Fascia oraria | C16: ΨVAR | E16: 44531 | F16: 44562 | G16: 44593 | H16: 44621 | I16: 44652 | J16: 44682 | K16: 44713 | L16: 44743 | M16: 44774 | N16: 44805 | O16: 44835 | P16: 44866 | Q16: 44896 | S16: =_xlfn.IFNA($C$17+VLOOKUP(S$14,'PUNIndex e PUN per fascia'!$I:$M,2,FALSE),"") -> #NAME? | T16: =_xlfn.IFNA($C$17+VLOOKUP(T$14,'PUNIndex e PUN per fascia'!$I:$M,2,FALSE),"") -> #NAME? | U16: =_xlfn.IFNA($C$17+VLOOKUP(U$14,'PUNIndex e PUN per fascia'!$I:$M,2,FALSE),"") -> #NAME? | V16: =_xlfn.IFNA($C$17+VLOOKUP(V$14,'PUNIndex e PUN per fascia'!$I:$M,2,FALSE),"") -> #NAME? | W16: =_xlfn.IFNA($C$17+VLOOKUP(W$14,'PUNIndex e PUN per fascia'!$I:$M,2,FALSE),"") -> #NAME? | X16: =_xlfn.IFNA($C$17+VLOOKUP(X$14,'PUNIndex e PUN per fascia'!$I:$M,2,FALSE),"") -> #NAME? | Y16: =_xlfn.IFNA($C$17+VLOOKUP(Y$14,'PUNIndex e PUN per fascia'!$I:$M,2,FALSE),"") -> #NAME? | Z16: =_xlfn.IFNA($C$17+VLOOKUP(Z$14,'PUNIndex e PUN per fascia'!$I:$M,2,FALSE),"") -> #NAME?
B17: F0 | C17: 1.53 | E17: =_xlfn.IFNA($C$17+VLOOKUP(E$16,'PUNIndex e PUN per fascia'!$I:$M,2,FALSE),"") -> #NAME? | F17: =_xlfn.IFNA($C$17+VLOOKUP(F$16,'PUNIndex e PUN per fascia'!$I:$M,2,FALSE),"") -> #NAME? | G17: =_xlfn.IFNA($C$17+VLOOKUP(G$16,'PUNIndex e PUN per fascia'!$I:$M,2,FALSE),"") -> #NAME? | H17: =_xlfn.IFNA($C$17+VLOOKUP(H$16,'PUNIndex e PUN per fascia'!$I:$M,2,FALSE),"") -> #NAME? | I17: =_xlfn.IFNA($C$17+VLOOKUP(I$16,'PUNIndex e PUN per fascia'!$I:$M,2,FALSE),"") -> #NAME? | J17: =_xlfn.IFNA($C$17+VLOOKUP(J$16,'PUNIndex e PUN per fascia'!$I:$M,2,FALSE),"") -> #NAME? | K17: =_xlfn.IFNA($C$17+VLOOKUP(K$16,'PUNIndex e PUN per fascia'!$I:$M,2,FALSE),"") -> #NAME? | L17: =_xlfn.IFNA($C$17+VLOOKUP(L$16,'PUNIndex e PUN per fascia'!$I:$M,2,FALSE),"") -> #NAME? | ... Q17: =_xlfn.IFNA($C$17+VLOOKUP(Q$16,'PUNIndex e PUN per fascia'!$I:$M,2,FALSE),"") -> #NAME? | R17: =_xlfn.IFNA($C$17+VLOOKUP(R$14,'PUNIndex e PUN per fascia'!$I:$M,2,FALSE),"") -> #NAME? | S17: =_xlfn.IFNA($C$18+VLOOKUP(S$14,'PUNIndex e PUN per fascia'!$I:$M,3,FALSE),"") -> #NAME? | T17: =_xlfn.IFNA($C$18+VLOOKUP(T$14,'PUNIndex e PUN per fascia'!$I:$M,3,FALSE),"") -> #NAME? | U17: =_xlfn.IFNA($C$18+VLOOKUP(U$14,'PUNIndex e PUN per fascia'!$I:$M,3,FALSE),"") -> #NAME? | V17: =_xlfn.IFNA($C$18+VLOOKUP(V$14,'PUNIndex e PUN per fascia'!$I:$M,3,FALSE),"") -> #NAME? | W17: =_xlfn.IFNA($C$18+VLOOKUP(W$14,'PUNIndex e PUN per fascia'!$I:$M,3,FALSE),"") -> #NAME? | X17: =_xlfn.IFNA($C$18+VLOOKUP(X$14,'PUNIndex e PUN per fascia'!$I:$M,3,FALSE),"") -> #NAME? | Y17: =_xlfn.IFNA($C$18+VLOOKUP(Y$14,'PUNIndex e PUN per fascia'!$I:$M,3,FALSE),"") -> #NAME? | Z17: =_xlfn.IFNA($C$18+VLOOKUP(Z$14,'PUNIndex e PUN per fascia'!$I:$M,3,FALSE),"") -> #NAME?
B18: F1 | C18: 1.53 | E18: =_xlfn.IFNA($C$18+VLOOKUP(E$16,'PUNIndex e PUN per fascia'!$I:$M,3,FALSE),"") -> #NAME? | F18: =_xlfn.IFNA($C$18+VLOOKUP(F$16,'PUNIndex e PUN per fascia'!$I:$M,3,FALSE),"") -> #NAME? | G18: =_xlfn.IFNA($C$18+VLOOKUP(G$16,'PUNIndex e PUN per fascia'!$I:$M,3,FALSE),"") -> #NAME? | H18: =_xlfn.IFNA($C$18+VLOOKUP(H$16,'PUNIndex e PUN per fascia'!$I:$M,3,FALSE),"") -> #NAME? | I18: =_xlfn.IFNA($C$18+VLOOKUP(I$16,'PUNIndex e PUN per fascia'!$I:$M,3,FALSE),"") -> #NAME? | J18: =_xlfn.IFNA($C$18+VLOOKUP(J$16,'PUNIndex e PUN per fascia'!$I:$M,3,FALSE),"") -> #NAME? | K18: =_xlfn.IFNA($C$18+VLOOKUP(K$16,'PUNIndex e PUN per fascia'!$I:$M,3,FALSE),"") -> #NAME? | L18: =_xlfn.IFNA($C$18+VLOOKUP(L$16,'PUNIndex e PUN per fascia'!$I:$M,3,FALSE),"") -> #NAME? | ... Q18: =_xlfn.IFNA($C$18+VLOOKUP(Q$16,'PUNIndex e PUN per fascia'!$I:$M,3,FALSE),"") -> #NAME? | R18: =_xlfn.IFNA($C$18+VLOOKUP(R$14,'PUNIndex e PUN per fascia'!$I:$M,3,FALSE),"") -> #NAME? | S18: =_xlfn.IFNA($C$19+VLOOKUP(S$14,'PUNIndex e PUN per fascia'!$I:$M,4,FALSE),"") -> #NAME? | T18: =_xlfn.IFNA($C$19+VLOOKUP(T$14,'PUNIndex e PUN per fascia'!$I:$M,4,FALSE),"") -> #NAME? | U18: =_xlfn.IFNA($C$19+VLOOKUP(U$14,'PUNIndex e PUN per fascia'!$I:$M,4,FALSE),"") -> #NAME? | V18: =_xlfn.IFNA($C$19+VLOOKUP(V$14,'PUNIndex e PUN per fascia'!$I:$M,4,FALSE),"") -> #NAME? | W18: =_xlfn.IFNA($C$19+VLOOKUP(W$14,'PUNIndex e PUN per fascia'!$I:$M,4,FALSE),"") -> #NAME? | X18: =_xlfn.IFNA($C$19+VLOOKUP(X$14,'PUNIndex e PUN per fascia'!$I:$M,4,FALSE),"") -> #NAME? | Y18: =_xlfn.IFNA($C$19+VLOOKUP(Y$14,'PUNIndex e PUN per fascia'!$I:$M,4,FALSE),"") -> #NAME? | Z18: =_xlfn.IFNA($C$19+VLOOKUP(Z$14,'PUNIndex e PUN per fascia'!$I:$M,4,FALSE),"") -> #NAME?
B19: F2 | C19: 1.53 | E19: =_xlfn.IFNA($C$19+VLOOKUP(E$16,'PUNIndex e PUN per fascia'!$I:$M,4,FALSE),"") -> #NAME? | F19: =_xlfn.IFNA($C$19+VLOOKUP(F$16,'PUNIndex e PUN per fascia'!$I:$M,4,FALSE),"") -> #NAME? | G19: =_xlfn.IFNA($C$19+VLOOKUP(G$16,'PUNIndex e PUN per fascia'!$I:$M,4,FALSE),"") -> #NAME? | H19: =_xlfn.IFNA($C$19+VLOOKUP(H$16,'PUNIndex e PUN per fascia'!$I:$M,4,FALSE),"") -> #NAME? | I19: =_xlfn.IFNA($C$19+VLOOKUP(I$16,'PUNIndex e PUN per fascia'!$I:$M,4,FALSE),"") -> #NAME? | J19: =_xlfn.IFNA($C$19+VLOOKUP(J$16,'PUNIndex e PUN per fascia'!$I:$M,4,FALSE),"") -> #NAME? | K19: =_xlfn.IFNA($C$19+VLOOKUP(K$16,'PUNIndex e PUN per fascia'!$I:$M,4,FALSE),"") -> #NAME? | L19: =_xlfn.IFNA($C$19+VLOOKUP(L$16,'PUNIndex e PUN per fascia'!$I:$M,4,FALSE),"") -> #NAME? | ... Q19: =_xlfn.IFNA($C$19+VLOOKUP(Q$16,'PUNIndex e PUN per fascia'!$I:$M,4,FALSE),"") -> #NAME? | R19: =_xlfn.IFNA($C$19+VLOOKUP(R$14,'PUNIndex e PUN per fascia'!$I:$M,4,FALSE),"") -> #NAME? | S19: =_xlfn.IFNA($C$20+VLOOKUP(S$14,'PUNIndex e PUN per fascia'!$I:$M,5,FALSE),"") -> #NAME? | T19: =_xlfn.IFNA($C$20+VLOOKUP(T$14,'PUNIndex e PUN per fascia'!$I:$M,5,FALSE),"") -> #NAME? | U19: =_xlfn.IFNA($C$20+VLOOKUP(U$14,'PUNIndex e PUN per fascia'!$I:$M,5,FALSE),"") -> #NAME? | V19: =_xlfn.IFNA($C$20+VLOOKUP(V$14,'PUNIndex e PUN per fascia'!$I:$M,5,FALSE),"") -> #NAME? | W19: =_xlfn.IFNA($C$20+VLOOKUP(W$14,'PUNIndex e PUN per fascia'!$I:$M,5,FALSE),"") -> #NAME? | X19: =_xlfn.IFNA($C$20+VLOOKUP(X$14,'PUNIndex e PUN per fascia'!$I:$M,5,FALSE),"") -> #NAME? | Y19: =_xlfn.IFNA($C$20+VLOOKUP(Y$14,'PUNIndex e PUN per fascia'!$I:$M,5,FALSE),"") -> #NAME? | Z19: =_xlfn.IFNA($C$20+VLOOKUP(Z$14,'PUNIndex e PUN per fascia'!$I:$M,5,FALSE),"") -> #NAME?
B20: F3 | C20: 1.53 | E20: =_xlfn.IFNA($C$20+VLOOKUP(E$16,'PUNIndex e PUN per fascia'!$I:$M,5,FALSE),"") -> #NAME? | F20: =_xlfn.IFNA($C$20+VLOOKUP(F$16,'PUNIndex e PUN per fascia'!$I:$M,5,FALSE),"") -> #NAME? | G20: =_xlfn.IFNA($C$20+VLOOKUP(G$16,'PUNIndex e PUN per fascia'!$I:$M,5,FALSE),"") -> #NAME? | H20: =_xlfn.IFNA($C$20+VLOOKUP(H$16,'PUNIndex e PUN per fascia'!$I:$M,5,FALSE),"") -> #NAME? | I20: =_xlfn.IFNA($C$20+VLOOKUP(I$16,'PUNIndex e PUN per fascia'!$I:$M,5,FALSE),"") -> #NAME? | J20: =_xlfn.IFNA($C$20+VLOOKUP(J$16,'PUNIndex e PUN per fascia'!$I:$M,5,FALSE),"") -> #NAME? | K20: =_xlfn.IFNA($C$20+VLOOKUP(K$16,'PUNIndex e PUN per fascia'!$I:$M,5,FALSE),"") -> #NAME? | L20: =_xlfn.IFNA($C$20+VLOOKUP(L$16,'PUNIndex e PUN per fascia'!$I:$M,5,FALSE),"") -> #NAME? | ... Q20: =_xlfn.IFNA($C$20+VLOOKUP(Q$16,'PUNIndex e PUN per fascia'!$I:$M,5,FALSE),"") -> #NAME? | R20: =_xlfn.IFNA($C$20+VLOOKUP(R$14,'PUNIndex e PUN per fascia'!$I:$M,5,FALSE),"") -> #NAME?
A21: =+A9& "- Prezzi variabili al netto delle perdite di rete (Euro/MWh)" -> Lotto 7: Sardegna, Liguria - Prezzi variabili al netto delle perdite di rete (Euro/MWh)

Sheet Lotto 8
Q1: torna al SOMMARIO
A4: Energia elettrica 19
A5: Convenzione per la fornitura di energia elettrica a prezzo fisso o a prezzo variabile e servizi connessi per tutte le Pubbliche Amministrazioni
A7: Configuratore corrispettivi a Prezzo Variabile per la fornitura di Energia Elettrica edizione 19
A9: =+SOMMARIO!A17 -> Lotto 8: Toscana
A11: Sconto PA Virtuose S | C11: 0,5 Euro/MWh
A12: Opzione Verde | C12: 0,9 Euro/MWh
A15: Forniture a Prezzo variabile a 12 e 24 mesi
B16: Fascia oraria | C16: ΨVAR | E16: 44531 | F16: 44562 | G16: 44593 | H16: 44621 | I16: 44652 | J16: 44682 | K16: 44713 | L16: 44743 | M16: 44774 | N16: 44805 | O16: 44835 | P16: 44866 | Q16: 44896 | S16: =_xlfn.IFNA($C$17+VLOOKUP(S$14,'PUNIndex e PUN per fascia'!$I:$M,2,FALSE),"") -> #NAME? | T16: =_xlfn.IFNA($C$17+VLOOKUP(T$14,'PUNIndex e PUN per fascia'!$I:$M,2,FALSE),"") -> #NAME? | U16: =_xlfn.IFNA($C$17+VLOOKUP(U$14,'PUNIndex e PUN per fascia'!$I:$M,2,FALSE),"") -> #NAME? | V16: =_xlfn.IFNA($C$17+VLOOKUP(V$14,'PUNIndex e PUN per fascia'!$I:$M,2,FALSE),"") -> #NAME? | W16: =_xlfn.IFNA($C$17+VLOOKUP(W$14,'PUNIndex e PUN per fascia'!$I:$M,2,FALSE),"") -> #NAME? | X16: =_xlfn.IFNA($C$17+VLOOKUP(X$14,'PUNIndex e PUN per fascia'!$I:$M,2,FALSE),"") -> #NAME? | Y16: =_xlfn.IFNA($C$17+VLOOKUP(Y$14,'PUNIndex e PUN per fascia'!$I:$M,2,FALSE),"") -> #NAME? | Z16: =_xlfn.IFNA($C$17+VLOOKUP(Z$14,'PUNIndex e PUN per fascia'!$I:$M,2,FALSE),"") -> #NAME?
B17: F0 | C17: 1.66 | E17: non attivo | F17: =_xlfn.IFNA($C$17+VLOOKUP(F$16,'PUNIndex e PUN per fascia'!$I:$M,2,FALSE),"") -> #NAME? | G17: =_xlfn.IFNA($C$17+VLOOKUP(G$16,'PUNIndex e PUN per fascia'!$I:$M,2,FALSE),"") -> #NAME? | H17: =_xlfn.IFNA($C$17+VLOOKUP(H$16,'PUNIndex e PUN per fascia'!$I:$M,2,FALSE),"") -> #NAME? | I17: =_xlfn.IFNA($C$17+VLOOKUP(I$16,'PUNIndex e PUN per fascia'!$I:$M,2,FALSE),"") -> #NAME? | J17: =_xlfn.IFNA($C$17+VLOOKUP(J$16,'PUNIndex e PUN per fascia'!$I:$M,2,FALSE),"") -> #NAME? | K17: =_xlfn.IFNA($C$17+VLOOKUP(K$16,'PUNIndex e PUN per fascia'!$I:$M,2,FALSE),"") -> #NAME? | L17: =_xlfn.IFNA($C$17+VLOOKUP(L$16,'PUNIndex e PUN per fascia'!$I:$M,2,FALSE),"") -> #NAME? | M17: =_xlfn.IFNA($C$17+VLOOKUP(M$16,'PUNIndex e PUN per fascia'!$I:$M,2,FALSE),"") -> #NAME? | ... Q17: =_xlfn.IFNA($C$17+VLOOKUP(Q$16,'PUNIndex e PUN per fascia'!$I:$M,2,FALSE),"") -> #NAME? | R17: =_xlfn.IFNA($C$17+VLOOKUP(R$14,'PUNIndex e PUN per fascia'!$I:$M,2,FALSE),"") -> #NAME? | S17: =_xlfn.IFNA($C$18+VLOOKUP(S$14,'PUNIndex e PUN per fascia'!$I:$M,3,FALSE),"") -> #NAME? | T17: =_xlfn.IFNA($C$18+VLOOKUP(T$14,'PUNIndex e PUN per fascia'!$I:$M,3,FALSE),"") -> #NAME? | U17: =_xlfn.IFNA($C$18+VLOOKUP(U$14,'PUNIndex e PUN per fascia'!$I:$M,3,FALSE),"") -> #NAME? | V17: =_xlfn.IFNA($C$18+VLOOKUP(V$14,'PUNIndex e PUN per fascia'!$I:$M,3,FALSE),"") -> #NAME? | W17: =_xlfn.IFNA($C$18+VLOOKUP(W$14,'PUNIndex e PUN per fascia'!$I:$M,3,FALSE),"") -> #NAME? | X17: =_xlfn.IFNA($C$18+VLOOKUP(X$14,'PUNIndex e PUN per fascia'!$I:$M,3,FALSE),"") -> #NAME? | Y17: =_xlfn.IFNA($C$18+VLOOKUP(Y$14,'PUNIndex e PUN per fascia'!$I:$M,3,FALSE),"") -> #NAME? | Z17: =_xlfn.IFNA($C$18+VLOOKUP(Z$14,'PUNIndex e PUN per fascia'!$I:$M,3,FALSE),"") -> #NAME?
B18: F1 | C18: 1.66 | E18: non attivo | F18: =_xlfn.IFNA($C$18+VLOOKUP(F$16,'PUNIndex e PUN per fascia'!$I:$M,3,FALSE),"") -> #NAME? | G18: =_xlfn.IFNA($C$18+VLOOKUP(G$16,'PUNIndex e PUN per fascia'!$I:$M,3,FALSE),"") -> #NAME? | H18: =_xlfn.IFNA($C$18+VLOOKUP(H$16,'PUNIndex e PUN per fascia'!$I:$M,3,FALSE),"") -> #NAME? | I18: =_xlfn.IFNA($C$18+VLOOKUP(I$16,'PUNIndex e PUN per fascia'!$I:$M,3,FALSE),"") -> #NAME? | J18: =_xlfn.IFNA($C$18+VLOOKUP(J$16,'PUNIndex e PUN per fascia'!$I:$M,3,FALSE),"") -> #NAME? | K18: =_xlfn.IFNA($C$18+VLOOKUP(K$16,'PUNIndex e PUN per fascia'!$I:$M,3,FALSE),"") -> #NAME? | L18: =_xlfn.IFNA($C$18+VLOOKUP(L$16,'PUNIndex e PUN per fascia'!$I:$M,3,FALSE),"") -> #NAME? | M18: =_xlfn.IFNA($C$18+VLOOKUP(M$16,'PUNIndex e PUN per fascia'!$I:$M,3,FALSE),"") -> #NAME? | ... Q18: =_xlfn.IFNA($C$18+VLOOKUP(Q$16,'PUNIndex e PUN per fascia'!$I:$M,3,FALSE),"") -> #NAME? | R18: =_xlfn.IFNA($C$18+VLOOKUP(R$14,'PUNIndex e PUN per fascia'!$I:$M,3,FALSE),"") -> #NAME? | S18: =_xlfn.IFNA($C$19+VLOOKUP(S$14,'PUNIndex e PUN per fascia'!$I:$M,4,FALSE),"") -> #NAME? | T18: =_xlfn.IFNA($C$19+VLOOKUP(T$14,'PUNIndex e PUN per fascia'!$I:$M,4,FALSE),"") -> #NAME? | U18: =_xlfn.IFNA($C$19+VLOOKUP(U$14,'PUNIndex e PUN per fascia'!$I:$M,4,FALSE),"") -> #NAME? | V18: =_xlfn.IFNA($C$19+VLOOKUP(V$14,'PUNIndex e PUN per fascia'!$I:$M,4,FALSE),"") -> #NAME? | W18: =_xlfn.IFNA($C$19+VLOOKUP(W$14,'PUNIndex e PUN per fascia'!$I:$M,4,FALSE),"") -> #NAME? | X18: =_xlfn.IFNA($C$19+VLOOKUP(X$14,'PUNIndex e PUN per fascia'!$I:$M,4,FALSE),"") -> #NAME? | Y18: =_xlfn.IFNA($C$19+VLOOKUP(Y$14,'PUNIndex e PUN per fascia'!$I:$M,4,FALSE),"") -> #NAME? | Z18: =_xlfn.IFNA($C$19+VLOOKUP(Z$14,'PUNIndex e PUN per fascia'!$I:$M,4,FALSE),"") -> #NAME?
B19: F2 | C19: 1.66 | E19: non attivo | F19: =_xlfn.IFNA($C$19+VLOOKUP(F$16,'PUNIndex e PUN per fascia'!$I:$M,4,FALSE),"") -> #NAME? | G19: =_xlfn.IFNA($C$19+VLOOKUP(G$16,'PUNIndex e PUN per fascia'!$I:$M,4,FALSE),"") -> #NAME? | H19: =_xlfn.IFNA($C$19+VLOOKUP(H$16,'PUNIndex e PUN per fascia'!$I:$M,4,FALSE),"") -> #NAME? | I19: =_xlfn.IFNA($C$19+VLOOKUP(I$16,'PUNIndex e PUN per fascia'!$I:$M,4,FALSE),"") -> #NAME? | J19: =_xlfn.IFNA($C$19+VLOOKUP(J$16,'PUNIndex e PUN per fascia'!$I:$M,4,FALSE),"") -> #NAME? | K19: =_xlfn.IFNA($C$19+VLOOKUP(K$16,'PUNIndex e PUN per fascia'!$I:$M,4,FALSE),"") -> #NAME? | L19: =_xlfn.IFNA($C$19+VLOOKUP(L$16,'PUNIndex e PUN per fascia'!$I:$M,4,FALSE),"") -> #NAME? | M19: =_xlfn.IFNA($C$19+VLOOKUP(M$16,'PUNIndex e PUN per fascia'!$I:$M,4,FALSE),"") -> #NAME? | ... Q19: =_xlfn.IFNA($C$19+VLOOKUP(Q$16,'PUNIndex e PUN per fascia'!$I:$M,4,FALSE),"") -> #NAME? | R19: =_xlfn.IFNA($C$19+VLOOKUP(R$14,'PUNIndex e PUN per fascia'!$I:$M,4,FALSE),"") -> #NAME? | S19: =_xlfn.IFNA($C$20+VLOOKUP(S$14,'PUNIndex e PUN per fascia'!$I:$M,5,FALSE),"") -> #NAME? | T19: =_xlfn.IFNA($C$20+VLOOKUP(T$14,'PUNIndex e PUN per fascia'!$I:$M,5,FALSE),"") -> #NAME? | U19: =_xlfn.IFNA($C$20+VLOOKUP(U$14,'PUNIndex e PUN per fascia'!$I:$M,5,FALSE),"") -> #NAME? | V19: =_xlfn.IFNA($C$20+VLOOKUP(V$14,'PUNIndex e PUN per fascia'!$I:$M,5,FALSE),"") -> #NAME? | W19: =_xlfn.IFNA($C$20+VLOOKUP(W$14,'PUNIndex e PUN per fascia'!$I:$M,5,FALSE),"") -> #NAME? | X19: =_xlfn.IFNA($C$20+VLOOKUP(X$14,'PUNIndex e PUN per fascia'!$I:$M,5,FALSE),"") -> #NAME? | Y19: =_xlfn.IFNA($C$20+VLOOKUP(Y$14,'PUNIndex e PUN per fascia'!$I:$M,5,FALSE),"") -> #NAME? | Z19: =_xlfn.IFNA($C$20+VLOOKUP(Z$14,'PUNIndex e PUN per fascia'!$I:$M,5,FALSE),"") -> #NAME?
B20: F3 | C20: 1.66 | E20: non attivo | F20: =_xlfn.IFNA($C$20+VLOOKUP(F$16,'PUNIndex e PUN per fascia'!$I:$M,5,FALSE),"") -> #NAME? | G20: =_xlfn.IFNA($C$20+VLOOKUP(G$16,'PUNIndex e PUN per fascia'!$I:$M,5,FALSE),"") -> #NAME? | H20: =_xlfn.IFNA($C$20+VLOOKUP(H$16,'PUNIndex e PUN per fascia'!$I:$M,5,FALSE),"") -> #NAME? | I20: =_xlfn.IFNA($C$20+VLOOKUP(I$16,'PUNIndex e PUN per fascia'!$I:$M,5,FALSE),"") -> #NAME? | J20: =_xlfn.IFNA($C$20+VLOOKUP(J$16,'PUNIndex e PUN per fascia'!$I:$M,5,FALSE),"") -> #NAME? | K20: =_xlfn.IFNA($C$20+VLOOKUP(K$16,'PUNIndex e PUN per fascia'!$I:$M,5,FALSE),"") -> #NAME? | L20: =_xlfn.IFNA($C$20+VLOOKUP(L$16,'PUNIndex e PUN per fascia'!$I:$M,5,FALSE),"") -> #NAME? | M20: =_xlfn.IFNA($C$20+VLOOKUP(M$16,'PUNIndex e PUN per fascia'!$I:$M,5,FALSE),"") -> #NAME? | ... Q20: =_xlfn.IFNA($C$20+VLOOKUP(Q$16,'PUNIndex e PUN per fascia'!$I:$M,5,FALSE),"") -> #NAME? | R20: =_xlfn.IFNA($C$20+VLOOKUP(R$14,'PUNIndex e PUN per fascia'!$I:$M,5,FALSE),"") -> #NAME?
A21: =+A9& "- Prezzi variabili al netto delle perdite di rete (Euro/MWh)" -> Lotto 8: Toscana- Prezzi variabili al netto delle perdite di rete (Euro/MWh)

Sheet Lotto 9
Q1: torna al SOMMARIO
A4: Energia elettrica 19
A5: Convenzione per la fornitura di energia elettrica a prezzo fisso o a prezzo variabile e servizi connessi per tutte le Pubbliche Amministrazioni
A7: Configuratore corrispettivi a Prezzo Variabile per la fornitura di Energia Elettrica edizione 19
A9: =+SOMMARIO!A18 -> Lotto 9: Umbria, Marche
A11: Sconto PA Virtuose S | C11: 0,1 Euro/MWh
A12: Opzione Verde | C12: 0,9 Euro/MWh
A15: Forniture a Prezzo variabile a 12 e 24 mesi
B16: Fascia oraria | C16: ΨVAR | E16: 44531 | F16: 44562 | G16: 44593 | H16: 44621 | I16: 44652 | J16: 44682 | K16: 44713 | L16: 44743 | M16: 44774 | N16: 44805 | O16: 44835 | P16: 44866 | Q16: 44896 | S16: =_xlfn.IFNA($C$17+VLOOKUP(S$14,'PUNIndex e PUN per fascia'!$I:$M,2,FALSE),"") -> #NAME? | T16: =_xlfn.IFNA($C$17+VLOOKUP(T$14,'PUNIndex e PUN per fascia'!$I:$M,2,FALSE),"") -> #NAME? | U16: =_xlfn.IFNA($C$17+VLOOKUP(U$14,'PUNIndex e PUN per fascia'!$I:$M,2,FALSE),"") -> #NAME? | V16: =_xlfn.IFNA($C$17+VLOOKUP(V$14,'PUNIndex e PUN per fascia'!$I:$M,2,FALSE),"") -> #NAME? | W16: =_xlfn.IFNA($C$17+VLOOKUP(W$14,'PUNIndex e PUN per fascia'!$I:$M,2,FALSE),"") -> #NAME? | X16: =_xlfn.IFNA($C$17+VLOOKUP(X$14,'PUNIndex e PUN per fascia'!$I:$M,2,FALSE),"") -> #NAME? | Y16: =_xlfn.IFNA($C$17+VLOOKUP(Y$14,'PUNIndex e PUN per fascia'!$I:$M,2,FALSE),"") -> #NAME? | Z16: =_xlfn.IFNA($C$17+VLOOKUP(Z$14,'PUNIndex e PUN per fascia'!$I:$M,2,FALSE),"") -> #NAME?
B17: F0 | C17: 1.3 | E17: non attivo | F17: =_xlfn.IFNA($C$17+VLOOKUP(F$16,'PUNIndex e PUN per fascia'!$I:$M,2,FALSE),"") -> #NAME? | G17: =_xlfn.IFNA($C$17+VLOOKUP(G$16,'PUNIndex e PUN per fascia'!$I:$M,2,FALSE),"") -> #NAME? | H17: =_xlfn.IFNA($C$17+VLOOKUP(H$16,'PUNIndex e PUN per fascia'!$I:$M,2,FALSE),"") -> #NAME? | I17: =_xlfn.IFNA($C$17+VLOOKUP(I$16,'PUNIndex e PUN per fascia'!$I:$M,2,FALSE),"") -> #NAME? | J17: =_xlfn.IFNA($C$17+VLOOKUP(J$16,'PUNIndex e PUN per fascia'!$I:$M,2,FALSE),"") -> #NAME? | K17: =_xlfn.IFNA($C$17+VLOOKUP(K$16,'PUNIndex e PUN per fascia'!$I:$M,2,FALSE),"") -> #NAME? | L17: =_xlfn.IFNA($C$17+VLOOKUP(L$16,'PUNIndex e PUN per fascia'!$I:$M,2,FALSE),"") -> #NAME? | M17: =_xlfn.IFNA($C$17+VLOOKUP(M$16,'PUNIndex e PUN per fascia'!$I:$M,2,FALSE),"") -> #NAME? | ... Q17: =_xlfn.IFNA($C$17+VLOOKUP(Q$16,'PUNIndex e PUN per fascia'!$I:$M,2,FALSE),"") -> #NAME? | R17: =_xlfn.IFNA($C$17+VLOOKUP(R$14,'PUNIndex e PUN per fascia'!$I:$M,2,FALSE),"") -> #NAME? | S17: =_xlfn.IFNA($C$18+VLOOKUP(S$14,'PUNIndex e PUN per fascia'!$I:$M,3,FALSE),"") -> #NAME? | T17: =_xlfn.IFNA($C$18+VLOOKUP(T$14,'PUNIndex e PUN per fascia'!$I:$M,3,FALSE),"") -> #NAME? | U17: =_xlfn.IFNA($C$18+VLOOKUP(U$14,'PUNIndex e PUN per fascia'!$I:$M,3,FALSE),"") -> #NAME? | V17: =_xlfn.IFNA($C$18+VLOOKUP(V$14,'PUNIndex e PUN per fascia'!$I:$M,3,FALSE),"") -> #NAME? | W17: =_xlfn.IFNA($C$18+VLOOKUP(W$14,'PUNIndex e PUN per fascia'!$I:$M,3,FALSE),"") -> #NAME? | X17: =_xlfn.IFNA($C$18+VLOOKUP(X$14,'PUNIndex e PUN per fascia'!$I:$M,3,FALSE),"") -> #NAME? | Y17: =_xlfn.IFNA($C$18+VLOOKUP(Y$14,'PUNIndex e PUN per fascia'!$I:$M,3,FALSE),"") -> #NAME? | Z17: =_xlfn.IFNA($C$18+VLOOKUP(Z$14,'PUNIndex e PUN per fascia'!$I:$M,3,FALSE),"") -> #NAME?
B18: F1 | C18: 1.3 | E18: non attivo | F18: =_xlfn.IFNA($C$18+VLOOKUP(F$16,'PUNIndex e PUN per fascia'!$I:$M,3,FALSE),"") -> #NAME? | G18: =_xlfn.IFNA($C$18+VLOOKUP(G$16,'PUNIndex e PUN per fascia'!$I:$M,3,FALSE),"") -> #NAME? | H18: =_xlfn.IFNA($C$18+VLOOKUP(H$16,'PUNIndex e PUN per fascia'!$I:$M,3,FALSE),"") -> #NAME? | I18: =_xlfn.IFNA($C$18+VLOOKUP(I$16,'PUNIndex e PUN per fascia'!$I:$M,3,FALSE),"") -> #NAME? | J18: =_xlfn.IFNA($C$18+VLOOKUP(J$16,'PUNIndex e PUN per fascia'!$I:$M,3,FALSE),"") -> #NAME? | K18: =_xlfn.IFNA($C$18+VLOOKUP(K$16,'PUNIndex e PUN per fascia'!$I:$M,3,FALSE),"") -> #NAME? | L18: =_xlfn.IFNA($C$18+VLOOKUP(L$16,'PUNIndex e PUN per fascia'!$I:$M,3,FALSE),"") -> #NAME? | M18: =_xlfn.IFNA($C$18+VLOOKUP(M$16,'PUNIndex e PUN per fascia'!$I:$M,3,FALSE),"") -> #NAME? | ... Q18: =_xlfn.IFNA($C$18+VLOOKUP(Q$16,'PUNIndex e PUN per fascia'!$I:$M,3,FALSE),"") -> #NAME? | R18: =_xlfn.IFNA($C$18+VLOOKUP(R$14,'PUNIndex e PUN per fascia'!$I:$M,3,FALSE),"") -> #NAME? | S18: =_xlfn.IFNA($C$19+VLOOKUP(S$14,'PUNIndex e PUN per fascia'!$I:$M,4,FALSE),"") -> #NAME? | T18: =_xlfn.IFNA($C$19+VLOOKUP(T$14,'PUNIndex e PUN per fascia'!$I:$M,4,FALSE),"") -> #NAME? | U18: =_xlfn.IFNA($C$19+VLOOKUP(U$14,'PUNIndex e PUN per fascia'!$I:$M,4,FALSE),"") -> #NAME? | V18: =_xlfn.IFNA($C$19+VLOOKUP(V$14,'PUNIndex e PUN per fascia'!$I:$M,4,FALSE),"") -> #NAME? | W18: =_xlfn.IFNA($C$19+VLOOKUP(W$14,'PUNIndex e PUN per fascia'!$I:$M,4,FALSE),"") -> #NAME? | X18: =_xlfn.IFNA($C$19+VLOOKUP(X$14,'PUNIndex e PUN per fascia'!$I:$M,4,FALSE),"") -> #NAME? | Y18: =_xlfn.IFNA($C$19+VLOOKUP(Y$14,'PUNIndex e PUN per fascia'!$I:$M,4,FALSE),"") -> #NAME? | Z18: =_xlfn.IFNA($C$19+VLOOKUP(Z$14,'PUNIndex e PUN per fascia'!$I:$M,4,FALSE),"") -> #NAME?
B19: F2 | C19: 1.3 | E19: non attivo | F19: =_xlfn.IFNA($C$19+VLOOKUP(F$16,'PUNIndex e PUN per fascia'!$I:$M,4,FALSE),"") -> #NAME? | G19: =_xlfn.IFNA($C$19+VLOOKUP(G$16,'PUNIndex e PUN per fascia'!$I:$M,4,FALSE),"") -> #NAME? | H19: =_xlfn.IFNA($C$19+VLOOKUP(H$16,'PUNIndex e PUN per fascia'!$I:$M,4,FALSE),"") -> #NAME? | I19: =_xlfn.IFNA($C$19+VLOOKUP(I$16,'PUNIndex e PUN per fascia'!$I:$M,4,FALSE),"") -> #NAME? | J19: =_xlfn.IFNA($C$19+VLOOKUP(J$16,'PUNIndex e PUN per fascia'!$I:$M,4,FALSE),"") -> #NAME? | K19: =_xlfn.IFNA($C$19+VLOOKUP(K$16,'PUNIndex e PUN per fascia'!$I:$M,4,FALSE),"") -> #NAME? | L19: =_xlfn.IFNA($C$19+VLOOKUP(L$16,'PUNIndex e PUN per fascia'!$I:$M,4,FALSE),"") -> #NAME? | M19: =_xlfn.IFNA($C$19+VLOOKUP(M$16,'PUNIndex e PUN per fascia'!$I:$M,4,FALSE),"") -> #NAME? | ... Q19: =_xlfn.IFNA($C$19+VLOOKUP(Q$16,'PUNIndex e PUN per fascia'!$I:$M,4,FALSE),"") -> #NAME? | R19: =_xlfn.IFNA($C$19+VLOOKUP(R$14,'PUNIndex e PUN per fascia'!$I:$M,4,FALSE),"") -> #NAME? | S19: =_xlfn.IFNA($C$20+VLOOKUP(S$14,'PUNIndex e PUN per fascia'!$I:$M,5,FALSE),"") -> #NAME? | T19: =_xlfn.IFNA($C$20+VLOOKUP(T$14,'PUNIndex e PUN per fascia'!$I:$M,5,FALSE),"") -> #NAME? | U19: =_xlfn.IFNA($C$20+VLOOKUP(U$14,'PUNIndex e PUN per fascia'!$I:$M,5,FALSE),"") -> #NAME? | V19: =_xlfn.IFNA($C$20+VLOOKUP(V$14,'PUNIndex e PUN per fascia'!$I:$M,5,FALSE),"") -> #NAME? | W19: =_xlfn.IFNA($C$20+VLOOKUP(W$14,'PUNIndex e PUN per fascia'!$I:$M,5,FALSE),"") -> #NAME? | X19: =_xlfn.IFNA($C$20+VLOOKUP(X$14,'PUNIndex e PUN per fascia'!$I:$M,5,FALSE),"") -> #NAME? | Y19: =_xlfn.IFNA($C$20+VLOOKUP(Y$14,'PUNIndex e PUN per fascia'!$I:$M,5,FALSE),"") -> #NAME? | Z19: =_xlfn.IFNA($C$20+VLOOKUP(Z$14,'PUNIndex e PUN per fascia'!$I:$M,5,FALSE),"") -> #NAME?
B20: F3 | C20: 1.3 | E20: non attivo | F20: =_xlfn.IFNA($C$20+VLOOKUP(F$16,'PUNIndex e PUN per fascia'!$I:$M,5,FALSE),"") -> #NAME? | G20: =_xlfn.IFNA($C$20+VLOOKUP(G$16,'PUNIndex e PUN per fascia'!$I:$M,5,FALSE),"") -> #NAME? | H20: =_xlfn.IFNA($C$20+VLOOKUP(H$16,'PUNIndex e PUN per fascia'!$I:$M,5,FALSE),"") -> #NAME? | I20: =_xlfn.IFNA($C$20+VLOOKUP(I$16,'PUNIndex e PUN per fascia'!$I:$M,5,FALSE),"") -> #NAME? | J20: =_xlfn.IFNA($C$20+VLOOKUP(J$16,'PUNIndex e PUN per fascia'!$I:$M,5,FALSE),"") -> #NAME? | K20: =_xlfn.IFNA($C$20+VLOOKUP(K$16,'PUNIndex e PUN per fascia'!$I:$M,5,FALSE),"") -> #NAME? | L20: =_xlfn.IFNA($C$20+VLOOKUP(L$16,'PUNIndex e PUN per fascia'!$I:$M,5,FALSE),"") -> #NAME? | M20: =_xlfn.IFNA($C$20+VLOOKUP(M$16,'PUNIndex e PUN per fascia'!$I:$M,5,FALSE),"") -> #NAME? | ... Q20: =_xlfn.IFNA($C$20+VLOOKUP(Q$16,'PUNIndex e PUN per fascia'!$I:$M,5,FALSE),"") -> #NAME? | R20: =_xlfn.IFNA($C$20+VLOOKUP(R$14,'PUNIndex e PUN per fascia'!$I:$M,5,FALSE),"") -> #NAME?
A21: =+A9& "- Prezzi variabili al netto delle perdite di rete (Euro/MWh)" -> Lotto 9: Umbria, Marche- Prezzi variabili al netto delle perdite di rete (Euro/MWh)

Sheet Lotto 10
Q1: torna al SOMMARIO
A4: Energia elettrica 19
A5: Convenzione per la fornitura di energia elettrica a prezzo fisso o a prezzo variabile e servizi connessi per tutte le Pubbliche Amministrazioni
A7: Configuratore corrispettivi a Prezzo Variabile per la fornitura di Energia Elettrica edizione 19
A9: =+SOMMARIO!A19 -> Lotto 10: Provincia di Roma
A11: Sconto PA Virtuose S | C11: 0,95 Euro/MWh
A12: Opzione Verde | C12: 0,9 Euro/MWh
A15: Forniture a Prezzo variabile a 12 e 24 mesi
B16: Fascia oraria | C16: ΨVAR | E16: 44531 | F16: 44562 | G16: 44593 | H16: 44621 | I16: 44652 | J16: 44682 | K16: 44713 | L16: 44743 | M16: 44774 | N16: 44805 | O16: 44835 | P16: 44866 | Q16: 44896 | S16: =_xlfn.IFNA($C$17+VLOOKUP(S$14,'PUNIndex e PUN per fascia'!$I:$M,2,FALSE),"") -> #NAME? | T16: =_xlfn.IFNA($C$17+VLOOKUP(T$14,'PUNIndex e PUN per fascia'!$I:$M,2,FALSE),"") -> #NAME? | U16: =_xlfn.IFNA($C$17+VLOOKUP(U$14,'PUNIndex e PUN per fascia'!$I:$M,2,FALSE),"") -> #NAME? | V16: =_xlfn.IFNA($C$17+VLOOKUP(V$14,'PUNIndex e PUN per fascia'!$I:$M,2,FALSE),"") -> #NAME? | W16: =_xlfn.IFNA($C$17+VLOOKUP(W$14,'PUNIndex e PUN per fascia'!$I:$M,2,FALSE),"") -> #NAME? | X16: =_xlfn.IFNA($C$17+VLOOKUP(X$14,'PUNIndex e PUN per fascia'!$I:$M,2,FALSE),"") -> #NAME? | Y16: =_xlfn.IFNA($C$17+VLOOKUP(Y$14,'PUNIndex e PUN per fascia'!$I:$M,2,FALSE),"") -> #NAME? | Z16: =_xlfn.IFNA($C$17+VLOOKUP(Z$14,'PUNIndex e PUN per fascia'!$I:$M,2,FALSE),"") -> #NAME?
B17: F0 | C17: 2.15 | E17: =_xlfn.IFNA($C$17+VLOOKUP(E$16,'PUNIndex e PUN per fascia'!$I:$M,2,FALSE),"") -> #NAME? | F17: =_xlfn.IFNA($C$17+VLOOKUP(F$16,'PUNIndex e PUN per fascia'!$I:$M,2,FALSE),"") -> #NAME? | G17: =_xlfn.IFNA($C$17+VLOOKUP(G$16,'PUNIndex e PUN per fascia'!$I:$M,2,FALSE),"") -> #NAME? | H17: =_xlfn.IFNA($C$17+VLOOKUP(H$16,'PUNIndex e PUN per fascia'!$I:$M,2,FALSE),"") -> #NAME? | I17: =_xlfn.IFNA($C$17+VLOOKUP(I$16,'PUNIndex e PUN per fascia'!$I:$M,2,FALSE),"") -> #NAME? | J17: =_xlfn.IFNA($C$17+VLOOKUP(J$16,'PUNIndex e PUN per fascia'!$I:$M,2,FALSE),"") -> #NAME? | K17: =_xlfn.IFNA($C$17+VLOOKUP(K$16,'PUNIndex e PUN per fascia'!$I:$M,2,FALSE),"") -> #NAME? | L17: =_xlfn.IFNA($C$17+VLOOKUP(L$16,'PUNIndex e PUN per fascia'!$I:$M,2,FALSE),"") -> #NAME? | ... Q17: =_xlfn.IFNA($C$17+VLOOKUP(Q$16,'PUNIndex e PUN per fascia'!$I:$M,2,FALSE),"") -> #NAME? | R17: =_xlfn.IFNA($C$17+VLOOKUP(R$14,'PUNIndex e PUN per fascia'!$I:$M,2,FALSE),"") -> #NAME? | S17: =_xlfn.IFNA($C$18+VLOOKUP(S$14,'PUNIndex e PUN per fascia'!$I:$M,3,FALSE),"") -> #NAME? | T17: =_xlfn.IFNA($C$18+VLOOKUP(T$14,'PUNIndex e PUN per fascia'!$I:$M,3,FALSE),"") -> #NAME? | U17: =_xlfn.IFNA($C$18+VLOOKUP(U$14,'PUNIndex e PUN per fascia'!$I:$M,3,FALSE),"") -> #NAME? | V17: =_xlfn.IFNA($C$18+VLOOKUP(V$14,'PUNIndex e PUN per fascia'!$I:$M,3,FALSE),"") -> #NAME? | W17: =_xlfn.IFNA($C$18+VLOOKUP(W$14,'PUNIndex e PUN per fascia'!$I:$M,3,FALSE),"") -> #NAME? | X17: =_xlfn.IFNA($C$18+VLOOKUP(X$14,'PUNIndex e PUN per fascia'!$I:$M,3,FALSE),"") -> #NAME? | Y17: =_xlfn.IFNA($C$18+VLOOKUP(Y$14,'PUNIndex e PUN per fascia'!$I:$M,3,FALSE),"") -> #NAME? | Z17: =_xlfn.IFNA($C$18+VLOOKUP(Z$14,'PUNIndex e PUN per fascia'!$I:$M,3,FALSE),"") -> #NAME?
B18: F1 | C18: 2.15 | E18: =_xlfn.IFNA($C$18+VLOOKUP(E$16,'PUNIndex e PUN per fascia'!$I:$M,3,FALSE),"") -> #NAME? | F18: =_xlfn.IFNA($C$18+VLOOKUP(F$16,'PUNIndex e PUN per fascia'!$I:$M,3,FALSE),"") -> #NAME? | G18: =_xlfn.IFNA($C$18+VLOOKUP(G$16,'PUNIndex e PUN per fascia'!$I:$M,3,FALSE),"") -> #NAME? | H18: =_xlfn.IFNA($C$18+VLOOKUP(H$16,'PUNIndex e PUN per fascia'!$I:$M,3,FALSE),"") -> #NAME? | I18: =_xlfn.IFNA($C$18+VLOOKUP(I$16,'PUNIndex e PUN per fascia'!$I:$M,3,FALSE),"") -> #NAME? | J18: =_xlfn.IFNA($C$18+VLOOKUP(J$16,'PUNIndex e PUN per fascia'!$I:$M,3,FALSE),"") -> #NAME? | K18: =_xlfn.IFNA($C$18+VLOOKUP(K$16,'PUNIndex e PUN per fascia'!$I:$M,3,FALSE),"") -> #NAME? | L18: =_xlfn.IFNA($C$18+VLOOKUP(L$16,'PUNIndex e PUN per fascia'!$I:$M,3,FALSE),"") -> #NAME? | ... Q18: =_xlfn.IFNA($C$18+VLOOKUP(Q$16,'PUNIndex e PUN per fascia'!$I:$M,3,FALSE),"") -> #NAME? | R18: =_xlfn.IFNA($C$18+VLOOKUP(R$14,'PUNIndex e PUN per fascia'!$I:$M,3,FALSE),"") -> #NAME? | S18: =_xlfn.IFNA($C$19+VLOOKUP(S$14,'PUNIndex e PUN per fascia'!$I:$M,4,FALSE),"") -> #NAME? | T18: =_xlfn.IFNA($C$19+VLOOKUP(T$14,'PUNIndex e PUN per fascia'!$I:$M,4,FALSE),"") -> #NAME? | U18: =_xlfn.IFNA($C$19+VLOOKUP(U$14,'PUNIndex e PUN per fascia'!$I:$M,4,FALSE),"") -> #NAME? | V18: =_xlfn.IFNA($C$19+VLOOKUP(V$14,'PUNIndex e PUN per fascia'!$I:$M,4,FALSE),"") -> #NAME? | W18: =_xlfn.IFNA($C$19+VLOOKUP(W$14,'PUNIndex e PUN per fascia'!$I:$M,4,FALSE),"") -> #NAME? | X18: =_xlfn.IFNA($C$19+VLOOKUP(X$14,'PUNIndex e PUN per fascia'!$I:$M,4,FALSE),"") -> #NAME? | Y18: =_xlfn.IFNA($C$19+VLOOKUP(Y$14,'PUNIndex e PUN per fascia'!$I:$M,4,FALSE),"") -> #NAME? | Z18: =_xlfn.IFNA($C$19+VLOOKUP(Z$14,'PUNIndex e PUN per fascia'!$I:$M,4,FALSE),"") -> #NAME?
B19: F2 | C19: 2.15 | E19: =_xlfn.IFNA($C$19+VLOOKUP(E$16,'PUNIndex e PUN per fascia'!$I:$M,4,FALSE),"") -> #NAME? | F19: =_xlfn.IFNA($C$19+VLOOKUP(F$16,'PUNIndex e PUN per fascia'!$I:$M,4,FALSE),"") -> #NAME? | G19: =_xlfn.IFNA($C$19+VLOOKUP(G$16,'PUNIndex e PUN per fascia'!$I:$M,4,FALSE),"") -> #NAME? | H19: =_xlfn.IFNA($C$19+VLOOKUP(H$16,'PUNIndex e PUN per fascia'!$I:$M,4,FALSE),"") -> #NAME? | I19: =_xlfn.IFNA($C$19+VLOOKUP(I$16,'PUNIndex e PUN per fascia'!$I:$M,4,FALSE),"") -> #NAME? | J19: =_xlfn.IFNA($C$19+VLOOKUP(J$16,'PUNIndex e PUN per fascia'!$I:$M,4,FALSE),"") -> #NAME? | K19: =_xlfn.IFNA($C$19+VLOOKUP(K$16,'PUNIndex e PUN per fascia'!$I:$M,4,FALSE),"") -> #NAME? | L19: =_xlfn.IFNA($C$19+VLOOKUP(L$16,'PUNIndex e PUN per fascia'!$I:$M,4,FALSE),"") -> #NAME? | ... Q19: =_xlfn.IFNA($C$19+VLOOKUP(Q$16,'PUNIndex e PUN per fascia'!$I:$M,4,FALSE),"") -> #NAME? | R19: =_xlfn.IFNA($C$19+VLOOKUP(R$14,'PUNIndex e PUN per fascia'!$I:$M,4,FALSE),"") -> #NAME? | S19: =_xlfn.IFNA($C$20+VLOOKUP(S$14,'PUNIndex e PUN per fascia'!$I:$M,5,FALSE),"") -> #NAME? | T19: =_xlfn.IFNA($C$20+VLOOKUP(T$14,'PUNIndex e PUN per fascia'!$I:$M,5,FALSE),"") -> #NAME? | U19: =_xlfn.IFNA($C$20+VLOOKUP(U$14,'PUNIndex e PUN per fascia'!$I:$M,5,FALSE),"") -> #NAME? | V19: =_xlfn.IFNA($C$20+VLOOKUP(V$14,'PUNIndex e PUN per fascia'!$I:$M,5,FALSE),"") -> #NAME? | W19: =_xlfn.IFNA($C$20+VLOOKUP(W$14,'PUNIndex e PUN per fascia'!$I:$M,5,FALSE),"") -> #NAME? | X19: =_xlfn.IFNA($C$20+VLOOKUP(X$14,'PUNIndex e PUN per fascia'!$I:$M,5,FALSE),"") -> #NAME? | Y19: =_xlfn.IFNA($C$20+VLOOKUP(Y$14,'PUNIndex e PUN per fascia'!$I:$M,5,FALSE),"") -> #NAME? | Z19: =_xlfn.IFNA($C$20+VLOOKUP(Z$14,'PUNIndex e PUN per fascia'!$I:$M,5,FALSE),"") -> #NAME?
B20: F3 | C20: 2.15 | E20: =_xlfn.IFNA($C$20+VLOOKUP(E$16,'PUNIndex e PUN per fascia'!$I:$M,5,FALSE),"") -> #NAME? | F20: =_xlfn.IFNA($C$20+VLOOKUP(F$16,'PUNIndex e PUN per fascia'!$I:$M,5,FALSE),"") -> #NAME? | G20: =_xlfn.IFNA($C$20+VLOOKUP(G$16,'PUNIndex e PUN per fascia'!$I:$M,5,FALSE),"") -> #NAME? | H20: =_xlfn.IFNA($C$20+VLOOKUP(H$16,'PUNIndex e PUN per fascia'!$I:$M,5,FALSE),"") -> #NAME? | I20: =_xlfn.IFNA($C$20+VLOOKUP(I$16,'PUNIndex e PUN per fascia'!$I:$M,5,FALSE),"") -> #NAME? | J20: =_xlfn.IFNA($C$20+VLOOKUP(J$16,'PUNIndex e PUN per fascia'!$I:$M,5,FALSE),"") -> #NAME? | K20: =_xlfn.IFNA($C$20+VLOOKUP(K$16,'PUNIndex e PUN per fascia'!$I:$M,5,FALSE),"") -> #NAME? | L20: =_xlfn.IFNA($C$20+VLOOKUP(L$16,'PUNIndex e PUN per fascia'!$I:$M,5,FALSE),"") -> #NAME? | ... Q20: =_xlfn.IFNA($C$20+VLOOKUP(Q$16,'PUNIndex e PUN per fascia'!$I:$M,5,FALSE),"") -> #NAME? | R20: =_xlfn.IFNA($C$20+VLOOKUP(R$14,'PUNIndex e PUN per fascia'!$I:$M,5,FALSE),"") -> #NAME?
A21: =+A9& "- Prezzi variabili al netto delle perdite di rete (Euro/MWh)" -> Lotto 10: Provincia di Roma- Prezzi variabili al netto delle perdite di rete (Euro/MWh)

Sheet Lotto 11
Q1: torna al SOMMARIO
A4: Energia elettrica 19
A5: Convenzione per la fornitura di energia elettrica a prezzo fisso o a prezzo variabile e servizi connessi per tutte le Pubbliche Amministrazioni
A7: Configuratore corrispettivi a Prezzo Variabile per la fornitura di Energia Elettrica edizione 19
A9: =+SOMMARIO!A20 -> Lotto 11: Lazio esclusa la Provincia di Roma
A11: Sconto PA Virtuose S | C11: 0,01 Euro/MWh
A12: Opzione Verde | C12: 0,6 Euro/MWh
A15: Forniture a Prezzo variabile a 12 e 24 mesi
B16: Fascia oraria | C16: ΨVAR | E16: 44531 | F16: 44562 | G16: 44593 | H16: 44621 | I16: 44652 | J16: 44682 | K16: 44713 | L16: 44743 | M16: 44774 | N16: 44805 | O16: 44835 | P16: 44866 | Q16: 44896 | S16: =_xlfn.IFNA($C$17+VLOOKUP(S$14,'PUNIndex e PUN per fascia'!$I:$M,2,FALSE),"") -> #NAME? | T16: =_xlfn.IFNA($C$17+VLOOKUP(T$14,'PUNIndex e PUN per fascia'!$I:$M,2,FALSE),"") -> #NAME? | U16: =_xlfn.IFNA($C$17+VLOOKUP(U$14,'PUNIndex e PUN per fascia'!$I:$M,2,FALSE),"") -> #NAME? | V16: =_xlfn.IFNA($C$17+VLOOKUP(V$14,'PUNIndex e PUN per fascia'!$I:$M,2,FALSE),"") -> #NAME? | W16: =_xlfn.IFNA($C$17+VLOOKUP(W$14,'PUNIndex e PUN per fascia'!$I:$M,2,FALSE),"") -> #NAME? | X16: =_xlfn.IFNA($C$17+VLOOKUP(X$14,'PUNIndex e PUN per fascia'!$I:$M,2,FALSE),"") -> #NAME? | Y16: =_xlfn.IFNA($C$17+VLOOKUP(Y$14,'PUNIndex e PUN per fascia'!$I:$M,2,FALSE),"") -> #NAME? | Z16: =_xlfn.IFNA($C$17+VLOOKUP(Z$14,'PUNIndex e PUN per fascia'!$I:$M,2,FALSE),"") -> #NAME?
B17: F0 | C17: 1.45 | E17: non attivo | F17: =_xlfn.IFNA($C$17+VLOOKUP(F$16,'PUNIndex e PUN per fascia'!$I:$M,2,FALSE),"") -> #NAME? | G17: =_xlfn.IFNA($C$17+VLOOKUP(G$16,'PUNIndex e PUN per fascia'!$I:$M,2,FALSE),"") -> #NAME? | H17: =_xlfn.IFNA($C$17+VLOOKUP(H$16,'PUNIndex e PUN per fascia'!$I:$M,2,FALSE),"") -> #NAME? | I17: =_xlfn.IFNA($C$17+VLOOKUP(I$16,'PUNIndex e PUN per fascia'!$I:$M,2,FALSE),"") -> #NAME? | J17: =_xlfn.IFNA($C$17+VLOOKUP(J$16,'PUNIndex e PUN per fascia'!$I:$M,2,FALSE),"") -> #NAME? | K17: =_xlfn.IFNA($C$17+VLOOKUP(K$16,'PUNIndex e PUN per fascia'!$I:$M,2,FALSE),"") -> #NAME? | L17: =_xlfn.IFNA($C$17+VLOOKUP(L$16,'PUNIndex e PUN per fascia'!$I:$M,2,FALSE),"") -> #NAME? | M17: =_xlfn.IFNA($C$17+VLOOKUP(M$16,'PUNIndex e PUN per fascia'!$I:$M,2,FALSE),"") -> #NAME? | ... Q17: =_xlfn.IFNA($C$17+VLOOKUP(Q$16,'PUNIndex e PUN per fascia'!$I:$M,2,FALSE),"") -> #NAME? | R17: =_xlfn.IFNA($C$17+VLOOKUP(R$14,'PUNIndex e PUN per fascia'!$I:$M,2,FALSE),"") -> #NAME? | S17: =_xlfn.IFNA($C$18+VLOOKUP(S$14,'PUNIndex e PUN per fascia'!$I:$M,3,FALSE),"") -> #NAME? | T17: =_xlfn.IFNA($C$18+VLOOKUP(T$14,'PUNIndex e PUN per fascia'!$I:$M,3,FALSE),"") -> #NAME? | U17: =_xlfn.IFNA($C$18+VLOOKUP(U$14,'PUNIndex e PUN per fascia'!$I:$M,3,FALSE),"") -> #NAME? | V17: =_xlfn.IFNA($C$18+VLOOKUP(V$14,'PUNIndex e PUN per fascia'!$I:$M,3,FALSE),"") -> #NAME? | W17: =_xlfn.IFNA($C$18+VLOOKUP(W$14,'PUNIndex e PUN per fascia'!$I:$M,3,FALSE),"") -> #NAME? | X17: =_xlfn.IFNA($C$18+VLOOKUP(X$14,'PUNIndex e PUN per fascia'!$I:$M,3,FALSE),"") -> #NAME? | Y17: =_xlfn.IFNA($C$18+VLOOKUP(Y$14,'PUNIndex e PUN per fascia'!$I:$M,3,FALSE),"") -> #NAME? | Z17: =_xlfn.IFNA($C$18+VLOOKUP(Z$14,'PUNIndex e PUN per fascia'!$I:$M,3,FALSE),"") -> #NAME?
B18: F1 | C18: 1.45 | E18: non attivo | F18: =_xlfn.IFNA($C$18+VLOOKUP(F$16,'PUNIndex e PUN per fascia'!$I:$M,3,FALSE),"") -> #NAME? | G18: =_xlfn.IFNA($C$18+VLOOKUP(G$16,'PUNIndex e PUN per fascia'!$I:$M,3,FALSE),"") -> #NAME? | H18: =_xlfn.IFNA($C$18+VLOOKUP(H$16,'PUNIndex e PUN per fascia'!$I:$M,3,FALSE),"") -> #NAME? | I18: =_xlfn.IFNA($C$18+VLOOKUP(I$16,'PUNIndex e PUN per fascia'!$I:$M,3,FALSE),"") -> #NAME? | J18: =_xlfn.IFNA($C$18+VLOOKUP(J$16,'PUNIndex e PUN per fascia'!$I:$M,3,FALSE),"") -> #NAME? | K18: =_xlfn.IFNA($C$18+VLOOKUP(K$16,'PUNIndex e PUN per fascia'!$I:$M,3,FALSE),"") -> #NAME? | L18: =_xlfn.IFNA($C$18+VLOOKUP(L$16,'PUNIndex e PUN per fascia'!$I:$M,3,FALSE),"") -> #NAME? | M18: =_xlfn.IFNA($C$18+VLOOKUP(M$16,'PUNIndex e PUN per fascia'!$I:$M,3,FALSE),"") -> #NAME? | ... Q18: =_xlfn.IFNA($C$18+VLOOKUP(Q$16,'PUNIndex e PUN per fascia'!$I:$M,3,FALSE),"") -> #NAME? | R18: =_xlfn.IFNA($C$18+VLOOKUP(R$14,'PUNIndex e PUN per fascia'!$I:$M,3,FALSE),"") -> #NAME? | S18: =_xlfn.IFNA($C$19+VLOOKUP(S$14,'PUNIndex e PUN per fascia'!$I:$M,4,FALSE),"") -> #NAME? | T18: =_xlfn.IFNA($C$19+VLOOKUP(T$14,'PUNIndex e PUN per fascia'!$I:$M,4,FALSE),"") -> #NAME? | U18: =_xlfn.IFNA($C$19+VLOOKUP(U$14,'PUNIndex e PUN per fascia'!$I:$M,4,FALSE),"") -> #NAME? | V18: =_xlfn.IFNA($C$19+VLOOKUP(V$14,'PUNIndex e PUN per fascia'!$I:$M,4,FALSE),"") -> #NAME? | W18: =_xlfn.IFNA($C$19+VLOOKUP(W$14,'PUNIndex e PUN per fascia'!$I:$M,4,FALSE),"") -> #NAME? | X18: =_xlfn.IFNA($C$19+VLOOKUP(X$14,'PUNIndex e PUN per fascia'!$I:$M,4,FALSE),"") -> #NAME? | Y18: =_xlfn.IFNA($C$19+VLOOKUP(Y$14,'PUNIndex e PUN per fascia'!$I:$M,4,FALSE),"") -> #NAME? | Z18: =_xlfn.IFNA($C$19+VLOOKUP(Z$14,'PUNIndex e PUN per fascia'!$I:$M,4,FALSE),"") -> #NAME?
B19: F2 | C19: 1.45 | E19: non attivo | F19: =_xlfn.IFNA($C$19+VLOOKUP(F$16,'PUNIndex e PUN per fascia'!$I:$M,4,FALSE),"") -> #NAME? | G19: =_xlfn.IFNA($C$19+VLOOKUP(G$16,'PUNIndex e PUN per fascia'!$I:$M,4,FALSE),"") -> #NAME? | H19: =_xlfn.IFNA($C$19+VLOOKUP(H$16,'PUNIndex e PUN per fascia'!$I:$M,4,FALSE),"") -> #NAME? | I19: =_xlfn.IFNA($C$19+VLOOKUP(I$16,'PUNIndex e PUN per fascia'!$I:$M,4,FALSE),"") -> #NAME? | J19: =_xlfn.IFNA($C$19+VLOOKUP(J$16,'PUNIndex e PUN per fascia'!$I:$M,4,FALSE),"") -> #NAME? | K19: =_xlfn.IFNA($C$19+VLOOKUP(K$16,'PUNIndex e PUN per fascia'!$I:$M,4,FALSE),"") -> #NAME? | L19: =_xlfn.IFNA($C$19+VLOOKUP(L$16,'PUNIndex e PUN per fascia'!$I:$M,4,FALSE),"") -> #NAME? | M19: =_xlfn.IFNA($C$19+VLOOKUP(M$16,'PUNIndex e PUN per fascia'!$I:$M,4,FALSE),"") -> #NAME? | ... Q19: =_xlfn.IFNA($C$19+VLOOKUP(Q$16,'PUNIndex e PUN per fascia'!$I:$M,4,FALSE),"") -> #NAME? | R19: =_xlfn.IFNA($C$19+VLOOKUP(R$14,'PUNIndex e PUN per fascia'!$I:$M,4,FALSE),"") -> #NAME? | S19: =_xlfn.IFNA($C$20+VLOOKUP(S$14,'PUNIndex e PUN per fascia'!$I:$M,5,FALSE),"") -> #NAME? | T19: =_xlfn.IFNA($C$20+VLOOKUP(T$14,'PUNIndex e PUN per fascia'!$I:$M,5,FALSE),"") -> #NAME? | U19: =_xlfn.IFNA($C$20+VLOOKUP(U$14,'PUNIndex e PUN per fascia'!$I:$M,5,FALSE),"") -> #NAME? | V19: =_xlfn.IFNA($C$20+VLOOKUP(V$14,'PUNIndex e PUN per fascia'!$I:$M,5,FALSE),"") -> #NAME? | W19: =_xlfn.IFNA($C$20+VLOOKUP(W$14,'PUNIndex e PUN per fascia'!$I:$M,5,FALSE),"") -> #NAME? | X19: =_xlfn.IFNA($C$20+VLOOKUP(X$14,'PUNIndex e PUN per fascia'!$I:$M,5,FALSE),"") -> #NAME? | Y19: =_xlfn.IFNA($C$20+VLOOKUP(Y$14,'PUNIndex e PUN per fascia'!$I:$M,5,FALSE),"") -> #NAME? | Z19: =_xlfn.IFNA($C$20+VLOOKUP(Z$14,'PUNIndex e PUN per fascia'!$I:$M,5,FALSE),"") -> #NAME?
B20: F3 | C20: 1.45 | E20: non attivo | F20: =_xlfn.IFNA($C$20+VLOOKUP(F$16,'PUNIndex e PUN per fascia'!$I:$M,5,FALSE),"") -> #NAME? | G20: =_xlfn.IFNA($C$20+VLOOKUP(G$16,'PUNIndex e PUN per fascia'!$I:$M,5,FALSE),"") -> #NAME? | H20: =_xlfn.IFNA($C$20+VLOOKUP(H$16,'PUNIndex e PUN per fascia'!$I:$M,5,FALSE),"") -> #NAME? | I20: =_xlfn.IFNA($C$20+VLOOKUP(I$16,'PUNIndex e PUN per fascia'!$I:$M,5,FALSE),"") -> #NAME? | J20: =_xlfn.IFNA($C$20+VLOOKUP(J$16,'PUNIndex e PUN per fascia'!$I:$M,5,FALSE),"") -> #NAME? | K20: =_xlfn.IFNA($C$20+VLOOKUP(K$16,'PUNIndex e PUN per fascia'!$I:$M,5,FALSE),"") -> #NAME? | L20: =_xlfn.IFNA($C$20+VLOOKUP(L$16,'PUNIndex e PUN per fascia'!$I:$M,5,FALSE),"") -> #NAME? | M20: =_xlfn.IFNA($C$20+VLOOKUP(M$16,'PUNIndex e PUN per fascia'!$I:$M,5,FALSE),"") -> #NAME? | ... Q20: =_xlfn.IFNA($C$20+VLOOKUP(Q$16,'PUNIndex e PUN per fascia'!$I:$M,5,FALSE),"") -> #NAME? | R20: =_xlfn.IFNA($C$20+VLOOKUP(R$14,'PUNIndex e PUN per fascia'!$I:$M,5,FALSE),"") -> #NAME?
A21: =+A9& "- Prezzi variabili al netto delle perdite di rete (Euro/MWh)" -> Lotto 11: Lazio esclusa la Provincia di Roma - Prezzi variabili al netto delle perdite di rete (Euro/MWh)

Sheet Lotto 12
Q1: torna al SOMMARIO
A4: Energia elettrica 19
A5: Convenzione per la fornitura di energia elettrica a prezzo fisso o a prezzo variabile e servizi connessi per tutte le Pubbliche Amministrazioni
A7: Configuratore corrispettivi a Prezzo Variabile per la fornitura di Energia Elettrica edizione 19
A9: =+SOMMARIO!A21 -> Lotto 12: Abruzzo, Molise
A11: Sconto PA Virtuose S | C11: 0,1 Euro/MWh
A12: Opzione Verde | C12: 0,9 Euro/MWh
A15: Forniture a Prezzo variabile a 12 e 24 mesi
B16: Fascia oraria | C16: ΨVAR | E16: 44531 | F16: 44562 | G16: 44593 | H16: 44621 | I16: 44652 | J16: 44682 | K16: 44713 | L16: 44743 | M16: 44774 | N16: 44805 | O16: 44835 | P16: 44866 | Q16: 44896 | S16: =_xlfn.IFNA($C$17+VLOOKUP(S$14,'PUNIndex e PUN per fascia'!$I:$M,2,FALSE),"") -> #NAME? | T16: =_xlfn.IFNA($C$17+VLOOKUP(T$14,'PUNIndex e PUN per fascia'!$I:$M,2,FALSE),"") -> #NAME? | U16: =_xlfn.IFNA($C$17+VLOOKUP(U$14,'PUNIndex e PUN per fascia'!$I:$M,2,FALSE),"") -> #NAME? | V16: =_xlfn.IFNA($C$17+VLOOKUP(V$14,'PUNIndex e PUN per fascia'!$I:$M,2,FALSE),"") -> #NAME? | W16: =_xlfn.IFNA($C$17+VLOOKUP(W$14,'PUNIndex e PUN per fascia'!$I:$M,2,FALSE),"") -> #NAME? | X16: =_xlfn.IFNA($C$17+VLOOKUP(X$14,'PUNIndex e PUN per fascia'!$I:$M,2,FALSE),"") -> #NAME? | Y16: =_xlfn.IFNA($C$17+VLOOKUP(Y$14,'PUNIndex e PUN per fascia'!$I:$M,2,FALSE),"") -> #NAME? | Z16: =_xlfn.IFNA($C$17+VLOOKUP(Z$14,'PUNIndex e PUN per fascia'!$I:$M,2,FALSE),"") -> #NAME?
B17: F0 | C17: 1.25 | E17: non attivo | F17: =_xlfn.IFNA($C$17+VLOOKUP(F$16,'PUNIndex e PUN per fascia'!$I:$M,2,FALSE),"") -> #NAME? | G17: =_xlfn.IFNA($C$17+VLOOKUP(G$16,'PUNIndex e PUN per fascia'!$I:$M,2,FALSE),"") -> #NAME? | H17: =_xlfn.IFNA($C$17+VLOOKUP(H$16,'PUNIndex e PUN per fascia'!$I:$M,2,FALSE),"") -> #NAME? | I17: =_xlfn.IFNA($C$17+VLOOKUP(I$16,'PUNIndex e PUN per fascia'!$I:$M,2,FALSE),"") -> #NAME? | J17: =_xlfn.IFNA($C$17+VLOOKUP(J$16,'PUNIndex e PUN per fascia'!$I:$M,2,FALSE),"") -> #NAME? | K17: =_xlfn.IFNA($C$17+VLOOKUP(K$16,'PUNIndex e PUN per fascia'!$I:$M,2,FALSE),"") -> #NAME? | L17: =_xlfn.IFNA($C$17+VLOOKUP(L$16,'PUNIndex e PUN per fascia'!$I:$M,2,FALSE),"") -> #NAME? | M17: =_xlfn.IFNA($C$17+VLOOKUP(M$16,'PUNIndex e PUN per fascia'!$I:$M,2,FALSE),"") -> #NAME? | ... Q17: =_xlfn.IFNA($C$17+VLOOKUP(Q$16,'PUNIndex e PUN per fascia'!$I:$M,2,FALSE),"") -> #NAME? | R17: =_xlfn.IFNA($C$17+VLOOKUP(R$14,'PUNIndex e PUN per fascia'!$I:$M,2,FALSE),"") -> #NAME? | S17: =_xlfn.IFNA($C$18+VLOOKUP(S$14,'PUNIndex e PUN per fascia'!$I:$M,3,FALSE),"") -> #NAME? | T17: =_xlfn.IFNA($C$18+VLOOKUP(T$14,'PUNIndex e PUN per fascia'!$I:$M,3,FALSE),"") -> #NAME? | U17: =_xlfn.IFNA($C$18+VLOOKUP(U$14,'PUNIndex e PUN per fascia'!$I:$M,3,FALSE),"") -> #NAME? | V17: =_xlfn.IFNA($C$18+VLOOKUP(V$14,'PUNIndex e PUN per fascia'!$I:$M,3,FALSE),"") -> #NAME? | W17: =_xlfn.IFNA($C$18+VLOOKUP(W$14,'PUNIndex e PUN per fascia'!$I:$M,3,FALSE),"") -> #NAME? | X17: =_xlfn.IFNA($C$18+VLOOKUP(X$14,'PUNIndex e PUN per fascia'!$I:$M,3,FALSE),"") -> #NAME? | Y17: =_xlfn.IFNA($C$18+VLOOKUP(Y$14,'PUNIndex e PUN per fascia'!$I:$M,3,FALSE),"") -> #NAME? | Z17: =_xlfn.IFNA($C$18+VLOOKUP(Z$14,'PUNIndex e PUN per fascia'!$I:$M,3,FALSE),"") -> #NAME?
B18: F1 | C18: 1.25 | E18: non attivo | F18: =_xlfn.IFNA($C$18+VLOOKUP(F$16,'PUNIndex e PUN per fascia'!$I:$M,3,FALSE),"") -> #NAME? | G18: =_xlfn.IFNA($C$18+VLOOKUP(G$16,'PUNIndex e PUN per fascia'!$I:$M,3,FALSE),"") -> #NAME? | H18: =_xlfn.IFNA($C$18+VLOOKUP(H$16,'PUNIndex e PUN per fascia'!$I:$M,3,FALSE),"") -> #NAME? | I18: =_xlfn.IFNA($C$18+VLOOKUP(I$16,'PUNIndex e PUN per fascia'!$I:$M,3,FALSE),"") -> #NAME? | J18: =_xlfn.IFNA($C$18+VLOOKUP(J$16,'PUNIndex e PUN per fascia'!$I:$M,3,FALSE),"") -> #NAME? | K18: =_xlfn.IFNA($C$18+VLOOKUP(K$16,'PUNIndex e PUN per fascia'!$I:$M,3,FALSE),"") -> #NAME? | L18: =_xlfn.IFNA($C$18+VLOOKUP(L$16,'PUNIndex e PUN per fascia'!$I:$M,3,FALSE),"") -> #NAME? | M18: =_xlfn.IFNA($C$18+VLOOKUP(M$16,'PUNIndex e PUN per fascia'!$I:$M,3,FALSE),"") -> #NAME? | ... Q18: =_xlfn.IFNA($C$18+VLOOKUP(Q$16,'PUNIndex e PUN per fascia'!$I:$M,3,FALSE),"") -> #NAME? | R18: =_xlfn.IFNA($C$18+VLOOKUP(R$14,'PUNIndex e PUN per fascia'!$I:$M,3,FALSE),"") -> #NAME? | S18: =_xlfn.IFNA($C$19+VLOOKUP(S$14,'PUNIndex e PUN per fascia'!$I:$M,4,FALSE),"") -> #NAME? | T18: =_xlfn.IFNA($C$19+VLOOKUP(T$14,'PUNIndex e PUN per fascia'!$I:$M,4,FALSE),"") -> #NAME? | U18: =_xlfn.IFNA($C$19+VLOOKUP(U$14,'PUNIndex e PUN per fascia'!$I:$M,4,FALSE),"") -> #NAME? | V18: =_xlfn.IFNA($C$19+VLOOKUP(V$14,'PUNIndex e PUN per fascia'!$I:$M,4,FALSE),"") -> #NAME? | W18: =_xlfn.IFNA($C$19+VLOOKUP(W$14,'PUNIndex e PUN per fascia'!$I:$M,4,FALSE),"") -> #NAME? | X18: =_xlfn.IFNA($C$19+VLOOKUP(X$14,'PUNIndex e PUN per fascia'!$I:$M,4,FALSE),"") -> #NAME? | Y18: =_xlfn.IFNA($C$19+VLOOKUP(Y$14,'PUNIndex e PUN per fascia'!$I:$M,4,FALSE),"") -> #NAME? | Z18: =_xlfn.IFNA($C$19+VLOOKUP(Z$14,'PUNIndex e PUN per fascia'!$I:$M,4,FALSE),"") -> #NAME?
B19: F2 | C19: 1.25 | E19: non attivo | F19: =_xlfn.IFNA($C$19+VLOOKUP(F$16,'PUNIndex e PUN per fascia'!$I:$M,4,FALSE),"") -> #NAME? | G19: =_xlfn.IFNA($C$19+VLOOKUP(G$16,'PUNIndex e PUN per fascia'!$I:$M,4,FALSE),"") -> #NAME? | H19: =_xlfn.IFNA($C$19+VLOOKUP(H$16,'PUNIndex e PUN per fascia'!$I:$M,4,FALSE),"") -> #NAME? | I19: =_xlfn.IFNA($C$19+VLOOKUP(I$16,'PUNIndex e PUN per fascia'!$I:$M,4,FALSE),"") -> #NAME? | J19: =_xlfn.IFNA($C$19+VLOOKUP(J$16,'PUNIndex e PUN per fascia'!$I:$M,4,FALSE),"") -> #NAME? | K19: =_xlfn.IFNA($C$19+VLOOKUP(K$16,'PUNIndex e PUN per fascia'!$I:$M,4,FALSE),"") -> #NAME? | L19: =_xlfn.IFNA($C$19+VLOOKUP(L$16,'PUNIndex e PUN per fascia'!$I:$M,4,FALSE),"") -> #NAME? | M19: =_xlfn.IFNA($C$19+VLOOKUP(M$16,'PUNIndex e PUN per fascia'!$I:$M,4,FALSE),"") -> #NAME? | ... Q19: =_xlfn.IFNA($C$19+VLOOKUP(Q$16,'PUNIndex e PUN per fascia'!$I:$M,4,FALSE),"") -> #NAME? | R19: =_xlfn.IFNA($C$19+VLOOKUP(R$14,'PUNIndex e PUN per fascia'!$I:$M,4,FALSE),"") -> #NAME? | S19: =_xlfn.IFNA($C$20+VLOOKUP(S$14,'PUNIndex e PUN per fascia'!$I:$M,5,FALSE),"") -> #NAME? | T19: =_xlfn.IFNA($C$20+VLOOKUP(T$14,'PUNIndex e PUN per fascia'!$I:$M,5,FALSE),"") -> #NAME? | U19: =_xlfn.IFNA($C$20+VLOOKUP(U$14,'PUNIndex e PUN per fascia'!$I:$M,5,FALSE),"") -> #NAME? | V19: =_xlfn.IFNA($C$20+VLOOKUP(V$14,'PUNIndex e PUN per fascia'!$I:$M,5,FALSE),"") -> #NAME? | W19: =_xlfn.IFNA($C$20+VLOOKUP(W$14,'PUNIndex e PUN per fascia'!$I:$M,5,FALSE),"") -> #NAME? | X19: =_xlfn.IFNA($C$20+VLOOKUP(X$14,'PUNIndex e PUN per fascia'!$I:$M,5,FALSE),"") -> #NAME? | Y19: =_xlfn.IFNA($C$20+VLOOKUP(Y$14,'PUNIndex e PUN per fascia'!$I:$M,5,FALSE),"") -> #NAME? | Z19: =_xlfn.IFNA($C$20+VLOOKUP(Z$14,'PUNIndex e PUN per fascia'!$I:$M,5,FALSE),"") -> #NAME?
B20: F3 | C20: 1.25 | E20: non attivo | F20: =_xlfn.IFNA($C$20+VLOOKUP(F$16,'PUNIndex e PUN per fascia'!$I:$M,5,FALSE),"") -> #NAME? | G20: =_xlfn.IFNA($C$20+VLOOKUP(G$16,'PUNIndex e PUN per fascia'!$I:$M,5,FALSE),"") -> #NAME? | H20: =_xlfn.IFNA($C$20+VLOOKUP(H$16,'PUNIndex e PUN per fascia'!$I:$M,5,FALSE),"") -> #NAME? | I20: =_xlfn.IFNA($C$20+VLOOKUP(I$16,'PUNIndex e PUN per fascia'!$I:$M,5,FALSE),"") -> #NAME? | J20: =_xlfn.IFNA($C$20+VLOOKUP(J$16,'PUNIndex e PUN per fascia'!$I:$M,5,FALSE),"") -> #NAME? | K20: =_xlfn.IFNA($C$20+VLOOKUP(K$16,'PUNIndex e PUN per fascia'!$I:$M,5,FALSE),"") -> #NAME? | L20: =_xlfn.IFNA($C$20+VLOOKUP(L$16,'PUNIndex e PUN per fascia'!$I:$M,5,FALSE),"") -> #NAME? | M20: =_xlfn.IFNA($C$20+VLOOKUP(M$16,'PUNIndex e PUN per fascia'!$I:$M,5,FALSE),"") -> #NAME? | ... Q20: =_xlfn.IFNA($C$20+VLOOKUP(Q$16,'PUNIndex e PUN per fascia'!$I:$M,5,FALSE),"") -> #NAME? | R20: =_xlfn.IFNA($C$20+VLOOKUP(R$14,'PUNIndex e PUN per fascia'!$I:$M,5,FALSE),"") -> #NAME?
A21: =+A9& "- Prezzi variabili al netto delle perdite di rete (Euro/MWh)" -> Lotto 12: Abruzzo, Molise- Prezzi variabili al netto delle perdite di rete (Euro/MWh)

Sheet Lotto 13
Q1: torna al SOMMARIO
A4: Energia elettrica 19
A5: Convenzione per la fornitura di energia elettrica a prezzo fisso o a prezzo variabile e servizi connessi per tutte le Pubbliche Amministrazioni
A7: Configuratore corrispettivi a Prezzo Variabile per la fornitura di Energia Elettrica edizione 19
A9: =+SOMMARIO!A22 -> Lotto 13: Campania
A11: Sconto PA Virtuose S | C11: 3 Euro/MWh
A12: Opzione Verde | C12: 0,9 Euro/MWh
A15: Forniture a Prezzo variabile a 12 e 24 mesi
B16: Fascia oraria | C16: ΨVAR | E16: 44531 | F16: 44562 | G16: 44593 | H16: 44621 | I16: 44652 | J16: 44682 | K16: 44713 | L16: 44743 | M16: 44774 | N16: 44805 | O16: 44835 | P16: 44866 | Q16: 44896 | S16: =_xlfn.IFNA($C$17+VLOOKUP(S$14,'PUNIndex e PUN per fascia'!$I:$M,2,FALSE),"") -> #NAME? | T16: =_xlfn.IFNA($C$17+VLOOKUP(T$14,'PUNIndex e PUN per fascia'!$I:$M,2,FALSE),"") -> #NAME? | U16: =_xlfn.IFNA($C$17+VLOOKUP(U$14,'PUNIndex e PUN per fascia'!$I:$M,2,FALSE),"") -> #NAME? | V16: =_xlfn.IFNA($C$17+VLOOKUP(V$14,'PUNIndex e PUN per fascia'!$I:$M,2,FALSE),"") -> #NAME? | W16: =_xlfn.IFNA($C$17+VLOOKUP(W$14,'PUNIndex e PUN per fascia'!$I:$M,2,FALSE),"") -> #NAME? | X16: =_xlfn.IFNA($C$17+VLOOKUP(X$14,'PUNIndex e PUN per fascia'!$I:$M,2,FALSE),"") -> #NAME? | Y16: =_xlfn.IFNA($C$17+VLOOKUP(Y$14,'PUNIndex e PUN per fascia'!$I:$M,2,FALSE),"") -> #NAME? | Z16: =_xlfn.IFNA($C$17+VLOOKUP(Z$14,'PUNIndex e PUN per fascia'!$I:$M,2,FALSE),"") -> #NAME?
B17: F0 | C17: 4.46 | E17: =_xlfn.IFNA($C$17+VLOOKUP(E$16,'PUNIndex e PUN per fascia'!$I:$M,2,FALSE),"") -> #NAME? | F17: =_xlfn.IFNA($C$17+VLOOKUP(F$16,'PUNIndex e PUN per fascia'!$I:$M,2,FALSE),"") -> #NAME? | G17: =_xlfn.IFNA($C$17+VLOOKUP(G$16,'PUNIndex e PUN per fascia'!$I:$M,2,FALSE),"") -> #NAME? | H17: =_xlfn.IFNA($C$17+VLOOKUP(H$16,'PUNIndex e PUN per fascia'!$I:$M,2,FALSE),"") -> #NAME? | I17: =_xlfn.IFNA($C$17+VLOOKUP(I$16,'PUNIndex e PUN per fascia'!$I:$M,2,FALSE),"") -> #NAME? | J17: =_xlfn.IFNA($C$17+VLOOKUP(J$16,'PUNIndex e PUN per fascia'!$I:$M,2,FALSE),"") -> #NAME? | K17: =_xlfn.IFNA($C$17+VLOOKUP(K$16,'PUNIndex e PUN per fascia'!$I:$M,2,FALSE),"") -> #NAME? | L17: =_xlfn.IFNA($C$17+VLOOKUP(L$16,'PUNIndex e PUN per fascia'!$I:$M,2,FALSE),"") -> #NAME? | ... Q17: =_xlfn.IFNA($C$17+VLOOKUP(Q$16,'PUNIndex e PUN per fascia'!$I:$M,2,FALSE),"") -> #NAME? | R17: =_xlfn.IFNA($C$17+VLOOKUP(R$14,'PUNIndex e PUN per fascia'!$I:$M,2,FALSE),"") -> #NAME? | S17: =_xlfn.IFNA($C$18+VLOOKUP(S$14,'PUNIndex e PUN per fascia'!$I:$M,3,FALSE),"") -> #NAME? | T17: =_xlfn.IFNA($C$18+VLOOKUP(T$14,'PUNIndex e PUN per fascia'!$I:$M,3,FALSE),"") -> #NAME? | U17: =_xlfn.IFNA($C$18+VLOOKUP(U$14,'PUNIndex e PUN per fascia'!$I:$M,3,FALSE),"") -> #NAME? | V17: =_xlfn.IFNA($C$18+VLOOKUP(V$14,'PUNIndex e PUN per fascia'!$I:$M,3,FALSE),"") -> #NAME? | W17: =_xlfn.IFNA($C$18+VLOOKUP(W$14,'PUNIndex e PUN per fascia'!$I:$M,3,FALSE),"") -> #NAME? | X17: =_xlfn.IFNA($C$18+VLOOKUP(X$14,'PUNIndex e PUN per fascia'!$I:$M,3,FALSE),"") -> #NAME? | Y17: =_xlfn.IFNA($C$18+VLOOKUP(Y$14,'PUNIndex e PUN per fascia'!$I:$M,3,FALSE),"") -> #NAME? | Z17: =_xlfn.IFNA($C$18+VLOOKUP(Z$14,'PUNIndex e PUN per fascia'!$I:$M,3,FALSE),"") -> #NAME?
B18: F1 | C18: 4.46 | E18: =_xlfn.IFNA($C$18+VLOOKUP(E$16,'PUNIndex e PUN per fascia'!$I:$M,3,FALSE),"") -> #NAME? | F18: =_xlfn.IFNA($C$18+VLOOKUP(F$16,'PUNIndex e PUN per fascia'!$I:$M,3,FALSE),"") -> #NAME? | G18: =_xlfn.IFNA($C$18+VLOOKUP(G$16,'PUNIndex e PUN per fascia'!$I:$M,3,FALSE),"") -> #NAME? | H18: =_xlfn.IFNA($C$18+VLOOKUP(H$16,'PUNIndex e PUN per fascia'!$I:$M,3,FALSE),"") -> #NAME? | I18: =_xlfn.IFNA($C$18+VLOOKUP(I$16,'PUNIndex e PUN per fascia'!$I:$M,3,FALSE),"") -> #NAME? | J18: =_xlfn.IFNA($C$18+VLOOKUP(J$16,'PUNIndex e PUN per fascia'!$I:$M,3,FALSE),"") -> #NAME? | K18: =_xlfn.IFNA($C$18+VLOOKUP(K$16,'PUNIndex e PUN per fascia'!$I:$M,3,FALSE),"") -> #NAME? | L18: =_xlfn.IFNA($C$18+VLOOKUP(L$16,'PUNIndex e PUN per fascia'!$I:$M,3,FALSE),"") -> #NAME? | ... Q18: =_xlfn.IFNA($C$18+VLOOKUP(Q$16,'PUNIndex e PUN per fascia'!$I:$M,3,FALSE),"") -> #NAME? | R18: =_xlfn.IFNA($C$18+VLOOKUP(R$14,'PUNIndex e PUN per fascia'!$I:$M,3,FALSE),"") -> #NAME? | S18: =_xlfn.IFNA($C$19+VLOOKUP(S$14,'PUNIndex e PUN per fascia'!$I:$M,4,FALSE),"") -> #NAME? | T18: =_xlfn.IFNA($C$19+VLOOKUP(T$14,'PUNIndex e PUN per fascia'!$I:$M,4,FALSE),"") -> #NAME? | U18: =_xlfn.IFNA($C$19+VLOOKUP(U$14,'PUNIndex e PUN per fascia'!$I:$M,4,FALSE),"") -> #NAME? | V18: =_xlfn.IFNA($C$19+VLOOKUP(V$14,'PUNIndex e PUN per fascia'!$I:$M,4,FALSE),"") -> #NAME? | W18: =_xlfn.IFNA($C$19+VLOOKUP(W$14,'PUNIndex e PUN per fascia'!$I:$M,4,FALSE),"") -> #NAME? | X18: =_xlfn.IFNA($C$19+VLOOKUP(X$14,'PUNIndex e PUN per fascia'!$I:$M,4,FALSE),"") -> #NAME? | Y18: =_xlfn.IFNA($C$19+VLOOKUP(Y$14,'PUNIndex e PUN per fascia'!$I:$M,4,FALSE),"") -> #NAME? | Z18: =_xlfn.IFNA($C$19+VLOOKUP(Z$14,'PUNIndex e PUN per fascia'!$I:$M,4,FALSE),"") -> #NAME?
B19: F2 | C19: 4.46 | E19: =_xlfn.IFNA($C$19+VLOOKUP(E$16,'PUNIndex e PUN per fascia'!$I:$M,4,FALSE),"") -> #NAME? | F19: =_xlfn.IFNA($C$19+VLOOKUP(F$16,'PUNIndex e PUN per fascia'!$I:$M,4,FALSE),"") -> #NAME? | G19: =_xlfn.IFNA($C$19+VLOOKUP(G$16,'PUNIndex e PUN per fascia'!$I:$M,4,FALSE),"") -> #NAME? | H19: =_xlfn.IFNA($C$19+VLOOKUP(H$16,'PUNIndex e PUN per fascia'!$I:$M,4,FALSE),"") -> #NAME? | I19: =_xlfn.IFNA($C$19+VLOOKUP(I$16,'PUNIndex e PUN per fascia'!$I:$M,4,FALSE),"") -> #NAME? | J19: =_xlfn.IFNA($C$19+VLOOKUP(J$16,'PUNIndex e PUN per fascia'!$I:$M,4,FALSE),"") -> #NAME? | K19: =_xlfn.IFNA($C$19+VLOOKUP(K$16,'PUNIndex e PUN per fascia'!$I:$M,4,FALSE),"") -> #NAME? | L19: =_xlfn.IFNA($C$19+VLOOKUP(L$16,'PUNIndex e PUN per fascia'!$I:$M,4,FALSE),"") -> #NAME? | ... Q19: =_xlfn.IFNA($C$19+VLOOKUP(Q$16,'PUNIndex e PUN per fascia'!$I:$M,4,FALSE),"") -> #NAME? | R19: =_xlfn.IFNA($C$19+VLOOKUP(R$14,'PUNIndex e PUN per fascia'!$I:$M,4,FALSE),"") -> #NAME? | S19: =_xlfn.IFNA($C$20+VLOOKUP(S$14,'PUNIndex e PUN per fascia'!$I:$M,5,FALSE),"") -> #NAME? | T19: =_xlfn.IFNA($C$20+VLOOKUP(T$14,'PUNIndex e PUN per fascia'!$I:$M,5,FALSE),"") -> #NAME? | U19: =_xlfn.IFNA($C$20+VLOOKUP(U$14,'PUNIndex e PUN per fascia'!$I:$M,5,FALSE),"") -> #NAME? | V19: =_xlfn.IFNA($C$20+VLOOKUP(V$14,'PUNIndex e PUN per fascia'!$I:$M,5,FALSE),"") -> #NAME? | W19: =_xlfn.IFNA($C$20+VLOOKUP(W$14,'PUNIndex e PUN per fascia'!$I:$M,5,FALSE),"") -> #NAME? | X19: =_xlfn.IFNA($C$20+VLOOKUP(X$14,'PUNIndex e PUN per fascia'!$I:$M,5,FALSE),"") -> #NAME? | Y19: =_xlfn.IFNA($C$20+VLOOKUP(Y$14,'PUNIndex e PUN per fascia'!$I:$M,5,FALSE),"") -> #NAME? | Z19: =_xlfn.IFNA($C$20+VLOOKUP(Z$14,'PUNIndex e PUN per fascia'!$I:$M,5,FALSE),"") -> #NAME?
B20: F3 | C20: 4.46 | E20: =_xlfn.IFNA($C$20+VLOOKUP(E$16,'PUNIndex e PUN per fascia'!$I:$M,5,FALSE),"") -> #NAME? | F20: =_xlfn.IFNA($C$20+VLOOKUP(F$16,'PUNIndex e PUN per fascia'!$I:$M,5,FALSE),"") -> #NAME? | G20: =_xlfn.IFNA($C$20+VLOOKUP(G$16,'PUNIndex e PUN per fascia'!$I:$M,5,FALSE),"") -> #NAME? | H20: =_xlfn.IFNA($C$20+VLOOKUP(H$16,'PUNIndex e PUN per fascia'!$I:$M,5,FALSE),"") -> #NAME? | I20: =_xlfn.IFNA($C$20+VLOOKUP(I$16,'PUNIndex e PUN per fascia'!$I:$M,5,FALSE),"") -> #NAME? | J20: =_xlfn.IFNA($C$20+VLOOKUP(J$16,'PUNIndex e PUN per fascia'!$I:$M,5,FALSE),"") -> #NAME? | K20: =_xlfn.IFNA($C$20+VLOOKUP(K$16,'PUNIndex e PUN per fascia'!$I:$M,5,FALSE),"") -> #NAME? | L20: =_xlfn.IFNA($C$20+VLOOKUP(L$16,'PUNIndex e PUN per fascia'!$I:$M,5,FALSE),"") -> #NAME? | ... Q20: =_xlfn.IFNA($C$20+VLOOKUP(Q$16,'PUNIndex e PUN per fascia'!$I:$M,5,FALSE),"") -> #NAME? | R20: =_xlfn.IFNA($C$20+VLOOKUP(R$14,'PUNIndex e PUN per fascia'!$I:$M,5,FALSE),"") -> #NAME?
A21: =+A9& "- Prezzi variabili al netto delle perdite di rete (Euro/MWh)" -> Lotto 13: Campania- Prezzi variabili al netto delle perdite di rete (Euro/MWh)

Sheet Lotto 14
Q1: torna al SOMMARIO
A4: Energia elettrica 19
A5: Convenzione per la fornitura di energia elettrica a prezzo fisso o a prezzo variabile e servizi connessi per tutte le Pubbliche Amministrazioni
A7: Configuratore corrispettivi a Prezzo Variabile per la fornitura di Energia Elettrica edizione 19
A9: =+SOMMARIO!A23 -> Lotto 14: Puglia, Basilicata
A11: Sconto PA Virtuose S | C11: 0,5 Euro/MWh
A12: Opzione Verde | C12: 0,9 Euro/MWh
A15: Forniture a Prezzo variabile a 12 e 24 mesi
B16: Fascia oraria | C16: ΨVAR | E16: 44531 | F16: 44562 | G16: 44593 | H16: 44621 | I16: 44652 | J16: 44682 | K16: 44713 | L16: 44743 | M16: 44774 | N16: 44805 | O16: 44835 | P16: 44866 | Q16: 44896 | S16: =_xlfn.IFNA($C$17+VLOOKUP(S$14,'PUNIndex e PUN per fascia'!$I:$M,2,FALSE),"") -> #NAME? | T16: =_xlfn.IFNA($C$17+VLOOKUP(T$14,'PUNIndex e PUN per fascia'!$I:$M,2,FALSE),"") -> #NAME? | U16: =_xlfn.IFNA($C$17+VLOOKUP(U$14,'PUNIndex e PUN per fascia'!$I:$M,2,FALSE),"") -> #NAME? | V16: =_xlfn.IFNA($C$17+VLOOKUP(V$14,'PUNIndex e PUN per fascia'!$I:$M,2,FALSE),"") -> #NAME? | W16: =_xlfn.IFNA($C$17+VLOOKUP(W$14,'PUNIndex e PUN per fascia'!$I:$M,2,FALSE),"") -> #NAME? | X16: =_xlfn.IFNA($C$17+VLOOKUP(X$14,'PUNIndex e PUN per fascia'!$I:$M,2,FALSE),"") -> #NAME? | Y16: =_xlfn.IFNA($C$17+VLOOKUP(Y$14,'PUNIndex e PUN per fascia'!$I:$M,2,FALSE),"") -> #NAME? | Z16: =_xlfn.IFNA($C$17+VLOOKUP(Z$14,'PUNIndex e PUN per fascia'!$I:$M,2,FALSE),"") -> #NAME?
B17: F0 | C17: 2.16 | E17: non attivo | F17: =_xlfn.IFNA($C$17+VLOOKUP(F$16,'PUNIndex e PUN per fascia'!$I:$M,2,FALSE),"") -> #NAME? | G17: =_xlfn.IFNA($C$17+VLOOKUP(G$16,'PUNIndex e PUN per fascia'!$I:$M,2,FALSE),"") -> #NAME? | H17: =_xlfn.IFNA($C$17+VLOOKUP(H$16,'PUNIndex e PUN per fascia'!$I:$M,2,FALSE),"") -> #NAME? | I17: =_xlfn.IFNA($C$17+VLOOKUP(I$16,'PUNIndex e PUN per fascia'!$I:$M,2,FALSE),"") -> #NAME? | J17: =_xlfn.IFNA($C$17+VLOOKUP(J$16,'PUNIndex e PUN per fascia'!$I:$M,2,FALSE),"") -> #NAME? | K17: =_xlfn.IFNA($C$17+VLOOKUP(K$16,'PUNIndex e PUN per fascia'!$I:$M,2,FALSE),"") -> #NAME? | L17: =_xlfn.IFNA($C$17+VLOOKUP(L$16,'PUNIndex e PUN per fascia'!$I:$M,2,FALSE),"") -> #NAME? | M17: =_xlfn.IFNA($C$17+VLOOKUP(M$16,'PUNIndex e PUN per fascia'!$I:$M,2,FALSE),"") -> #NAME? | ... Q17: =_xlfn.IFNA($C$17+VLOOKUP(Q$16,'PUNIndex e PUN per fascia'!$I:$M,2,FALSE),"") -> #NAME? | R17: =_xlfn.IFNA($C$17+VLOOKUP(R$14,'PUNIndex e PUN per fascia'!$I:$M,2,FALSE),"") -> #NAME? | S17: =_xlfn.IFNA($C$18+VLOOKUP(S$14,'PUNIndex e PUN per fascia'!$I:$M,3,FALSE),"") -> #NAME? | T17: =_xlfn.IFNA($C$18+VLOOKUP(T$14,'PUNIndex e PUN per fascia'!$I:$M,3,FALSE),"") -> #NAME? | U17: =_xlfn.IFNA($C$18+VLOOKUP(U$14,'PUNIndex e PUN per fascia'!$I:$M,3,FALSE),"") -> #NAME? | V17: =_xlfn.IFNA($C$18+VLOOKUP(V$14,'PUNIndex e PUN per fascia'!$I:$M,3,FALSE),"") -> #NAME? | W17: =_xlfn.IFNA($C$18+VLOOKUP(W$14,'PUNIndex e PUN per fascia'!$I:$M,3,FALSE),"") -> #NAME? | X17: =_xlfn.IFNA($C$18+VLOOKUP(X$14,'PUNIndex e PUN per fascia'!$I:$M,3,FALSE),"") -> #NAME? | Y17: =_xlfn.IFNA($C$18+VLOOKUP(Y$14,'PUNIndex e PUN per fascia'!$I:$M,3,FALSE),"") -> #NAME? | Z17: =_xlfn.IFNA($C$18+VLOOKUP(Z$14,'PUNIndex e PUN per fascia'!$I:$M,3,FALSE),"") -> #NAME?
B18: F1 | C18: 2.16 | E18: non attivo | F18: =_xlfn.IFNA($C$18+VLOOKUP(F$16,'PUNIndex e PUN per fascia'!$I:$M,3,FALSE),"") -> #NAME? | G18: =_xlfn.IFNA($C$18+VLOOKUP(G$16,'PUNIndex e PUN per fascia'!$I:$M,3,FALSE),"") -> #NAME? | H18: =_xlfn.IFNA($C$18+VLOOKUP(H$16,'PUNIndex e PUN per fascia'!$I:$M,3,FALSE),"") -> #NAME? | I18: =_xlfn.IFNA($C$18+VLOOKUP(I$16,'PUNIndex e PUN per fascia'!$I:$M,3,FALSE),"") -> #NAME? | J18: =_xlfn.IFNA($C$18+VLOOKUP(J$16,'PUNIndex e PUN per fascia'!$I:$M,3,FALSE),"") -> #NAME? | K18: =_xlfn.IFNA($C$18+VLOOKUP(K$16,'PUNIndex e PUN per fascia'!$I:$M,3,FALSE),"") -> #NAME? | L18: =_xlfn.IFNA($C$18+VLOOKUP(L$16,'PUNIndex e PUN per fascia'!$I:$M,3,FALSE),"") -> #NAME? | M18: =_xlfn.IFNA($C$18+VLOOKUP(M$16,'PUNIndex e PUN per fascia'!$I:$M,3,FALSE),"") -> #NAME? | ... Q18: =_xlfn.IFNA($C$18+VLOOKUP(Q$16,'PUNIndex e PUN per fascia'!$I:$M,3,FALSE),"") -> #NAME? | R18: =_xlfn.IFNA($C$18+VLOOKUP(R$14,'PUNIndex e PUN per fascia'!$I:$M,3,FALSE),"") -> #NAME? | S18: =_xlfn.IFNA($C$19+VLOOKUP(S$14,'PUNIndex e PUN per fascia'!$I:$M,4,FALSE),"") -> #NAME? | T18: =_xlfn.IFNA($C$19+VLOOKUP(T$14,'PUNIndex e PUN per fascia'!$I:$M,4,FALSE),"") -> #NAME? | U18: =_xlfn.IFNA($C$19+VLOOKUP(U$14,'PUNIndex e PUN per fascia'!$I:$M,4,FALSE),"") -> #NAME? | V18: =_xlfn.IFNA($C$19+VLOOKUP(V$14,'PUNIndex e PUN per fascia'!$I:$M,4,FALSE),"") -> #NAME? | W18: =_xlfn.IFNA($C$19+VLOOKUP(W$14,'PUNIndex e PUN per fascia'!$I:$M,4,FALSE),"") -> #NAME? | X18: =_xlfn.IFNA($C$19+VLOOKUP(X$14,'PUNIndex e PUN per fascia'!$I:$M,4,FALSE),"") -> #NAME? | Y18: =_xlfn.IFNA($C$19+VLOOKUP(Y$14,'PUNIndex e PUN per fascia'!$I:$M,4,FALSE),"") -> #NAME? | Z18: =_xlfn.IFNA($C$19+VLOOKUP(Z$14,'PUNIndex e PUN per fascia'!$I:$M,4,FALSE),"") -> #NAME?
B19: F2 | C19: 2.16 | E19: non attivo | F19: =_xlfn.IFNA($C$19+VLOOKUP(F$16,'PUNIndex e PUN per fascia'!$I:$M,4,FALSE),"") -> #NAME? | G19: =_xlfn.IFNA($C$19+VLOOKUP(G$16,'PUNIndex e PUN per fascia'!$I:$M,4,FALSE),"") -> #NAME? | H19: =_xlfn.IFNA($C$19+VLOOKUP(H$16,'PUNIndex e PUN per fascia'!$I:$M,4,FALSE),"") -> #NAME? | I19: =_xlfn.IFNA($C$19+VLOOKUP(I$16,'PUNIndex e PUN per fascia'!$I:$M,4,FALSE),"") -> #NAME? | J19: =_xlfn.IFNA($C$19+VLOOKUP(J$16,'PUNIndex e PUN per fascia'!$I:$M,4,FALSE),"") -> #NAME? | K19: =_xlfn.IFNA($C$19+VLOOKUP(K$16,'PUNIndex e PUN per fascia'!$I:$M,4,FALSE),"") -> #NAME? | L19: =_xlfn.IFNA($C$19+VLOOKUP(L$16,'PUNIndex e PUN per fascia'!$I:$M,4,FALSE),"") -> #NAME? | M19: =_xlfn.IFNA($C$19+VLOOKUP(M$16,'PUNIndex e PUN per fascia'!$I:$M,4,FALSE),"") -> #NAME? | ... Q19: =_xlfn.IFNA($C$19+VLOOKUP(Q$16,'PUNIndex e PUN per fascia'!$I:$M,4,FALSE),"") -> #NAME? | R19: =_xlfn.IFNA($C$19+VLOOKUP(R$14,'PUNIndex e PUN per fascia'!$I:$M,4,FALSE),"") -> #NAME? | S19: =_xlfn.IFNA($C$20+VLOOKUP(S$14,'PUNIndex e PUN per fascia'!$I:$M,5,FALSE),"") -> #NAME? | T19: =_xlfn.IFNA($C$20+VLOOKUP(T$14,'PUNIndex e PUN per fascia'!$I:$M,5,FALSE),"") -> #NAME? | U19: =_xlfn.IFNA($C$20+VLOOKUP(U$14,'PUNIndex e PUN per fascia'!$I:$M,5,FALSE),"") -> #NAME? | V19: =_xlfn.IFNA($C$20+VLOOKUP(V$14,'PUNIndex e PUN per fascia'!$I:$M,5,FALSE),"") -> #NAME? | W19: =_xlfn.IFNA($C$20+VLOOKUP(W$14,'PUNIndex e PUN per fascia'!$I:$M,5,FALSE),"") -> #NAME? | X19: =_xlfn.IFNA($C$20+VLOOKUP(X$14,'PUNIndex e PUN per fascia'!$I:$M,5,FALSE),"") -> #NAME? | Y19: =_xlfn.IFNA($C$20+VLOOKUP(Y$14,'PUNIndex e PUN per fascia'!$I:$M,5,FALSE),"") -> #NAME? | Z19: =_xlfn.IFNA($C$20+VLOOKUP(Z$14,'PUNIndex e PUN per fascia'!$I:$M,5,FALSE),"") -> #NAME?
B20: F3 | C20: 2.16 | E20: non attivo | F20: =_xlfn.IFNA($C$20+VLOOKUP(F$16,'PUNIndex e PUN per fascia'!$I:$M,5,FALSE),"") -> #NAME? | G20: =_xlfn.IFNA($C$20+VLOOKUP(G$16,'PUNIndex e PUN per fascia'!$I:$M,5,FALSE),"") -> #NAME? | H20: =_xlfn.IFNA($C$20+VLOOKUP(H$16,'PUNIndex e PUN per fascia'!$I:$M,5,FALSE),"") -> #NAME? | I20: =_xlfn.IFNA($C$20+VLOOKUP(I$16,'PUNIndex e PUN per fascia'!$I:$M,5,FALSE),"") -> #NAME? | J20: =_xlfn.IFNA($C$20+VLOOKUP(J$16,'PUNIndex e PUN per fascia'!$I:$M,5,FALSE),"") -> #NAME? | K20: =_xlfn.IFNA($C$20+VLOOKUP(K$16,'PUNIndex e PUN per fascia'!$I:$M,5,FALSE),"") -> #NAME? | L20: =_xlfn.IFNA($C$20+VLOOKUP(L$16,'PUNIndex e PUN per fascia'!$I:$M,5,FALSE),"") -> #NAME? | M20: =_xlfn.IFNA($C$20+VLOOKUP(M$16,'PUNIndex e PUN per fascia'!$I:$M,5,FALSE),"") -> #NAME? | ... Q20: =_xlfn.IFNA($C$20+VLOOKUP(Q$16,'PUNIndex e PUN per fascia'!$I:$M,5,FALSE),"") -> #NAME? | R20: =_xlfn.IFNA($C$20+VLOOKUP(R$14,'PUNIndex e PUN per fascia'!$I:$M,5,FALSE),"") -> #NAME?
A21: =+A9& "- Prezzi variabili al netto delle perdite di rete (Euro/MWh)" -> Lotto 14: Puglia, Basilicata- Prezzi variabili al netto delle perdite di rete (Euro/MWh)

Sheet Lotto 15
Q1: torna al SOMMARIO
A4: Energia elettrica 19
A5: Convenzione per la fornitura di energia elettrica a prezzo fisso o a prezzo variabile e servizi connessi per tutte le Pubbliche Amministrazioni
A7: Configuratore corrispettivi a Prezzo Variabile per la fornitura di Energia Elettrica edizione 19
A9: =+SOMMARIO!A24 -> Lotto 15: Calabria
A11: Sconto PA Virtuose S | C11: 0,5 Euro/MWh
A12: Opzione Verde | C12: 0,9 Euro/MWh
A15: Forniture a Prezzo variabile a 12 e 24 mesi
B16: Fascia oraria | C16: ΨVAR | E16: 44531 | F16: 44562 | G16: 44593 | H16: 44621 | I16: 44652 | J16: 44682 | K16: 44713 | L16: 44743 | M16: 44774 | N16: 44805 | O16: 44835 | P16: 44866 | Q16: 44896 | S16: =_xlfn.IFNA($C$17+VLOOKUP(S$14,'PUNIndex e PUN per fascia'!$I:$M,2,FALSE),"") -> #NAME? | T16: =_xlfn.IFNA($C$17+VLOOKUP(T$14,'PUNIndex e PUN per fascia'!$I:$M,2,FALSE),"") -> #NAME? | U16: =_xlfn.IFNA($C$17+VLOOKUP(U$14,'PUNIndex e PUN per fascia'!$I:$M,2,FALSE),"") -> #NAME? | V16: =_xlfn.IFNA($C$17+VLOOKUP(V$14,'PUNIndex e PUN per fascia'!$I:$M,2,FALSE),"") -> #NAME? | W16: =_xlfn.IFNA($C$17+VLOOKUP(W$14,'PUNIndex e PUN per fascia'!$I:$M,2,FALSE),"") -> #NAME? | X16: =_xlfn.IFNA($C$17+VLOOKUP(X$14,'PUNIndex e PUN per fascia'!$I:$M,2,FALSE),"") -> #NAME? | Y16: =_xlfn.IFNA($C$17+VLOOKUP(Y$14,'PUNIndex e PUN per fascia'!$I:$M,2,FALSE),"") -> #NAME? | Z16: =_xlfn.IFNA($C$17+VLOOKUP(Z$14,'PUNIndex e PUN per fascia'!$I:$M,2,FALSE),"") -> #NAME?
B17: F0 | C17: 2.7 | E17: non attivo | F17: =_xlfn.IFNA($C$17+VLOOKUP(F$16,'PUNIndex e PUN per fascia'!$I:$M,2,FALSE),"") -> #NAME? | G17: =_xlfn.IFNA($C$17+VLOOKUP(G$16,'PUNIndex e PUN per fascia'!$I:$M,2,FALSE),"") -> #NAME? | H17: =_xlfn.IFNA($C$17+VLOOKUP(H$16,'PUNIndex e PUN per fascia'!$I:$M,2,FALSE),"") -> #NAME? | I17: =_xlfn.IFNA($C$17+VLOOKUP(I$16,'PUNIndex e PUN per fascia'!$I:$M,2,FALSE),"") -> #NAME? | J17: =_xlfn.IFNA($C$17+VLOOKUP(J$16,'PUNIndex e PUN per fascia'!$I:$M,2,FALSE),"") -> #NAME? | K17: =_xlfn.IFNA($C$17+VLOOKUP(K$16,'PUNIndex e PUN per fascia'!$I:$M,2,FALSE),"") -> #NAME? | L17: =_xlfn.IFNA($C$17+VLOOKUP(L$16,'PUNIndex e PUN per fascia'!$I:$M,2,FALSE),"") -> #NAME? | M17: =_xlfn.IFNA($C$17+VLOOKUP(M$16,'PUNIndex e PUN per fascia'!$I:$M,2,FALSE),"") -> #NAME? | ... Q17: =_xlfn.IFNA($C$17+VLOOKUP(Q$16,'PUNIndex e PUN per fascia'!$I:$M,2,FALSE),"") -> #NAME? | R17: =_xlfn.IFNA($C$17+VLOOKUP(R$14,'PUNIndex e PUN per fascia'!$I:$M,2,FALSE),"") -> #NAME? | S17: =_xlfn.IFNA($C$18+VLOOKUP(S$14,'PUNIndex e PUN per fascia'!$I:$M,3,FALSE),"") -> #NAME? | T17: =_xlfn.IFNA($C$18+VLOOKUP(T$14,'PUNIndex e PUN per fascia'!$I:$M,3,FALSE),"") -> #NAME? | U17: =_xlfn.IFNA($C$18+VLOOKUP(U$14,'PUNIndex e PUN per fascia'!$I:$M,3,FALSE),"") -> #NAME? | V17: =_xlfn.IFNA($C$18+VLOOKUP(V$14,'PUNIndex e PUN per fascia'!$I:$M,3,FALSE),"") -> #NAME? | W17: =_xlfn.IFNA($C$18+VLOOKUP(W$14,'PUNIndex e PUN per fascia'!$I:$M,3,FALSE),"") -> #NAME? | X17: =_xlfn.IFNA($C$18+VLOOKUP(X$14,'PUNIndex e PUN per fascia'!$I:$M,3,FALSE),"") -> #NAME? | Y17: =_xlfn.IFNA($C$18+VLOOKUP(Y$14,'PUNIndex e PUN per fascia'!$I:$M,3,FALSE),"") -> #NAME? | Z17: =_xlfn.IFNA($C$18+VLOOKUP(Z$14,'PUNIndex e PUN per fascia'!$I:$M,3,FALSE),"") -> #NAME?
B18: F1 | C18: 2.7 | E18: non attivo | F18: =_xlfn.IFNA($C$18+VLOOKUP(F$16,'PUNIndex e PUN per fascia'!$I:$M,3,FALSE),"") -> #NAME? | G18: =_xlfn.IFNA($C$18+VLOOKUP(G$16,'PUNIndex e PUN per fascia'!$I:$M,3,FALSE),"") -> #NAME? | H18: =_xlfn.IFNA($C$18+VLOOKUP(H$16,'PUNIndex e PUN per fascia'!$I:$M,3,FALSE),"") -> #NAME? | I18: =_xlfn.IFNA($C$18+VLOOKUP(I$16,'PUNIndex e PUN per fascia'!$I:$M,3,FALSE),"") -> #NAME? | J18: =_xlfn.IFNA($C$18+VLOOKUP(J$16,'PUNIndex e PUN per fascia'!$I:$M,3,FALSE),"") -> #NAME? | K18: =_xlfn.IFNA($C$18+VLOOKUP(K$16,'PUNIndex e PUN per fascia'!$I:$M,3,FALSE),"") -> #NAME? | L18: =_xlfn.IFNA($C$18+VLOOKUP(L$16,'PUNIndex e PUN per fascia'!$I:$M,3,FALSE),"") -> #NAME? | M18: =_xlfn.IFNA($C$18+VLOOKUP(M$16,'PUNIndex e PUN per fascia'!$I:$M,3,FALSE),"") -> #NAME? | ... Q18: =_xlfn.IFNA($C$18+VLOOKUP(Q$16,'PUNIndex e PUN per fascia'!$I:$M,3,FALSE),"") -> #NAME? | R18: =_xlfn.IFNA($C$18+VLOOKUP(R$14,'PUNIndex e PUN per fascia'!$I:$M,3,FALSE),"") -> #NAME? | S18: =_xlfn.IFNA($C$19+VLOOKUP(S$14,'PUNIndex e PUN per fascia'!$I:$M,4,FALSE),"") -> #NAME? | T18: =_xlfn.IFNA($C$19+VLOOKUP(T$14,'PUNIndex e PUN per fascia'!$I:$M,4,FALSE),"") -> #NAME? | U18: =_xlfn.IFNA($C$19+VLOOKUP(U$14,'PUNIndex e PUN per fascia'!$I:$M,4,FALSE),"") -> #NAME? | V18: =_xlfn.IFNA($C$19+VLOOKUP(V$14,'PUNIndex e PUN per fascia'!$I:$M,4,FALSE),"") -> #NAME? | W18: =_xlfn.IFNA($C$19+VLOOKUP(W$14,'PUNIndex e PUN per fascia'!$I:$M,4,FALSE),"") -> #NAME? | X18: =_xlfn.IFNA($C$19+VLOOKUP(X$14,'PUNIndex e PUN per fascia'!$I:$M,4,FALSE),"") -> #NAME? | Y18: =_xlfn.IFNA($C$19+VLOOKUP(Y$14,'PUNIndex e PUN per fascia'!$I:$M,4,FALSE),"") -> #NAME? | Z18: =_xlfn.IFNA($C$19+VLOOKUP(Z$14,'PUNIndex e PUN per fascia'!$I:$M,4,FALSE),"") -> #NAME?
B19: F2 | C19: 2.7 | E19: non attivo | F19: =_xlfn.IFNA($C$19+VLOOKUP(F$16,'PUNIndex e PUN per fascia'!$I:$M,4,FALSE),"") -> #NAME? | G19: =_xlfn.IFNA($C$19+VLOOKUP(G$16,'PUNIndex e PUN per fascia'!$I:$M,4,FALSE),"") -> #NAME? | H19: =_xlfn.IFNA($C$19+VLOOKUP(H$16,'PUNIndex e PUN per fascia'!$I:$M,4,FALSE),"") -> #NAME? | I19: =_xlfn.IFNA($C$19+VLOOKUP(I$16,'PUNIndex e PUN per fascia'!$I:$M,4,FALSE),"") -> #NAME? | J19: =_xlfn.IFNA($C$19+VLOOKUP(J$16,'PUNIndex e PUN per fascia'!$I:$M,4,FALSE),"") -> #NAME? | K19: =_xlfn.IFNA($C$19+VLOOKUP(K$16,'PUNIndex e PUN per fascia'!$I:$M,4,FALSE),"") -> #NAME? | L19: =_xlfn.IFNA($C$19+VLOOKUP(L$16,'PUNIndex e PUN per fascia'!$I:$M,4,FALSE),"") -> #NAME? | M19: =_xlfn.IFNA($C$19+VLOOKUP(M$16,'PUNIndex e PUN per fascia'!$I:$M,4,FALSE),"") -> #NAME? | ... Q19: =_xlfn.IFNA($C$19+VLOOKUP(Q$16,'PUNIndex e PUN per fascia'!$I:$M,4,FALSE),"") -> #NAME? | R19: =_xlfn.IFNA($C$19+VLOOKUP(R$14,'PUNIndex e PUN per fascia'!$I:$M,4,FALSE),"") -> #NAME? | S19: =_xlfn.IFNA($C$20+VLOOKUP(S$14,'PUNIndex e PUN per fascia'!$I:$M,5,FALSE),"") -> #NAME? | T19: =_xlfn.IFNA($C$20+VLOOKUP(T$14,'PUNIndex e PUN per fascia'!$I:$M,5,FALSE),"") -> #NAME? | U19: =_xlfn.IFNA($C$20+VLOOKUP(U$14,'PUNIndex e PUN per fascia'!$I:$M,5,FALSE),"") -> #NAME? | V19: =_xlfn.IFNA($C$20+VLOOKUP(V$14,'PUNIndex e PUN per fascia'!$I:$M,5,FALSE),"") -> #NAME? | W19: =_xlfn.IFNA($C$20+VLOOKUP(W$14,'PUNIndex e PUN per fascia'!$I:$M,5,FALSE),"") -> #NAME? | X19: =_xlfn.IFNA($C$20+VLOOKUP(X$14,'PUNIndex e PUN per fascia'!$I:$M,5,FALSE),"") -> #NAME? | Y19: =_xlfn.IFNA($C$20+VLOOKUP(Y$14,'PUNIndex e PUN per fascia'!$I:$M,5,FALSE),"") -> #NAME? | Z19: =_xlfn.IFNA($C$20+VLOOKUP(Z$14,'PUNIndex e PUN per fascia'!$I:$M,5,FALSE),"") -> #NAME?
B20: F3 | C20: 2.7 | E20: non attivo | F20: =_xlfn.IFNA($C$20+VLOOKUP(F$16,'PUNIndex e PUN per fascia'!$I:$M,5,FALSE),"") -> #NAME? | G20: =_xlfn.IFNA($C$20+VLOOKUP(G$16,'PUNIndex e PUN per fascia'!$I:$M,5,FALSE),"") -> #NAME? | H20: =_xlfn.IFNA($C$20+VLOOKUP(H$16,'PUNIndex e PUN per fascia'!$I:$M,5,FALSE),"") -> #NAME? | I20: =_xlfn.IFNA($C$20+VLOOKUP(I$16,'PUNIndex e PUN per fascia'!$I:$M,5,FALSE),"") -> #NAME? | J20: =_xlfn.IFNA($C$20+VLOOKUP(J$16,'PUNIndex e PUN per fascia'!$I:$M,5,FALSE),"") -> #NAME? | K20: =_xlfn.IFNA($C$20+VLOOKUP(K$16,'PUNIndex e PUN per fascia'!$I:$M,5,FALSE),"") -> #NAME? | L20: =_xlfn.IFNA($C$20+VLOOKUP(L$16,'PUNIndex e PUN per fascia'!$I:$M,5,FALSE),"") -> #NAME? | M20: =_xlfn.IFNA($C$20+VLOOKUP(M$16,'PUNIndex e PUN per fascia'!$I:$M,5,FALSE),"") -> #NAME? | ... Q20: =_xlfn.IFNA($C$20+VLOOKUP(Q$16,'PUNIndex e PUN per fascia'!$I:$M,5,FALSE),"") -> #NAME? | R20: =_xlfn.IFNA($C$20+VLOOKUP(R$14,'PUNIndex e PUN per fascia'!$I:$M,5,FALSE),"") -> #NAME?
A21: =+A9& "- Prezzi variabili al netto delle perdite di rete (Euro/MWh)" -> Lotto 15: Calabria - Prezzi variabili al netto delle perdite di rete (Euro/MWh)

Sheet Lotto 16
Q1: torna al SOMMARIO
A4: Energia elettrica 19
A5: Convenzione per la fornitura di energia elettrica a prezzo fisso o a prezzo variabile e servizi connessi per tutte le Pubbliche Amministrazioni
A7: Configuratore corrispettivi a Prezzo Variabile per la fornitura di Energia Elettrica edizione 19
A9: =+SOMMARIO!A25 -> Lotto 16: Sicilia
A11: Sconto PA Virtuose S | C11: 1,65 Euro/MWh
A12: Opzione Verde | C12: 0,9 Euro/MWh
A15: Forniture a Prezzo variabile a 12 e 24 mesi
B16: Fascia oraria | C16: ΨVAR | E16: 44531 | F16: 44562 | G16: 44593 | H16: 44621 | I16: 44652 | J16: 44682 | K16: 44713 | L16: 44743 | M16: 44774 | N16: 44805 | O16: 44835 | P16: 44866 | Q16: 44896 | S16: =_xlfn.IFNA($C$17+VLOOKUP(S$14,'PUNIndex e PUN per fascia'!$I:$M,2,FALSE),"") -> #NAME? | T16: =_xlfn.IFNA($C$17+VLOOKUP(T$14,'PUNIndex e PUN per fascia'!$I:$M,2,FALSE),"") -> #NAME? | U16: =_xlfn.IFNA($C$17+VLOOKUP(U$14,'PUNIndex e PUN per fascia'!$I:$M,2,FALSE),"") -> #NAME? | V16: =_xlfn.IFNA($C$17+VLOOKUP(V$14,'PUNIndex e PUN per fascia'!$I:$M,2,FALSE),"") -> #NAME? | W16: =_xlfn.IFNA($C$17+VLOOKUP(W$14,'PUNIndex e PUN per fascia'!$I:$M,2,FALSE),"") -> #NAME? | X16: =_xlfn.IFNA($C$17+VLOOKUP(X$14,'PUNIndex e PUN per fascia'!$I:$M,2,FALSE),"") -> #NAME? | Y16: =_xlfn.IFNA($C$17+VLOOKUP(Y$14,'PUNIndex e PUN per fascia'!$I:$M,2,FALSE),"") -> #NAME? | Z16: =_xlfn.IFNA($C$17+VLOOKUP(Z$14,'PUNIndex e PUN per fascia'!$I:$M,2,FALSE),"") -> #NAME?
B17: F0 | C17: 2.86 | E17: =_xlfn.IFNA($C$17+VLOOKUP(E$16,'PUNIndex e PUN per fascia'!$I:$M,2,FALSE),"") -> #NAME? | F17: =_xlfn.IFNA($C$17+VLOOKUP(F$16,'PUNIndex e PUN per fascia'!$I:$M,2,FALSE),"") -> #NAME? | G17: =_xlfn.IFNA($C$17+VLOOKUP(G$16,'PUNIndex e PUN per fascia'!$I:$M,2,FALSE),"") -> #NAME? | H17: =_xlfn.IFNA($C$17+VLOOKUP(H$16,'PUNIndex e PUN per fascia'!$I:$M,2,FALSE),"") -> #NAME? | I17: =_xlfn.IFNA($C$17+VLOOKUP(I$16,'PUNIndex e PUN per fascia'!$I:$M,2,FALSE),"") -> #NAME? | J17: =_xlfn.IFNA($C$17+VLOOKUP(J$16,'PUNIndex e PUN per fascia'!$I:$M,2,FALSE),"") -> #NAME? | K17: =_xlfn.IFNA($C$17+VLOOKUP(K$16,'PUNIndex e PUN per fascia'!$I:$M,2,FALSE),"") -> #NAME? | L17: =_xlfn.IFNA($C$17+VLOOKUP(L$16,'PUNIndex e PUN per fascia'!$I:$M,2,FALSE),"") -> #NAME? | ... Q17: =_xlfn.IFNA($C$17+VLOOKUP(Q$16,'PUNIndex e PUN per fascia'!$I:$M,2,FALSE),"") -> #NAME? | R17: =_xlfn.IFNA($C$17+VLOOKUP(R$14,'PUNIndex e PUN per fascia'!$I:$M,2,FALSE),"") -> #NAME? | S17: =_xlfn.IFNA($C$18+VLOOKUP(S$14,'PUNIndex e PUN per fascia'!$I:$M,3,FALSE),"") -> #NAME? | T17: =_xlfn.IFNA($C$18+VLOOKUP(T$14,'PUNIndex e PUN per fascia'!$I:$M,3,FALSE),"") -> #NAME? | U17: =_xlfn.IFNA($C$18+VLOOKUP(U$14,'PUNIndex e PUN per fascia'!$I:$M,3,FALSE),"") -> #NAME? | V17: =_xlfn.IFNA($C$18+VLOOKUP(V$14,'PUNIndex e PUN per fascia'!$I:$M,3,FALSE),"") -> #NAME? | W17: =_xlfn.IFNA($C$18+VLOOKUP(W$14,'PUNIndex e PUN per fascia'!$I:$M,3,FALSE),"") -> #NAME? | X17: =_xlfn.IFNA($C$18+VLOOKUP(X$14,'PUNIndex e PUN per fascia'!$I:$M,3,FALSE),"") -> #NAME? | Y17: =_xlfn.IFNA($C$18+VLOOKUP(Y$14,'PUNIndex e PUN per fascia'!$I:$M,3,FALSE),"") -> #NAME? | Z17: =_xlfn.IFNA($C$18+VLOOKUP(Z$14,'PUNIndex e PUN per fascia'!$I:$M,3,FALSE),"") -> #NAME?
B18: F1 | C18: 2.86 | E18: =_xlfn.IFNA($C$18+VLOOKUP(E$16,'PUNIndex e PUN per fascia'!$I:$M,3,FALSE),"") -> #NAME? | F18: =_xlfn.IFNA($C$18+VLOOKUP(F$16,'PUNIndex e PUN per fascia'!$I:$M,3,FALSE),"") -> #NAME? | G18: =_xlfn.IFNA($C$18+VLOOKUP(G$16,'PUNIndex e PUN per fascia'!$I:$M,3,FALSE),"") -> #NAME? | H18: =_xlfn.IFNA($C$18+VLOOKUP(H$16,'PUNIndex e PUN per fascia'!$I:$M,3,FALSE),"") -> #NAME? | I18: =_xlfn.IFNA($C$18+VLOOKUP(I$16,'PUNIndex e PUN per fascia'!$I:$M,3,FALSE),"") -> #NAME? | J18: =_xlfn.IFNA($C$18+VLOOKUP(J$16,'PUNIndex e PUN per fascia'!$I:$M,3,FALSE),"") -> #NAME? | K18: =_xlfn.IFNA($C$18+VLOOKUP(K$16,'PUNIndex e PUN per fascia'!$I:$M,3,FALSE),"") -> #NAME? | L18: =_xlfn.IFNA($C$18+VLOOKUP(L$16,'PUNIndex e PUN per fascia'!$I:$M,3,FALSE),"") -> #NAME? | ... Q18: =_xlfn.IFNA($C$18+VLOOKUP(Q$16,'PUNIndex e PUN per fascia'!$I:$M,3,FALSE),"") -> #NAME? | R18: =_xlfn.IFNA($C$18+VLOOKUP(R$14,'PUNIndex e PUN per fascia'!$I:$M,3,FALSE),"") -> #NAME? | S18: =_xlfn.IFNA($C$19+VLOOKUP(S$14,'PUNIndex e PUN per fascia'!$I:$M,4,FALSE),"") -> #NAME? | T18: =_xlfn.IFNA($C$19+VLOOKUP(T$14,'PUNIndex e PUN per fascia'!$I:$M,4,FALSE),"") -> #NAME? | U18: =_xlfn.IFNA($C$19+VLOOKUP(U$14,'PUNIndex e PUN per fascia'!$I:$M,4,FALSE),"") -> #NAME? | V18: =_xlfn.IFNA($C$19+VLOOKUP(V$14,'PUNIndex e PUN per fascia'!$I:$M,4,FALSE),"") -> #NAME? | W18: =_xlfn.IFNA($C$19+VLOOKUP(W$14,'PUNIndex e PUN per fascia'!$I:$M,4,FALSE),"") -> #NAME? | X18: =_xlfn.IFNA($C$19+VLOOKUP(X$14,'PUNIndex e PUN per fascia'!$I:$M,4,FALSE),"") -> #NAME? | Y18: =_xlfn.IFNA($C$19+VLOOKUP(Y$14,'PUNIndex e PUN per fascia'!$I:$M,4,FALSE),"") -> #NAME? | Z18: =_xlfn.IFNA($C$19+VLOOKUP(Z$14,'PUNIndex e PUN per fascia'!$I:$M,4,FALSE),"") -> #NAME?
B19: F2 | C19: 2.86 | E19: =_xlfn.IFNA($C$19+VLOOKUP(E$16,'PUNIndex e PUN per fascia'!$I:$M,4,FALSE),"") -> #NAME? | F19: =_xlfn.IFNA($C$19+VLOOKUP(F$16,'PUNIndex e PUN per fascia'!$I:$M,4,FALSE),"") -> #NAME? | G19: =_xlfn.IFNA($C$19+VLOOKUP(G$16,'PUNIndex e PUN per fascia'!$I:$M,4,FALSE),"") -> #NAME? | H19: =_xlfn.IFNA($C$19+VLOOKUP(H$16,'PUNIndex e PUN per fascia'!$I:$M,4,FALSE),"") -> #NAME? | I19: =_xlfn.IFNA($C$19+VLOOKUP(I$16,'PUNIndex e PUN per fascia'!$I:$M,4,FALSE),"") -> #NAME? | J19: =_xlfn.IFNA($C$19+VLOOKUP(J$16,'PUNIndex e PUN per fascia'!$I:$M,4,FALSE),"") -> #NAME? | K19: =_xlfn.IFNA($C$19+VLOOKUP(K$16,'PUNIndex e PUN per fascia'!$I:$M,4,FALSE),"") -> #NAME? | L19: =_xlfn.IFNA($C$19+VLOOKUP(L$16,'PUNIndex e PUN per fascia'!$I:$M,4,FALSE),"") -> #NAME? | ... Q19: =_xlfn.IFNA($C$19+VLOOKUP(Q$16,'PUNIndex e PUN per fascia'!$I:$M,4,FALSE),"") -> #NAME? | R19: =_xlfn.IFNA($C$19+VLOOKUP(R$14,'PUNIndex e PUN per fascia'!$I:$M,4,FALSE),"") -> #NAME? | S19: =_xlfn.IFNA($C$20+VLOOKUP(S$14,'PUNIndex e PUN per fascia'!$I:$M,5,FALSE),"") -> #NAME? | T19: =_xlfn.IFNA($C$20+VLOOKUP(T$14,'PUNIndex e PUN per fascia'!$I:$M,5,FALSE),"") -> #NAME? | U19: =_xlfn.IFNA($C$20+VLOOKUP(U$14,'PUNIndex e PUN per fascia'!$I:$M,5,FALSE),"") -> #NAME? | V19: =_xlfn.IFNA($C$20+VLOOKUP(V$14,'PUNIndex e PUN per fascia'!$I:$M,5,FALSE),"") -> #NAME? | W19: =_xlfn.IFNA($C$20+VLOOKUP(W$14,'PUNIndex e PUN per fascia'!$I:$M,5,FALSE),"") -> #NAME? | X19: =_xlfn.IFNA($C$20+VLOOKUP(X$14,'PUNIndex e PUN per fascia'!$I:$M,5,FALSE),"") -> #NAME? | Y19: =_xlfn.IFNA($C$20+VLOOKUP(Y$14,'PUNIndex e PUN per fascia'!$I:$M,5,FALSE),"") -> #NAME? | Z19: =_xlfn.IFNA($C$20+VLOOKUP(Z$14,'PUNIndex e PUN per fascia'!$I:$M,5,FALSE),"") -> #NAME?
B20: F3 | C20: 2.86 | E20: =_xlfn.IFNA($C$20+VLOOKUP(E$16,'PUNIndex e PUN per fascia'!$I:$M,5,FALSE),"") -> #NAME? | F20: =_xlfn.IFNA($C$20+VLOOKUP(F$16,'PUNIndex e PUN per fascia'!$I:$M,5,FALSE),"") -> #NAME? | G20: =_xlfn.IFNA($C$20+VLOOKUP(G$16,'PUNIndex e PUN per fascia'!$I:$M,5,FALSE),"") -> #NAME? | H20: =_xlfn.IFNA($C$20+VLOOKUP(H$16,'PUNIndex e PUN per fascia'!$I:$M,5,FALSE),"") -> #NAME? | I20: =_xlfn.IFNA($C$20+VLOOKUP(I$16,'PUNIndex e PUN per fascia'!$I:$M,5,FALSE),"") -> #NAME? | J20: =_xlfn.IFNA($C$20+VLOOKUP(J$16,'PUNIndex e PUN per fascia'!$I:$M,5,FALSE),"") -> #NAME? | K20: =_xlfn.IFNA($C$20+VLOOKUP(K$16,'PUNIndex e PUN per fascia'!$I:$M,5,FALSE),"") -> #NAME? | L20: =_xlfn.IFNA($C$20+VLOOKUP(L$16,'PUNIndex e PUN per fascia'!$I:$M,5,FALSE),"") -> #NAME? | ... Q20: =_xlfn.IFNA($C$20+VLOOKUP(Q$16,'PUNIndex e PUN per fascia'!$I:$M,5,FALSE),"") -> #NAME? | R20: =_xlfn.IFNA($C$20+VLOOKUP(R$14,'PUNIndex e PUN per fascia'!$I:$M,5,FALSE),"") -> #NAME?
A21: =+A9& "- Prezzi variabili al netto delle perdite di rete (Euro/MWh)" -> Lotto 16: Sicilia- Prezzi variabili al netto delle perdite di rete (Euro/MWh)

Sheet Lotto 17
Q1: torna al SOMMARIO
A4: Energia elettrica 19
A5: Convenzione per la fornitura di energia elettrica a prezzo fisso o a prezzo variabile e servizi connessi per tutte le Pubbliche Amministrazioni
A7: Configuratore corrispettivi a Prezzo Variabile per la fornitura di Energia Elettrica edizione 19
A9: =+SOMMARIO!A26 -> Lotto 17: Italia
A11: Sconto PA Virtuose S | C11: 0,1 Euro/MWh
A12: Opzione Verde | C12: 0,9 Euro/MWh
A15: Forniture a Prezzo variabile a 12 e 24 mesi
B16: Fascia oraria | C16: ΨVAR | E16: 44531 | F16: 44562 | G16: 44593 | H16: 44621 | I16: 44652 | J16: 44682 | K16: 44713 | L16: 44743 | M16: 44774 | N16: 44805 | O16: 44835 | P16: 44866 | Q16: 44896 | S16: =_xlfn.IFNA($C$17+VLOOKUP(S$14,'PUNIndex e PUN per fascia'!$I:$M,2,FALSE),"") -> #NAME? | T16: =_xlfn.IFNA($C$17+VLOOKUP(T$14,'PUNIndex e PUN per fascia'!$I:$M,2,FALSE),"") -> #NAME? | U16: =_xlfn.IFNA($C$17+VLOOKUP(U$14,'PUNIndex e PUN per fascia'!$I:$M,2,FALSE),"") -> #NAME? | V16: =_xlfn.IFNA($C$17+VLOOKUP(V$14,'PUNIndex e PUN per fascia'!$I:$M,2,FALSE),"") -> #NAME? | W16: =_xlfn.IFNA($C$17+VLOOKUP(W$14,'PUNIndex e PUN per fascia'!$I:$M,2,FALSE),"") -> #NAME? | X16: =_xlfn.IFNA($C$17+VLOOKUP(X$14,'PUNIndex e PUN per fascia'!$I:$M,2,FALSE),"") -> #NAME? | Y16: =_xlfn.IFNA($C$17+VLOOKUP(Y$14,'PUNIndex e PUN per fascia'!$I:$M,2,FALSE),"") -> #NAME? | Z16: =_xlfn.IFNA($C$17+VLOOKUP(Z$14,'PUNIndex e PUN per fascia'!$I:$M,2,FALSE),"") -> #NAME?
B17: F0 | C17: 1.72 | E17: =_xlfn.IFNA($C$17+VLOOKUP(E$16,'PUNIndex e PUN per fascia'!$I:$M,2,FALSE),"") -> #NAME? | F17: =_xlfn.IFNA($C$17+VLOOKUP(F$16,'PUNIndex e PUN per fascia'!$I:$M,2,FALSE),"") -> #NAME? | G17: =_xlfn.IFNA($C$17+VLOOKUP(G$16,'PUNIndex e PUN per fascia'!$I:$M,2,FALSE),"") -> #NAME? | H17: =_xlfn.IFNA($C$17+VLOOKUP(H$16,'PUNIndex e PUN per fascia'!$I:$M,2,FALSE),"") -> #NAME? | I17: =_xlfn.IFNA($C$17+VLOOKUP(I$16,'PUNIndex e PUN per fascia'!$I:$M,2,FALSE),"") -> #NAME? | J17: =_xlfn.IFNA($C$17+VLOOKUP(J$16,'PUNIndex e PUN per fascia'!$I:$M,2,FALSE),"") -> #NAME? | K17: =_xlfn.IFNA($C$17+VLOOKUP(K$16,'PUNIndex e PUN per fascia'!$I:$M,2,FALSE),"") -> #NAME? | L17: =_xlfn.IFNA($C$17+VLOOKUP(L$16,'PUNIndex e PUN per fascia'!$I:$M,2,FALSE),"") -> #NAME? | ... Q17: =_xlfn.IFNA($C$17+VLOOKUP(Q$16,'PUNIndex e PUN per fascia'!$I:$M,2,FALSE),"") -> #NAME? | R17: =_xlfn.IFNA($C$17+VLOOKUP(R$14,'PUNIndex e PUN per fascia'!$I:$M,2,FALSE),"") -> #NAME? | S17: =_xlfn.IFNA($C$18+VLOOKUP(S$14,'PUNIndex e PUN per fascia'!$I:$M,3,FALSE),"") -> #NAME? | T17: =_xlfn.IFNA($C$18+VLOOKUP(T$14,'PUNIndex e PUN per fascia'!$I:$M,3,FALSE),"") -> #NAME? | U17: =_xlfn.IFNA($C$18+VLOOKUP(U$14,'PUNIndex e PUN per fascia'!$I:$M,3,FALSE),"") -> #NAME? | V17: =_xlfn.IFNA($C$18+VLOOKUP(V$14,'PUNIndex e PUN per fascia'!$I:$M,3,FALSE),"") -> #NAME? | W17: =_xlfn.IFNA($C$18+VLOOKUP(W$14,'PUNIndex e PUN per fascia'!$I:$M,3,FALSE),"") -> #NAME? | X17: =_xlfn.IFNA($C$18+VLOOKUP(X$14,'PUNIndex e PUN per fascia'!$I:$M,3,FALSE),"") -> #NAME? | Y17: =_xlfn.IFNA($C$18+VLOOKUP(Y$14,'PUNIndex e PUN per fascia'!$I:$M,3,FALSE),"") -> #NAME? | Z17: =_xlfn.IFNA($C$18+VLOOKUP(Z$14,'PUNIndex e PUN per fascia'!$I:$M,3,FALSE),"") -> #NAME?
B18: F1 | C18: 1.72 | E18: =_xlfn.IFNA($C$18+VLOOKUP(E$16,'PUNIndex e PUN per fascia'!$I:$M,3,FALSE),"") -> #NAME? | F18: =_xlfn.IFNA($C$18+VLOOKUP(F$16,'PUNIndex e PUN per fascia'!$I:$M,3,FALSE),"") -> #NAME? | G18: =_xlfn.IFNA($C$18+VLOOKUP(G$16,'PUNIndex e PUN per fascia'!$I:$M,3,FALSE),"") -> #NAME? | H18: =_xlfn.IFNA($C$18+VLOOKUP(H$16,'PUNIndex e PUN per fascia'!$I:$M,3,FALSE),"") -> #NAME? | I18: =_xlfn.IFNA($C$18+VLOOKUP(I$16,'PUNIndex e PUN per fascia'!$I:$M,3,FALSE),"") -> #NAME? | J18: =_xlfn.IFNA($C$18+VLOOKUP(J$16,'PUNIndex e PUN per fascia'!$I:$M,3,FALSE),"") -> #NAME? | K18: =_xlfn.IFNA($C$18+VLOOKUP(K$16,'PUNIndex e PUN per fascia'!$I:$M,3,FALSE),"") -> #NAME? | L18: =_xlfn.IFNA($C$18+VLOOKUP(L$16,'PUNIndex e PUN per fascia'!$I:$M,3,FALSE),"") -> #NAME? | ... Q18: =_xlfn.IFNA($C$18+VLOOKUP(Q$16,'PUNIndex e PUN per fascia'!$I:$M,3,FALSE),"") -> #NAME? | R18: =_xlfn.IFNA($C$18+VLOOKUP(R$14,'PUNIndex e PUN per fascia'!$I:$M,3,FALSE),"") -> #NAME? | S18: =_xlfn.IFNA($C$19+VLOOKUP(S$14,'PUNIndex e PUN per fascia'!$I:$M,4,FALSE),"") -> #NAME? | T18: =_xlfn.IFNA($C$19+VLOOKUP(T$14,'PUNIndex e PUN per fascia'!$I:$M,4,FALSE),"") -> #NAME? | U18: =_xlfn.IFNA($C$19+VLOOKUP(U$14,'PUNIndex e PUN per fascia'!$I:$M,4,FALSE),"") -> #NAME? | V18: =_xlfn.IFNA($C$19+VLOOKUP(V$14,'PUNIndex e PUN per fascia'!$I:$M,4,FALSE),"") -> #NAME? | W18: =_xlfn.IFNA($C$19+VLOOKUP(W$14,'PUNIndex e PUN per fascia'!$I:$M,4,FALSE),"") -> #NAME? | X18: =_xlfn.IFNA($C$19+VLOOKUP(X$14,'PUNIndex e PUN per fascia'!$I:$M,4,FALSE),"") -> #NAME? | Y18: =_xlfn.IFNA($C$19+VLOOKUP(Y$14,'PUNIndex e PUN per fascia'!$I:$M,4,FALSE),"") -> #NAME? | Z18: =_xlfn.IFNA($C$19+VLOOKUP(Z$14,'PUNIndex e PUN per fascia'!$I:$M,4,FALSE),"") -> #NAME?
B19: F2 | C19: 1.72 | E19: =_xlfn.IFNA($C$19+VLOOKUP(E$16,'PUNIndex e PUN per fascia'!$I:$M,4,FALSE),"") -> #NAME? | F19: =_xlfn.IFNA($C$19+VLOOKUP(F$16,'PUNIndex e PUN per fascia'!$I:$M,4,FALSE),"") -> #NAME? | G19: =_xlfn.IFNA($C$19+VLOOKUP(G$16,'PUNIndex e PUN per fascia'!$I:$M,4,FALSE),"") -> #NAME? | H19: =_xlfn.IFNA($C$19+VLOOKUP(H$16,'PUNIndex e PUN per fascia'!$I:$M,4,FALSE),"") -> #NAME? | I19: =_xlfn.IFNA($C$19+VLOOKUP(I$16,'PUNIndex e PUN per fascia'!$I:$M,4,FALSE),"") -> #NAME? | J19: =_xlfn.IFNA($C$19+VLOOKUP(J$16,'PUNIndex e PUN per fascia'!$I:$M,4,FALSE),"") -> #NAME? | K19: =_xlfn.IFNA($C$19+VLOOKUP(K$16,'PUNIndex e PUN per fascia'!$I:$M,4,FALSE),"") -> #NAME? | L19: =_xlfn.IFNA($C$19+VLOOKUP(L$16,'PUNIndex e PUN per fascia'!$I:$M,4,FALSE),"") -> #NAME? | ... Q19: =_xlfn.IFNA($C$19+VLOOKUP(Q$16,'PUNIndex e PUN per fascia'!$I:$M,4,FALSE),"") -> #NAME? | R19: =_xlfn.IFNA($C$19+VLOOKUP(R$14,'PUNIndex e PUN per fascia'!$I:$M,4,FALSE),"") -> #NAME? | S19: =_xlfn.IFNA($C$20+VLOOKUP(S$14,'PUNIndex e PUN per fascia'!$I:$M,5,FALSE),"") -> #NAME? | T19: =_xlfn.IFNA($C$20+VLOOKUP(T$14,'PUNIndex e PUN per fascia'!$I:$M,5,FALSE),"") -> #NAME? | U19: =_xlfn.IFNA($C$20+VLOOKUP(U$14,'PUNIndex e PUN per fascia'!$I:$M,5,FALSE),"") -> #NAME? | V19: =_xlfn.IFNA($C$20+VLOOKUP(V$14,'PUNIndex e PUN per fascia'!$I:$M,5,FALSE),"") -> #NAME? | W19: =_xlfn.IFNA($C$20+VLOOKUP(W$14,'PUNIndex e PUN per fascia'!$I:$M,5,FALSE),"") -> #NAME? | X19: =_xlfn.IFNA($C$20+VLOOKUP(X$14,'PUNIndex e PUN per fascia'!$I:$M,5,FALSE),"") -> #NAME? | Y19: =_xlfn.IFNA($C$20+VLOOKUP(Y$14,'PUNIndex e PUN per fascia'!$I:$M,5,FALSE),"") -> #NAME? | Z19: =_xlfn.IFNA($C$20+VLOOKUP(Z$14,'PUNIndex e PUN per fascia'!$I:$M,5,FALSE),"") -> #NAME?
B20: F3 | C20: 1.72 | E20: =_xlfn.IFNA($C$20+VLOOKUP(E$16,'PUNIndex e PUN per fascia'!$I:$M,5,FALSE),"") -> #NAME? | F20: =_xlfn.IFNA($C$20+VLOOKUP(F$16,'PUNIndex e PUN per fascia'!$I:$M,5,FALSE),"") -> #NAME? | G20: =_xlfn.IFNA($C$20+VLOOKUP(G$16,'PUNIndex e PUN per fascia'!$I:$M,5,FALSE),"") -> #NAME? | H20: =_xlfn.IFNA($C$20+VLOOKUP(H$16,'PUNIndex e PUN per fascia'!$I:$M,5,FALSE),"") -> #NAME? | I20: =_xlfn.IFNA($C$20+VLOOKUP(I$16,'PUNIndex e PUN per fascia'!$I:$M,5,FALSE),"") -> #NAME? | J20: =_xlfn.IFNA($C$20+VLOOKUP(J$16,'PUNIndex e PUN per fascia'!$I:$M,5,FALSE),"") -> #NAME? | K20: =_xlfn.IFNA($C$20+VLOOKUP(K$16,'PUNIndex e PUN per fascia'!$I:$M,5,FALSE),"") -> #NAME? | L20: =_xlfn.IFNA($C$20+VLOOKUP(L$16,'PUNIndex e PUN per fascia'!$I:$M,5,FALSE),"") -> #NAME? | ... Q20: =_xlfn.IFNA($C$20+VLOOKUP(Q$16,'PUNIndex e PUN per fascia'!$I:$M,5,FALSE),"") -> #NAME? | R20: =_xlfn.IFNA($C$20+VLOOKUP(R$14,'PUNIndex e PUN per fascia'!$I:$M,5,FALSE),"") -> #NAME?
A21: =+A9& "- Prezzi variabili al netto delle perdite di rete (Euro/MWh)" -> Lotto 17: Italia- Prezzi variabili al netto delle perdite di rete (Euro/MWh)
