Workbook

Sheet SOMMARIO
A4: Energia elettrica 18
A5: Convenzione per la fornitura di energia elettrica a prezzo fisso o a prezzo variabile e servizi connessi per tutte le Pubbliche Amministrazioni
A7: Configuratore corrispettivi a Prezzo Variabile per la fornitura di Energia Elettrica edizione 18
A9: Sommario
A10: Lotto 1: Valle d’Aosta, Piemonte | I10: Fornitore: AGSM Energia S.p.A.
A11: Lotto 2: Province di Milano e Lodi | D11: Lotto 2: Province di Milano e Lodi | I11: Fornitore: Enel Energia S.p.A.
A12: Lotto 3: Lombardia escluse le Province di Milano e Lodi | I12: Fornitore: Enel Energia S.p.A.
A13: Lotto 4: Trentino Alto Adige, Friuli Venezia Giulia | I13: Fornitore: AGSM Energia S.p.A.
A14: Lotto 5: Veneto | I14: Fornitore: Enel Energia S.p.A.
A15: Lotto 6: Emilia Romagna | I15: Fornitore: A2A Energia S.p.A.
A16: Lotto 7: Sardegna, Liguria | I16: Fornitore: Enel Energia S.p.A.
A17: Lotto 8: Toscana | I17: Fornitore: AGSM Energia S.p.A.
A18: Lotto 9: Umbria, Marche | I18: Fornitore: AGSM Energia S.p.A.
A19: Lotto 10: Provincia di Roma | I19: Fornitore: Enel Energia S.p.A.
A20: Lotto 11: Lazio esclusa la Provincia di Roma | I20: Fornitore: AGSM Energia S.p.A.
A21: Lotto 12: Abruzzo, Molise | I21: Fornitore: AGSM Energia S.p.A.
A22: Lotto 13: Campania | I22: Fornitore: Enel Energia S.p.A.
A23: Lotto 14: Puglia, Basilicata | I23: Fornitore: AGSM Energia S.p.A.
... A26: Lotto 17: Italia | I26: Fornitore: AGSM Energia S.p.A.
A28: I corrispettivi mensili sono inclusivi degli oneri relativi a:
A29: - Sbilanciamento | I29: Base d'Asta e Perdite di Rete
A30: - Emission Trading (CO2)
A31: - Certificati Verdi (CV) | I31: Opzione Verde
A32: Sono inceve totalmente a carico dell’Amministrazione, alle condizioni stabilite dalle autorità competenti:
A33: - le Perdite di Rete Standard | I33: PUNIndex e PUN per fascia
A34: - il Servizio di Dispacciamento
A35: - il Servizio di Trasporto (trasmissione e distribuzione) | I35: Fasce Orarie
A36: - il Servizio di Misura
A37: - gli Oneri di Sistema relativi al solo mercato libero come stabiliti, tempo per tempo, dall’ARERA (a titolo es. le componenti tariffarie ARIM, ASOS, UC, CMOR).
A38: - le Imposte e le Addizionali previste dalla normativa vigente.
A40: Si segnala che il presente configuratore rappresenta un mero strumento di ausilio diretto a fornire delle indicazioni di massima in ordine al possibile utilizzo della Convenzione da parte della singola P.A. in relazione a sue specifiche esigenze. Consip S.p.A. ed il MEF non assumono pertanto responsabilità alcuna in ordine ad eventuali errori/inesattezze contenuti nel software e/o nel foglio elettronico di calcolo che compongono il configuratore, ovvero anche ad eventuali errori nell’utilizzo di detti strumenti. Restano ferme tutte le condizioni contenute nella Convenzione e relativi allegati, alla cui attenta lettura ed esame, pertanto, si rinvia integralmente.

Sheet OPZIONE VERDE
M1: torna al SOMMARIO
A4: Energia elettrica 18
A5: Convenzione per la fornitura di energia elettrica a prezzo fisso o a prezzo variabile e servizi connessi per tutte le Pubbliche Amministrazioni
A7: Configuratore corrispettivi a Prezzo Variabile per la fornitura di Energia Elettrica edizione 18
A9: Base d'Asta e Prezzi dell' Opzione Verde
A11: Il Fornitore, ai sensi della deliberazione ARERA ARG/elt n. 104/11 e s.m.i., tramite Garanzia d’Origine, è tenuto a certificare la produzione di Energia Verde per tutti i Punti di Prelievo per i quali sia stata attivata l’Opzione Verde per un ammontare non inferiore al consumo totale effettivo degli stessi. L’attivazione dell’Opzione Verde (OV) consente all’amministrazione l’utilizzo del marchio offerto dal rispettivo Fornitore. Il Logo verrà concesso in uso dal Fornitore per la durata della fornitura. Il corrispettivo che si applica ad ogni MWh consumato, è fisso ed invariabile per tutta la durata contrattuale. Per ulteriori informazioni si rimanda alla Convenzione, al Capitolato Tecnico e alla Guida. Informazioni sulla Garanzia d'Origine si trovano sul sito www.gse.it
A13: Base d'Asta Opzione Verde (Euro/MWh) | E13: 1
A15: Fornitore | E15: Lotti | H15: Valore Opzione (Euro/MWh) | K15: Marchio
A17: AGSM Energia S.p.A. | E17: Lotto 1, 4, 8, 9, 11, 12, 14, 15, 17 | H17: 0.6
A19: Enel Energia S.p.A. | E19: Lotti 2, 3, 5, 7, 10, 13, 16 | H19: 0.9
A21: A2A Energia S.p.A. | E21: Lotto 6 | H21: 0.65

Sheet BASI D'ASTA e PERDITE DI RETE
J1: torna al SOMMARIO
A4: Energia elettrica 18
A5: Convenzione per la fornitura di energia elettrica a prezzo fisso o a prezzo variabile e servizi connessi per tutte le Pubbliche Amministrazioni
A7: Configuratore corrispettivi a Prezzo Variabile per la fornitura di Energia Elettrica edizione 18
A9: Basi d'Asta e Perdite di Rete
A12: SPREAD a Base d'Asta (al netto delle perdite di rete)*
A13: F1 | B13: F2 | C13: F3
A14: 12 | B14: 12 | C14: 12
A16: *Per tutte le tipologie di contratto di cui al comma 2.2 del TIT 2016-2019
A19: Tipologie di contratto di cui al comma 2.2 del TIT 2016-2019 | H19: Fattori percentuali di perdita di energia elettrica sulle reti con obbligo di connessione di terzi. Tabella 4 del TIS - Allegato A alla Deliberazione ARERA ARG/elt 107/09 s.m.i.
A20: Lettera b) Utenze in bassa tensione di illuminazione pubblica
A21: Lettera c) Utenze in BT ricarica veicoli elettrici pubblici
A22: Lettera d) Altre utenze in bassa tensione | H22: Livello di Tensione | J22: Perdite (%)
A23: Lettera e) Utenze in media tensione di illuminazione pubblica | H23: 380 kV | J23: 0.7
A24: Lettera f) Altre utenze in media tensione | H24: 220 kV | J24: 1.1
A25: Lettera g) Utenze in alta tensione | H25: ≤ 150 kV | J25: 1.8
A26: Lettera h) Utenze in altissima tensione < 380 kV | H26: MT (Media Tensione) | J26: 3.8
A27: Lettera i) Utenze in altissima tensione ≥ 380 kV | H27: BT (Bassa Tensione) | J27: 10.2

Sheet PUNIndex e PUN per fascia
L1: torna al SOMMARIO
A4: Energia elettrica 18
A5: Convenzione per la fornitura di energia elettrica a prezzo fisso o a prezzo variabile e servizi connessi per tutte le Pubbliche Amministrazioni
A7: Configuratore corrispettivi a Prezzo Variabile per la fornitura di Energia Elettrica edizione 18
A9: PUNIndex e PUN per fascia 12 e 24 mesi
I11: PUNIndex e PUN per fascia
I13: Mese | J13: F0 | K13: F1 | L13: F2 | M13: F3
J14: Euro/MWh | K14: Euro/MWh | L14: Euro/MWh | M14: Euro/MWh
I15: 44166 | J15: 54.04 | K15: 68.46 | L15: 59.43 | M15: 42.49
I16: 44197 | J16: 60.71 | K16: 73.92 | L16: 63.79 | M16: 51.55
I17: 44228 | J17: 56.57 | K17: 66.62 | L17: 62.71 | M17: 45.4
I18: 44256 | J18: 60.39 | K18: 62.62 | L18: 67.71 | M18: 54.37

Sheet FASCE ORARIE
J1: torna al SOMMARIO
A4: Energia elettrica 18
A5: Convenzione per la fornitura di energia elettrica a prezzo fisso o a prezzo variabile e servizi connessi per tutte le Pubbliche Amministrazioni
A7: Configuratore corrispettivi a Prezzo Variabile per la fornitura di Energia Elettrica edizione 18
A9: Fasce Orarie
A11: Deliberazione ARERA n. 301/2012/R/eel e s.m.i. - "TIV" - Allegato A - Tabella 6: Fasce orarie
A12: F1 | B12: Nei giorni dal lunedì al venerdì: dalle ore 8.00 alle ore 19.00
A13: F2 | B13: Nei giorni dal lunedì al venerdì: dalle ore 7.00 alle ore 8.00 e dalle ore 19.00 alle ore 23.00
B14: Nei giorni di sabato: dalle ore 7.00 alle ore 23.00
A15: F3 | B15: Nei giorni dal lunedì al sabato: dalle ore 00.00 alle ore 7.00 e dalle ore 23.00 dalle ore 24.00
B16: Nei giorni di domenica e festivi*: Tutte le ore della giornata
A17: * Si considerano festivi: 1 gennaio; 6 gennaio; lunedì di Pasqua; 25 Aprile; 1 maggio; 2 giugno; 15 agosto; 1 novembre; 8 dicembre; 25 dicembre; 26 dicembre
A20: inizio | B20: fine | C20: Lunedì | D20: Martedì | E20: Mercoledì | F20: Giovedì | G20: Venerdì | H20: Sabato | I20: Domenica
A21: 0 | B21: 0.041666667 | C21: F3 | D21: F3 | E21: F3 | F21: F3 | G21: F3 | H21: F3 | I21: F3
A22: 0.041666667 | B22: 0.083333333 | C22: F3 | D22: F3 | E22: F3 | F22: F3 | G22: F3 | H22: F3 | I22: F3
A23: 0.083333333 | B23: 0.125 | C23: F3 | D23: F3 | E23: F3 | F23: F3 | G23: F3 | H23: F3 | I23: F3
A24: 0.125 | B24: 0.16666667 | C24: F3 | D24: F3 | E24: F3 | F24: F3 | G24: F3 | H24: F3 | I24: F3
A25: 0.16666667 | B25: 0.20833333 | C25: F3 | D25: F3 | E25: F3 | F25: F3 | G25: F3 | H25: F3 | I25: F3
A26: 0.20833333 | B26: 0.25 | C26: F3 | D26: F3 | E26: F3 | F26: F3 | G26: F3 | H26: F3 | I26: F3
A27: 0.25 | B27: 0.29166667 | C27: F3 | D27: F3 | E27: F3 | F27: F3 | G27: F3 | H27: F3 | I27: F3
A28: 0.29166667 | B28: 0.33333333 | C28: F2 | D28: F2 | E28: F2 | F28: F2 | G28: F2 | H28: F2 | I28: F3
A29: 0.33333333 | B29: 0.375 | C29: F1 | D29: F1 | E29: F1 | F29: F1 | G29: F1 | H29: F2 | I29: F3
A30: 0.375 | B30: 0.41666667 | C30: F1 | D30: F1 | E30: F1 | F30: F1 | G30: F1 | H30: F2 | I30: F3
A31: 0.41666667 | B31: 0.45833333 | C31: F1 | D31: F1 | E31: F1 | F31: F1 | G31: F1 | H31: F2 | I31: F3
A32: 0.45833333 | B32: 0.5 | C32: F1 | D32: F1 | E32: F1 | F32: F1 | G32: F1 | H32: F2 | I32: F3
... A44: 0.95833333 | B44: 1 | C44: F3 | D44: F3 | E44: F3 | F44: F3 | G44: F3 | H44: F3 | I44: F3

Sheet Lotto 1
Q1: torna al SOMMARIO
A4: Energia elettrica 18
A5: Convenzione per la fornitura di energia elettrica a prezzo fisso o a prezzo variabile e servizi connessi per tutte le Pubbliche Amministrazioni
A7: Configuratore corrispettivi a Prezzo Variabile per la fornitura di Energia Elettrica edizione 18
A9: =+SOMMARIO!A10 -> Lotto 1: Valle d’Aosta, Piemonte
A11: Sconto PA Virtuose S | C11: 0,10 Euro/MWh
A12: Opzione Verde | C12: 0,60 Euro/MWh
A15: Forniture a Prezzo variabile a 12 e 24 mesi
B16: Fascia oraria | C16: ΨVAR | E16: 44166 | F16: 44197 | G16: 44228 | H16: 44256 | I16: 44287 | J16: 44317 | K16: 44348 | L16: 44378 | M16: 44409 | N16: 44440 | O16: 44470 | P16: 44501 | Q16: 44531 | R16: =_xlfn.IFNA($C$17+VLOOKUP(R$14,'PUNIndex e PUN per fascia'!$I:$M,2,FALSE),"") | S16: =_xlfn.IFNA($C$17+VLOOKUP(S$14,'PUNIndex e PUN per fascia'!$I:$M,2,FALSE),"") | T16: =_xlfn.IFNA($C$17+VLOOKUP(T$14,'PUNIndex e PUN per fascia'!$I:$M,2,FALSE),"") | U16: =_xlfn.IFNA($C$17+VLOOKUP(U$14,'PUNIndex e PUN per fascia'!$I:$M,2,FALSE),"") | V16: =_xlfn.IFNA($C$17+VLOOKUP(V$14,'PUNIndex e PUN per fascia'!$I:$M,2,FALSE),"") | W16: =_xlfn.IFNA($C$17+VLOOKUP(W$14,'PUNIndex e PUN per fascia'!$I:$M,2,FALSE),"") | X16: =_xlfn.IFNA($C$17+VLOOKUP(X$14,'PUNIndex e PUN per fascia'!$I:$M,2,FALSE),"") | Y16: =_xlfn.IFNA($C$17+VLOOKUP(Y$14,'PUNIndex e PUN per fascia'!$I:$M,2,FALSE),"") | Z16: =_xlfn.IFNA($C$17+VLOOKUP(Z$14,'PUNIndex e PUN per fascia'!$I:$M,2,FALSE),"")
B17: F0 | C17: 2.1 | E17: non attivo | F17: non attivo | G17: =_xlfn.IFNA($C$17+VLOOKUP(G$16,'PUNIndex e PUN per fascia'!$I:$M,2,FALSE),"") -> 58.67 | H17: =_xlfn.IFNA($C$17+VLOOKUP(H$16,'PUNIndex e PUN per fascia'!$I:$M,2,FALSE),"") -> 62.49 | I17: =_xlfn.IFNA($C$17+VLOOKUP(I$16,'PUNIndex e PUN per fascia'!$I:$M,2,FALSE),"") | J17: =_xlfn.IFNA($C$17+VLOOKUP(J$16,'PUNIndex e PUN per fascia'!$I:$M,2,FALSE),"") | K17: =_xlfn.IFNA($C$17+VLOOKUP(K$16,'PUNIndex e PUN per fascia'!$I:$M,2,FALSE),"") | L17: =_xlfn.IFNA($C$17+VLOOKUP(L$16,'PUNIndex e PUN per fascia'!$I:$M,2,FALSE),"") | M17: =_xlfn.IFNA($C$17+VLOOKUP(M$16,'PUNIndex e PUN per fascia'!$I:$M,2,FALSE),"") | N17: =_xlfn.IFNA($C$17+VLOOKUP(N$16,'PUNIndex e PUN per fascia'!$I:$M,2,FALSE),"") | ... Q17: =_xlfn.IFNA($C$17+VLOOKUP(Q$16,'PUNIndex e PUN per fascia'!$I:$M,2,FALSE),"")
B18: F1 | C18: =+C17 -> 2.1 | E18: non attivo | F18: non attivo | G18: =_xlfn.IFNA($C$18+VLOOKUP(G$16,'PUNIndex e PUN per fascia'!$I:$M,3,FALSE),"") -> 68.72 | H18: =_xlfn.IFNA($C$18+VLOOKUP(H$16,'PUNIndex e PUN per fascia'!$I:$M,3,FALSE),"") -> 64.72 | I18: =_xlfn.IFNA($C$18+VLOOKUP(I$16,'PUNIndex e PUN per fascia'!$I:$M,3,FALSE),"") | J18: =_xlfn.IFNA($C$18+VLOOKUP(J$16,'PUNIndex e PUN per fascia'!$I:$M,3,FALSE),"") | K18: =_xlfn.IFNA($C$18+VLOOKUP(K$16,'PUNIndex e PUN per fascia'!$I:$M,3,FALSE),"") | L18: =_xlfn.IFNA($C$18+VLOOKUP(L$16,'PUNIndex e PUN per fascia'!$I:$M,3,FALSE),"") | M18: =_xlfn.IFNA($C$18+VLOOKUP(M$16,'PUNIndex e PUN per fascia'!$I:$M,3,FALSE),"") | N18: =_xlfn.IFNA($C$18+VLOOKUP(N$16,'PUNIndex e PUN per fascia'!$I:$M,3,FALSE),"") | ... Q18: =_xlfn.IFNA($C$18+VLOOKUP(Q$16,'PUNIndex e PUN per fascia'!$I:$M,3,FALSE),"")
B19: F2 | C19: =+C17 -> 2.1 | E19: non attivo | F19: non attivo | G19: =_xlfn.IFNA($C$19+VLOOKUP(G$16,'PUNIndex e PUN per fascia'!$I:$M,4,FALSE),"") -> 64.81 | H19: =_xlfn.IFNA($C$19+VLOOKUP(H$16,'PUNIndex e PUN per fascia'!$I:$M,4,FALSE),"") -> 69.81 | I19: =_xlfn.IFNA($C$19+VLOOKUP(I$16,'PUNIndex e PUN per fascia'!$I:$M,4,FALSE),"") | J19: =_xlfn.IFNA($C$19+VLOOKUP(J$16,'PUNIndex e PUN per fascia'!$I:$M,4,FALSE),"") | K19: =_xlfn.IFNA($C$19+VLOOKUP(K$16,'PUNIndex e PUN per fascia'!$I:$M,4,FALSE),"") | L19: =_xlfn.IFNA($C$19+VLOOKUP(L$16,'PUNIndex e PUN per fascia'!$I:$M,4,FALSE),"") | M19: =_xlfn.IFNA($C$19+VLOOKUP(M$16,'PUNIndex e PUN per fascia'!$I:$M,4,FALSE),"") | N19: =_xlfn.IFNA($C$19+VLOOKUP(N$16,'PUNIndex e PUN per fascia'!$I:$M,4,FALSE),"") | ... Q19: =_xlfn.IFNA($C$19+VLOOKUP(Q$16,'PUNIndex e PUN per fascia'!$I:$M,4,FALSE),"")
B20: F3 | C20: =+C17 -> 2.1 | E20: non attivo | F20: non attivo | G20: =_xlfn.IFNA($C$20+VLOOKUP(G$16,'PUNIndex e PUN per fascia'!$I:$M,5,FALSE),"") -> 47.5 | H20: =_xlfn.IFNA($C$20+VLOOKUP(H$16,'PUNIndex e PUN per fascia'!$I:$M,5,FALSE),"") -> 56.47 | I20: =_xlfn.IFNA($C$20+VLOOKUP(I$16,'PUNIndex e PUN per fascia'!$I:$M,5,FALSE),"") | J20: =_xlfn.IFNA($C$20+VLOOKUP(J$16,'PUNIndex e PUN per fascia'!$I:$M,5,FALSE),"") | K20: =_xlfn.IFNA($C$20+VLOOKUP(K$16,'PUNIndex e PUN per fascia'!$I:$M,5,FALSE),"") | L20: =_xlfn.IFNA($C$20+VLOOKUP(L$16,'PUNIndex e PUN per fascia'!$I:$M,5,FALSE),"") | M20: =_xlfn.IFNA($C$20+VLOOKUP(M$16,'PUNIndex e PUN per fascia'!$I:$M,5,FALSE),"") | N20: =_xlfn.IFNA($C$20+VLOOKUP(N$16,'PUNIndex e PUN per fascia'!$I:$M,5,FALSE),"") | ... Q20: =_xlfn.IFNA($C$20+VLOOKUP(Q$16,'PUNIndex e PUN per fascia'!$I:$M,5,FALSE),"")
A21: LOTTO 1 - Prezzi Variabili al netto delle perdite di rete (Euro/MWh)

Sheet Lotto 2
Q1: torna al SOMMARIO
A4: Energia elettrica 18
A5: Convenzione per la fornitura di energia elettrica a prezzo fisso o a prezzo variabile e servizi connessi per tutte le Pubbliche Amministrazioni
A7: Configuratore corrispettivi a Prezzo Variabile per la fornitura di Energia Elettrica edizione 18
A9: =+SOMMARIO!A11 -> Lotto 2: Province di Milano e Lodi
A11: Sconto PA Virtuose S | C11: 0,76 Euro/MWh
A12: Opzione Verde | C12: 0,9 Euro/MWh
A15: Forniture a Prezzo variabile a 12 e 24 mesi
B16: Fascia oraria | C16: ΨVAR | E16: 44166 | F16: 44197 | G16: 44228 | H16: 44256 | I16: 44287 | J16: 44317 | K16: 44348 | L16: 44378 | M16: 44409 | N16: 44440 | O16: 44470 | P16: 44501 | Q16: 44531 | R16: =_xlfn.IFNA($C$17+VLOOKUP(R$14,'PUNIndex e PUN per fascia'!$I:$M,2,FALSE),"") | S16: =_xlfn.IFNA($C$17+VLOOKUP(S$14,'PUNIndex e PUN per fascia'!$I:$M,2,FALSE),"") | T16: =_xlfn.IFNA($C$17+VLOOKUP(T$14,'PUNIndex e PUN per fascia'!$I:$M,2,FALSE),"") | U16: =_xlfn.IFNA($C$17+VLOOKUP(U$14,'PUNIndex e PUN per fascia'!$I:$M,2,FALSE),"") | V16: =_xlfn.IFNA($C$17+VLOOKUP(V$14,'PUNIndex e PUN per fascia'!$I:$M,2,FALSE),"") | W16: =_xlfn.IFNA($C$17+VLOOKUP(W$14,'PUNIndex e PUN per fascia'!$I:$M,2,FALSE),"") | X16: =_xlfn.IFNA($C$17+VLOOKUP(X$14,'PUNIndex e PUN per fascia'!$I:$M,2,FALSE),"") | Y16: =_xlfn.IFNA($C$17+VLOOKUP(Y$14,'PUNIndex e PUN per fascia'!$I:$M,2,FALSE),"") | Z16: =_xlfn.IFNA($C$17+VLOOKUP(Z$14,'PUNIndex e PUN per fascia'!$I:$M,2,FALSE),"")
B17: F0 | C17: 1.64 | E17: non attivo | F17: non attivo | G17: =_xlfn.IFNA($C$17+VLOOKUP(G$16,'PUNIndex e PUN per fascia'!$I:$M,2,FALSE),"") -> 58.21 | H17: =_xlfn.IFNA($C$17+VLOOKUP(H$16,'PUNIndex e PUN per fascia'!$I:$M,2,FALSE),"") -> 62.03 | I17: =_xlfn.IFNA($C$17+VLOOKUP(I$16,'PUNIndex e PUN per fascia'!$I:$M,2,FALSE),"") | J17: =_xlfn.IFNA($C$17+VLOOKUP(J$16,'PUNIndex e PUN per fascia'!$I:$M,2,FALSE),"") | K17: =_xlfn.IFNA($C$17+VLOOKUP(K$16,'PUNIndex e PUN per fascia'!$I:$M,2,FALSE),"") | L17: =_xlfn.IFNA($C$17+VLOOKUP(L$16,'PUNIndex e PUN per fascia'!$I:$M,2,FALSE),"") | M17: =_xlfn.IFNA($C$17+VLOOKUP(M$16,'PUNIndex e PUN per fascia'!$I:$M,2,FALSE),"") | N17: =_xlfn.IFNA($C$17+VLOOKUP(N$16,'PUNIndex e PUN per fascia'!$I:$M,2,FALSE),"") | ... Q17: =_xlfn.IFNA($C$17+VLOOKUP(Q$16,'PUNIndex e PUN per fascia'!$I:$M,2,FALSE),"")
B18: F1 | C18: =+C17 -> 1.64 | E18: non attivo | F18: non attivo | G18: =_xlfn.IFNA($C$18+VLOOKUP(G$16,'PUNIndex e PUN per fascia'!$I:$M,3,FALSE),"") -> 68.26 | H18: =_xlfn.IFNA($C$18+VLOOKUP(H$16,'PUNIndex e PUN per fascia'!$I:$M,3,FALSE),"") -> 64.26 | I18: =_xlfn.IFNA($C$18+VLOOKUP(I$16,'PUNIndex e PUN per fascia'!$I:$M,3,FALSE),"") | J18: =_xlfn.IFNA($C$18+VLOOKUP(J$16,'PUNIndex e PUN per fascia'!$I:$M,3,FALSE),"") | K18: =_xlfn.IFNA($C$18+VLOOKUP(K$16,'PUNIndex e PUN per fascia'!$I:$M,3,FALSE),"") | L18: =_xlfn.IFNA($C$18+VLOOKUP(L$16,'PUNIndex e PUN per fascia'!$I:$M,3,FALSE),"") | M18: =_xlfn.IFNA($C$18+VLOOKUP(M$16,'PUNIndex e PUN per fascia'!$I:$M,3,FALSE),"") | N18: =_xlfn.IFNA($C$18+VLOOKUP(N$16,'PUNIndex e PUN per fascia'!$I:$M,3,FALSE),"") | ... Q18: =_xlfn.IFNA($C$18+VLOOKUP(Q$16,'PUNIndex e PUN per fascia'!$I:$M,3,FALSE),"")
B19: F2 | C19: =+C17 -> 1.64 | E19: non attivo | F19: non attivo | G19: =_xlfn.IFNA($C$19+VLOOKUP(G$16,'PUNIndex e PUN per fascia'!$I:$M,4,FALSE),"") -> 64.35 | H19: =_xlfn.IFNA($C$19+VLOOKUP(H$16,'PUNIndex e PUN per fascia'!$I:$M,4,FALSE),"") -> 69.35 | I19: =_xlfn.IFNA($C$19+VLOOKUP(I$16,'PUNIndex e PUN per fascia'!$I:$M,4,FALSE),"") | J19: =_xlfn.IFNA($C$19+VLOOKUP(J$16,'PUNIndex e PUN per fascia'!$I:$M,4,FALSE),"") | K19: =_xlfn.IFNA($C$19+VLOOKUP(K$16,'PUNIndex e PUN per fascia'!$I:$M,4,FALSE),"") | L19: =_xlfn.IFNA($C$19+VLOOKUP(L$16,'PUNIndex e PUN per fascia'!$I:$M,4,FALSE),"") | M19: =_xlfn.IFNA($C$19+VLOOKUP(M$16,'PUNIndex e PUN per fascia'!$I:$M,4,FALSE),"") | N19: =_xlfn.IFNA($C$19+VLOOKUP(N$16,'PUNIndex e PUN per fascia'!$I:$M,4,FALSE),"") | ... Q19: =_xlfn.IFNA($C$19+VLOOKUP(Q$16,'PUNIndex e PUN per fascia'!$I:$M,4,FALSE),"")
B20: F3 | C20: =+C17 -> 1.64 | E20: non attivo | F20: non attivo | G20: =_xlfn.IFNA($C$20+VLOOKUP(G$16,'PUNIndex e PUN per fascia'!$I:$M,5,FALSE),"") -> 47.04 | H20: =_xlfn.IFNA($C$20+VLOOKUP(H$16,'PUNIndex e PUN per fascia'!$I:$M,5,FALSE),"") -> 56.01 | I20: =_xlfn.IFNA($C$20+VLOOKUP(I$16,'PUNIndex e PUN per fascia'!$I:$M,5,FALSE),"") | J20: =_xlfn.IFNA($C$20+VLOOKUP(J$16,'PUNIndex e PUN per fascia'!$I:$M,5,FALSE),"") | K20: =_xlfn.IFNA($C$20+VLOOKUP(K$16,'PUNIndex e PUN per fascia'!$I:$M,5,FALSE),"") | L20: =_xlfn.IFNA($C$20+VLOOKUP(L$16,'PUNIndex e PUN per fascia'!$I:$M,5,FALSE),"") | M20: =_xlfn.IFNA($C$20+VLOOKUP(M$16,'PUNIndex e PUN per fascia'!$I:$M,5,FALSE),"") | N20: =_xlfn.IFNA($C$20+VLOOKUP(N$16,'PUNIndex e PUN per fascia'!$I:$M,5,FALSE),"") | ... Q20: =_xlfn.IFNA($C$20+VLOOKUP(Q$16,'PUNIndex e PUN per fascia'!$I:$M,5,FALSE),"")
A21: LOTTO 1 - Prezzi Variabili al netto delle perdite di rete (Euro/MWh)

Sheet Lotto 3
Q1: torna al SOMMARIO
A4: Energia elettrica 18
A5: Convenzione per la fornitura di energia elettrica a prezzo fisso o a prezzo variabile e servizi connessi per tutte le Pubbliche Amministrazioni
A7: Configuratore corrispettivi a Prezzo Variabile per la fornitura di Energia Elettrica edizione 18
A9: =+SOMMARIO!A12 -> Lotto 3: Lombardia escluse le Province di Milano e Lodi
A11: Sconto PA Virtuose S | C11: 0,64 Euro/MWh
A12: Opzione Verde | C12: 0,9 Euro/MWh
A15: Forniture a Prezzo variabile a 12 e 24 mesi
B16: Fascia oraria | C16: ΨVAR | E16: 44166 | F16: 44197 | G16: 44228 | H16: 44256 | I16: 44287 | J16: 44317 | K16: 44348 | L16: 44378 | M16: 44409 | N16: 44440 | O16: 44470 | P16: 44501 | Q16: 44531 | R16: =_xlfn.IFNA($C$17+VLOOKUP(R$14,'PUNIndex e PUN per fascia'!$I:$M,2,FALSE),"") | S16: =_xlfn.IFNA($C$17+VLOOKUP(S$14,'PUNIndex e PUN per fascia'!$I:$M,2,FALSE),"") | T16: =_xlfn.IFNA($C$17+VLOOKUP(T$14,'PUNIndex e PUN per fascia'!$I:$M,2,FALSE),"") | U16: =_xlfn.IFNA($C$17+VLOOKUP(U$14,'PUNIndex e PUN per fascia'!$I:$M,2,FALSE),"") | V16: =_xlfn.IFNA($C$17+VLOOKUP(V$14,'PUNIndex e PUN per fascia'!$I:$M,2,FALSE),"") | W16: =_xlfn.IFNA($C$17+VLOOKUP(W$14,'PUNIndex e PUN per fascia'!$I:$M,2,FALSE),"") | X16: =_xlfn.IFNA($C$17+VLOOKUP(X$14,'PUNIndex e PUN per fascia'!$I:$M,2,FALSE),"") | Y16: =_xlfn.IFNA($C$17+VLOOKUP(Y$14,'PUNIndex e PUN per fascia'!$I:$M,2,FALSE),"") | Z16: =_xlfn.IFNA($C$17+VLOOKUP(Z$14,'PUNIndex e PUN per fascia'!$I:$M,2,FALSE),"")
B17: F0 | C17: 1.55 | E17: non attivo | F17: non attivo | G17: =_xlfn.IFNA($C$17+VLOOKUP(G$16,'PUNIndex e PUN per fascia'!$I:$M,2,FALSE),"") -> 58.12 | H17: =_xlfn.IFNA($C$17+VLOOKUP(H$16,'PUNIndex e PUN per fascia'!$I:$M,2,FALSE),"") -> 61.94 | I17: =_xlfn.IFNA($C$17+VLOOKUP(I$16,'PUNIndex e PUN per fascia'!$I:$M,2,FALSE),"") | J17: =_xlfn.IFNA($C$17+VLOOKUP(J$16,'PUNIndex e PUN per fascia'!$I:$M,2,FALSE),"") | K17: =_xlfn.IFNA($C$17+VLOOKUP(K$16,'PUNIndex e PUN per fascia'!$I:$M,2,FALSE),"") | L17: =_xlfn.IFNA($C$17+VLOOKUP(L$16,'PUNIndex e PUN per fascia'!$I:$M,2,FALSE),"") | M17: =_xlfn.IFNA($C$17+VLOOKUP(M$16,'PUNIndex e PUN per fascia'!$I:$M,2,FALSE),"") | N17: =_xlfn.IFNA($C$17+VLOOKUP(N$16,'PUNIndex e PUN per fascia'!$I:$M,2,FALSE),"") | ... Q17: =_xlfn.IFNA($C$17+VLOOKUP(Q$16,'PUNIndex e PUN per fascia'!$I:$M,2,FALSE),"")
B18: F1 | C18: =+C17 -> 1.55 | E18: non attivo | F18: non attivo | G18: =_xlfn.IFNA($C$18+VLOOKUP(G$16,'PUNIndex e PUN per fascia'!$I:$M,3,FALSE),"") -> 68.17 | H18: =_xlfn.IFNA($C$18+VLOOKUP(H$16,'PUNIndex e PUN per fascia'!$I:$M,3,FALSE),"") -> 64.17 | I18: =_xlfn.IFNA($C$18+VLOOKUP(I$16,'PUNIndex e PUN per fascia'!$I:$M,3,FALSE),"") | J18: =_xlfn.IFNA($C$18+VLOOKUP(J$16,'PUNIndex e PUN per fascia'!$I:$M,3,FALSE),"") | K18: =_xlfn.IFNA($C$18+VLOOKUP(K$16,'PUNIndex e PUN per fascia'!$I:$M,3,FALSE),"") | L18: =_xlfn.IFNA($C$18+VLOOKUP(L$16,'PUNIndex e PUN per fascia'!$I:$M,3,FALSE),"") | M18: =_xlfn.IFNA($C$18+VLOOKUP(M$16,'PUNIndex e PUN per fascia'!$I:$M,3,FALSE),"") | N18: =_xlfn.IFNA($C$18+VLOOKUP(N$16,'PUNIndex e PUN per fascia'!$I:$M,3,FALSE),"") | ... Q18: =_xlfn.IFNA($C$18+VLOOKUP(Q$16,'PUNIndex e PUN per fascia'!$I:$M,3,FALSE),"")
B19: F2 | C19: =+C17 -> 1.55 | E19: non attivo | F19: non attivo | G19: =_xlfn.IFNA($C$19+VLOOKUP(G$16,'PUNIndex e PUN per fascia'!$I:$M,4,FALSE),"") -> 64.26 | H19: =_xlfn.IFNA($C$19+VLOOKUP(H$16,'PUNIndex e PUN per fascia'!$I:$M,4,FALSE),"") -> 69.26 | I19: =_xlfn.IFNA($C$19+VLOOKUP(I$16,'PUNIndex e PUN per fascia'!$I:$M,4,FALSE),"") | J19: =_xlfn.IFNA($C$19+VLOOKUP(J$16,'PUNIndex e PUN per fascia'!$I:$M,4,FALSE),"") | K19: =_xlfn.IFNA($C$19+VLOOKUP(K$16,'PUNIndex e PUN per fascia'!$I:$M,4,FALSE),"") | L19: =_xlfn.IFNA($C$19+VLOOKUP(L$16,'PUNIndex e PUN per fascia'!$I:$M,4,FALSE),"") | M19: =_xlfn.IFNA($C$19+VLOOKUP(M$16,'PUNIndex e PUN per fascia'!$I:$M,4,FALSE),"") | N19: =_xlfn.IFNA($C$19+VLOOKUP(N$16,'PUNIndex e PUN per fascia'!$I:$M,4,FALSE),"") | ... Q19: =_xlfn.IFNA($C$19+VLOOKUP(Q$16,'PUNIndex e PUN per fascia'!$I:$M,4,FALSE),"")
B20: F3 | C20: =+C17 -> 1.55 | E20: non attivo | F20: non attivo | G20: =_xlfn.IFNA($C$20+VLOOKUP(G$16,'PUNIndex e PUN per fascia'!$I:$M,5,FALSE),"") -> 46.95 | H20: =_xlfn.IFNA($C$20+VLOOKUP(H$16,'PUNIndex e PUN per fascia'!$I:$M,5,FALSE),"") -> 55.92 | I20: =_xlfn.IFNA($C$20+VLOOKUP(I$16,'PUNIndex e PUN per fascia'!$I:$M,5,FALSE),"") | J20: =_xlfn.IFNA($C$20+VLOOKUP(J$16,'PUNIndex e PUN per fascia'!$I:$M,5,FALSE),"") | K20: =_xlfn.IFNA($C$20+VLOOKUP(K$16,'PUNIndex e PUN per fascia'!$I:$M,5,FALSE),"") | L20: =_xlfn.IFNA($C$20+VLOOKUP(L$16,'PUNIndex e PUN per fascia'!$I:$M,5,FALSE),"") | M20: =_xlfn.IFNA($C$20+VLOOKUP(M$16,'PUNIndex e PUN per fascia'!$I:$M,5,FALSE),"") | N20: =_xlfn.IFNA($C$20+VLOOKUP(N$16,'PUNIndex e PUN per fascia'!$I:$M,5,FALSE),"") | ... Q20: =_xlfn.IFNA($C$20+VLOOKUP(Q$16,'PUNIndex e PUN per fascia'!$I:$M,5,FALSE),"")
A21: LOTTO 3 - Prezzi Variabili al netto delle perdite di rete (Euro/MWh)

Sheet Lotto 4
Q1: torna al SOMMARIO
A4: Energia elettrica 18
A5: Convenzione per la fornitura di energia elettrica a prezzo fisso o a prezzo variabile e servizi connessi per tutte le Pubbliche Amministrazioni
A7: Configuratore corrispettivi a Prezzo Variabile per la fornitura di Energia Elettrica edizione 18
A9: =+SOMMARIO!A13 -> Lotto 4: Trentino Alto Adige, Friuli Venezia Giulia
A11: Sconto PA Virtuose S | C11: 0,10 Euro/MWh
A12: Opzione Verde | C12: 0,60 Euro/MWh
A15: Forniture a Prezzo variabile a 12 e 24 mesi
B16: Fascia oraria | C16: ΨVAR | E16: 44166 | F16: 44197 | G16: 44228 | H16: 44256 | I16: 44287 | J16: 44317 | K16: 44348 | L16: 44378 | M16: 44409 | N16: 44440 | O16: 44470 | P16: 44501 | Q16: 44531 | R16: =_xlfn.IFNA($C$17+VLOOKUP(R$14,'PUNIndex e PUN per fascia'!$I:$M,2,FALSE),"") | S16: =_xlfn.IFNA($C$17+VLOOKUP(S$14,'PUNIndex e PUN per fascia'!$I:$M,2,FALSE),"") | T16: =_xlfn.IFNA($C$17+VLOOKUP(T$14,'PUNIndex e PUN per fascia'!$I:$M,2,FALSE),"") | U16: =_xlfn.IFNA($C$17+VLOOKUP(U$14,'PUNIndex e PUN per fascia'!$I:$M,2,FALSE),"") | V16: =_xlfn.IFNA($C$17+VLOOKUP(V$14,'PUNIndex e PUN per fascia'!$I:$M,2,FALSE),"") | W16: =_xlfn.IFNA($C$17+VLOOKUP(W$14,'PUNIndex e PUN per fascia'!$I:$M,2,FALSE),"") | X16: =_xlfn.IFNA($C$17+VLOOKUP(X$14,'PUNIndex e PUN per fascia'!$I:$M,2,FALSE),"") | Y16: =_xlfn.IFNA($C$17+VLOOKUP(Y$14,'PUNIndex e PUN per fascia'!$I:$M,2,FALSE),"") | Z16: =_xlfn.IFNA($C$17+VLOOKUP(Z$14,'PUNIndex e PUN per fascia'!$I:$M,2,FALSE),"")
B17: F0 | C17: 2.1 | E17: non attivo | F17: non attivo | G17: =_xlfn.IFNA($C$17+VLOOKUP(G$16,'PUNIndex e PUN per fascia'!$I:$M,2,FALSE),"") -> 58.67 | H17: =_xlfn.IFNA($C$17+VLOOKUP(H$16,'PUNIndex e PUN per fascia'!$I:$M,2,FALSE),"") -> 62.49 | I17: =_xlfn.IFNA($C$17+VLOOKUP(I$16,'PUNIndex e PUN per fascia'!$I:$M,2,FALSE),"") | J17: =_xlfn.IFNA($C$17+VLOOKUP(J$16,'PUNIndex e PUN per fascia'!$I:$M,2,FALSE),"") | K17: =_xlfn.IFNA($C$17+VLOOKUP(K$16,'PUNIndex e PUN per fascia'!$I:$M,2,FALSE),"") | L17: =_xlfn.IFNA($C$17+VLOOKUP(L$16,'PUNIndex e PUN per fascia'!$I:$M,2,FALSE),"") | M17: =_xlfn.IFNA($C$17+VLOOKUP(M$16,'PUNIndex e PUN per fascia'!$I:$M,2,FALSE),"") | N17: =_xlfn.IFNA($C$17+VLOOKUP(N$16,'PUNIndex e PUN per fascia'!$I:$M,2,FALSE),"") | ... Q17: =_xlfn.IFNA($C$17+VLOOKUP(Q$16,'PUNIndex e PUN per fascia'!$I:$M,2,FALSE),"")
B18: F1 | C18: =+C17 -> 2.1 | E18: non attivo | F18: non attivo | G18: =_xlfn.IFNA($C$18+VLOOKUP(G$16,'PUNIndex e PUN per fascia'!$I:$M,3,FALSE),"") -> 68.72 | H18: =_xlfn.IFNA($C$18+VLOOKUP(H$16,'PUNIndex e PUN per fascia'!$I:$M,3,FALSE),"") -> 64.72 | I18: =_xlfn.IFNA($C$18+VLOOKUP(I$16,'PUNIndex e PUN per fascia'!$I:$M,3,FALSE),"") | J18: =_xlfn.IFNA($C$18+VLOOKUP(J$16,'PUNIndex e PUN per fascia'!$I:$M,3,FALSE),"") | K18: =_xlfn.IFNA($C$18+VLOOKUP(K$16,'PUNIndex e PUN per fascia'!$I:$M,3,FALSE),"") | L18: =_xlfn.IFNA($C$18+VLOOKUP(L$16,'PUNIndex e PUN per fascia'!$I:$M,3,FALSE),"") | M18: =_xlfn.IFNA($C$18+VLOOKUP(M$16,'PUNIndex e PUN per fascia'!$I:$M,3,FALSE),"") | N18: =_xlfn.IFNA($C$18+VLOOKUP(N$16,'PUNIndex e PUN per fascia'!$I:$M,3,FALSE),"") | ... Q18: =_xlfn.IFNA($C$18+VLOOKUP(Q$16,'PUNIndex e PUN per fascia'!$I:$M,3,FALSE),"")
B19: F2 | C19: =+C17 -> 2.1 | E19: non attivo | F19: non attivo | G19: =_xlfn.IFNA($C$19+VLOOKUP(G$16,'PUNIndex e PUN per fascia'!$I:$M,4,FALSE),"") -> 64.81 | H19: =_xlfn.IFNA($C$19+VLOOKUP(H$16,'PUNIndex e PUN per fascia'!$I:$M,4,FALSE),"") -> 69.81 | I19: =_xlfn.IFNA($C$19+VLOOKUP(I$16,'PUNIndex e PUN per fascia'!$I:$M,4,FALSE),"") | J19: =_xlfn.IFNA($C$19+VLOOKUP(J$16,'PUNIndex e PUN per fascia'!$I:$M,4,FALSE),"") | K19: =_xlfn.IFNA($C$19+VLOOKUP(K$16,'PUNIndex e PUN per fascia'!$I:$M,4,FALSE),"") | L19: =_xlfn.IFNA($C$19+VLOOKUP(L$16,'PUNIndex e PUN per fascia'!$I:$M,4,FALSE),"") | M19: =_xlfn.IFNA($C$19+VLOOKUP(M$16,'PUNIndex e PUN per fascia'!$I:$M,4,FALSE),"") | N19: =_xlfn.IFNA($C$19+VLOOKUP(N$16,'PUNIndex e PUN per fascia'!$I:$M,4,FALSE),"") | ... Q19: =_xlfn.IFNA($C$19+VLOOKUP(Q$16,'PUNIndex e PUN per fascia'!$I:$M,4,FALSE),"")
B20: F3 | C20: =+C17 -> 2.1 | E20: non attivo | F20: non attivo | G20: =_xlfn.IFNA($C$20+VLOOKUP(G$16,'PUNIndex e PUN per fascia'!$I:$M,5,FALSE),"") -> 47.5 | H20: =_xlfn.IFNA($C$20+VLOOKUP(H$16,'PUNIndex e PUN per fascia'!$I:$M,5,FALSE),"") -> 56.47 | I20: =_xlfn.IFNA($C$20+VLOOKUP(I$16,'PUNIndex e PUN per fascia'!$I:$M,5,FALSE),"") | J20: =_xlfn.IFNA($C$20+VLOOKUP(J$16,'PUNIndex e PUN per fascia'!$I:$M,5,FALSE),"") | K20: =_xlfn.IFNA($C$20+VLOOKUP(K$16,'PUNIndex e PUN per fascia'!$I:$M,5,FALSE),"") | L20: =_xlfn.IFNA($C$20+VLOOKUP(L$16,'PUNIndex e PUN per fascia'!$I:$M,5,FALSE),"") | M20: =_xlfn.IFNA($C$20+VLOOKUP(M$16,'PUNIndex e PUN per fascia'!$I:$M,5,FALSE),"") | N20: =_xlfn.IFNA($C$20+VLOOKUP(N$16,'PUNIndex e PUN per fascia'!$I:$M,5,FALSE),"") | ... Q20: =_xlfn.IFNA($C$20+VLOOKUP(Q$16,'PUNIndex e PUN per fascia'!$I:$M,5,FALSE),"")
A21: LOTTO 4 - Prezzi Variabili al netto delle perdite di rete (Euro/MWh)

Sheet Lotto 5
Q1: torna al SOMMARIO
A4: Energia elettrica 18
A5: Convenzione per la fornitura di energia elettrica a prezzo fisso o a prezzo variabile e servizi connessi per tutte le Pubbliche Amministrazioni
A7: Configuratore corrispettivi a Prezzo Variabile per la fornitura di Energia Elettrica edizione 18
A9: =+SOMMARIO!A14 -> Lotto 5: Veneto
A11: Sconto PA Virtuose S | C11: 0,59 Euro/MWh
A12: Opzione Verde | C12: 0,9 Euro/MWh
A15: Forniture a Prezzo variabile a 12 e 24 mesi
B16: Fascia oraria | C16: ΨVAR | E16: 44166 | F16: 44197 | G16: 44228 | H16: 44256 | I16: 44287 | J16: 44317 | K16: 44348 | L16: 44378 | M16: 44409 | N16: 44440 | O16: 44470 | P16: 44501 | Q16: 44531 | R16: =_xlfn.IFNA($C$17+VLOOKUP(R$14,'PUNIndex e PUN per fascia'!$I:$M,2,FALSE),"") | S16: =_xlfn.IFNA($C$17+VLOOKUP(S$14,'PUNIndex e PUN per fascia'!$I:$M,2,FALSE),"") | T16: =_xlfn.IFNA($C$17+VLOOKUP(T$14,'PUNIndex e PUN per fascia'!$I:$M,2,FALSE),"") | U16: =_xlfn.IFNA($C$17+VLOOKUP(U$14,'PUNIndex e PUN per fascia'!$I:$M,2,FALSE),"") | V16: =_xlfn.IFNA($C$17+VLOOKUP(V$14,'PUNIndex e PUN per fascia'!$I:$M,2,FALSE),"") | W16: =_xlfn.IFNA($C$17+VLOOKUP(W$14,'PUNIndex e PUN per fascia'!$I:$M,2,FALSE),"") | X16: =_xlfn.IFNA($C$17+VLOOKUP(X$14,'PUNIndex e PUN per fascia'!$I:$M,2,FALSE),"") | Y16: =_xlfn.IFNA($C$17+VLOOKUP(Y$14,'PUNIndex e PUN per fascia'!$I:$M,2,FALSE),"") | Z16: =_xlfn.IFNA($C$17+VLOOKUP(Z$14,'PUNIndex e PUN per fascia'!$I:$M,2,FALSE),"")
B17: F0 | C17: 2.12 | E17: =_xlfn.IFNA($C$17+VLOOKUP(E$16,'PUNIndex e PUN per fascia'!$I:$M,2,FALSE),"") -> 56.16 | F17: =_xlfn.IFNA($C$17+VLOOKUP(F$16,'PUNIndex e PUN per fascia'!$I:$M,2,FALSE),"") -> 62.83 | G17: =_xlfn.IFNA($C$17+VLOOKUP(G$16,'PUNIndex e PUN per fascia'!$I:$M,2,FALSE),"") -> 58.69 | H17: =_xlfn.IFNA($C$17+VLOOKUP(H$16,'PUNIndex e PUN per fascia'!$I:$M,2,FALSE),"") -> 62.51 | I17: =_xlfn.IFNA($C$17+VLOOKUP(I$16,'PUNIndex e PUN per fascia'!$I:$M,2,FALSE),"") | J17: =_xlfn.IFNA($C$17+VLOOKUP(J$16,'PUNIndex e PUN per fascia'!$I:$M,2,FALSE),"") | K17: =_xlfn.IFNA($C$17+VLOOKUP(K$16,'PUNIndex e PUN per fascia'!$I:$M,2,FALSE),"") | L17: =_xlfn.IFNA($C$17+VLOOKUP(L$16,'PUNIndex e PUN per fascia'!$I:$M,2,FALSE),"") | ... Q17: =_xlfn.IFNA($C$17+VLOOKUP(Q$16,'PUNIndex e PUN per fascia'!$I:$M,2,FALSE),"")
B18: F1 | C18: =+C17 -> 2.12 | E18: =_xlfn.IFNA($C$18+VLOOKUP(E$16,'PUNIndex e PUN per fascia'!$I:$M,3,FALSE),"") -> 70.58 | F18: =_xlfn.IFNA($C$18+VLOOKUP(F$16,'PUNIndex e PUN per fascia'!$I:$M,3,FALSE),"") -> 76.04 | G18: =_xlfn.IFNA($C$18+VLOOKUP(G$16,'PUNIndex e PUN per fascia'!$I:$M,3,FALSE),"") -> 68.74 | H18: =_xlfn.IFNA($C$18+VLOOKUP(H$16,'PUNIndex e PUN per fascia'!$I:$M,3,FALSE),"") -> 64.74 | I18: =_xlfn.IFNA($C$18+VLOOKUP(I$16,'PUNIndex e PUN per fascia'!$I:$M,3,FALSE),"") | J18: =_xlfn.IFNA($C$18+VLOOKUP(J$16,'PUNIndex e PUN per fascia'!$I:$M,3,FALSE),"") | K18: =_xlfn.IFNA($C$18+VLOOKUP(K$16,'PUNIndex e PUN per fascia'!$I:$M,3,FALSE),"") | L18: =_xlfn.IFNA($C$18+VLOOKUP(L$16,'PUNIndex e PUN per fascia'!$I:$M,3,FALSE),"") | ... Q18: =_xlfn.IFNA($C$18+VLOOKUP(Q$16,'PUNIndex e PUN per fascia'!$I:$M,3,FALSE),"")
B19: F2 | C19: =+C17 -> 2.12 | E19: =_xlfn.IFNA($C$19+VLOOKUP(E$16,'PUNIndex e PUN per fascia'!$I:$M,4,FALSE),"") -> 61.55 | F19: =_xlfn.IFNA($C$19+VLOOKUP(F$16,'PUNIndex e PUN per fascia'!$I:$M,4,FALSE),"") -> 65.91 | G19: =_xlfn.IFNA($C$19+VLOOKUP(G$16,'PUNIndex e PUN per fascia'!$I:$M,4,FALSE),"") -> 64.83 | H19: =_xlfn.IFNA($C$19+VLOOKUP(H$16,'PUNIndex e PUN per fascia'!$I:$M,4,FALSE),"") -> 69.83 | I19: =_xlfn.IFNA($C$19+VLOOKUP(I$16,'PUNIndex e PUN per fascia'!$I:$M,4,FALSE),"") | J19: =_xlfn.IFNA($C$19+VLOOKUP(J$16,'PUNIndex e PUN per fascia'!$I:$M,4,FALSE),"") | K19: =_xlfn.IFNA($C$19+VLOOKUP(K$16,'PUNIndex e PUN per fascia'!$I:$M,4,FALSE),"") | L19: =_xlfn.IFNA($C$19+VLOOKUP(L$16,'PUNIndex e PUN per fascia'!$I:$M,4,FALSE),"") | ... Q19: =_xlfn.IFNA($C$19+VLOOKUP(Q$16,'PUNIndex e PUN per fascia'!$I:$M,4,FALSE),"")
B20: F3 | C20: =+C17 -> 2.12 | E20: =_xlfn.IFNA($C$20+VLOOKUP(E$16,'PUNIndex e PUN per fascia'!$I:$M,5,FALSE),"") -> 44.61 | F20: =_xlfn.IFNA($C$20+VLOOKUP(F$16,'PUNIndex e PUN per fascia'!$I:$M,5,FALSE),"") -> 53.67 | G20: =_xlfn.IFNA($C$20+VLOOKUP(G$16,'PUNIndex e PUN per fascia'!$I:$M,5,FALSE),"") -> 47.52 | H20: =_xlfn.IFNA($C$20+VLOOKUP(H$16,'PUNIndex e PUN per fascia'!$I:$M,5,FALSE),"") -> 56.49 | I20: =_xlfn.IFNA($C$20+VLOOKUP(I$16,'PUNIndex e PUN per fascia'!$I:$M,5,FALSE),"") | J20: =_xlfn.IFNA($C$20+VLOOKUP(J$16,'PUNIndex e PUN per fascia'!$I:$M,5,FALSE),"") | K20: =_xlfn.IFNA($C$20+VLOOKUP(K$16,'PUNIndex e PUN per fascia'!$I:$M,5,FALSE),"") | L20: =_xlfn.IFNA($C$20+VLOOKUP(L$16,'PUNIndex e PUN per fascia'!$I:$M,5,FALSE),"") | ... Q20: =_xlfn.IFNA($C$20+VLOOKUP(Q$16,'PUNIndex e PUN per fascia'!$I:$M,5,FALSE),"")
A21: LOTTO 5 - Prezzi Variabili al netto delle perdite di rete (Euro/MWh)

Sheet Lotto 6
Q1: torna al SOMMARIO
A4: Energia elettrica 18
A5: Convenzione per la fornitura di energia elettrica a prezzo fisso o a prezzo variabile e servizi connessi per tutte le Pubbliche Amministrazioni
A7: Configuratore corrispettivi a Prezzo Variabile per la fornitura di Energia Elettrica edizione 18
A9: =+SOMMARIO!A15 -> Lotto 6: Emilia Romagna
A11: Sconto PA Virtuose S | C11: 0,1 Euro/MWh
A12: Opzione Verde | C12: 0,65 Euro/MWh
A15: Forniture a Prezzo variabile a 12 e 24 mesi
B16: Fascia oraria | C16: ΨVAR | E16: 44166 | F16: 44197 | G16: 44228 | H16: 44256 | I16: 44287 | J16: 44317 | K16: 44348 | L16: 44378 | M16: 44409 | N16: 44440 | O16: 44470 | P16: 44501 | Q16: 44531 | R16: =_xlfn.IFNA($C$17+VLOOKUP(R$14,'PUNIndex e PUN per fascia'!$I:$M,2,FALSE),"") | S16: =_xlfn.IFNA($C$17+VLOOKUP(S$14,'PUNIndex e PUN per fascia'!$I:$M,2,FALSE),"") | T16: =_xlfn.IFNA($C$17+VLOOKUP(T$14,'PUNIndex e PUN per fascia'!$I:$M,2,FALSE),"") | U16: =_xlfn.IFNA($C$17+VLOOKUP(U$14,'PUNIndex e PUN per fascia'!$I:$M,2,FALSE),"") | V16: =_xlfn.IFNA($C$17+VLOOKUP(V$14,'PUNIndex e PUN per fascia'!$I:$M,2,FALSE),"") | W16: =_xlfn.IFNA($C$17+VLOOKUP(W$14,'PUNIndex e PUN per fascia'!$I:$M,2,FALSE),"") | X16: =_xlfn.IFNA($C$17+VLOOKUP(X$14,'PUNIndex e PUN per fascia'!$I:$M,2,FALSE),"") | Y16: =_xlfn.IFNA($C$17+VLOOKUP(Y$14,'PUNIndex e PUN per fascia'!$I:$M,2,FALSE),"") | Z16: =_xlfn.IFNA($C$17+VLOOKUP(Z$14,'PUNIndex e PUN per fascia'!$I:$M,2,FALSE),"")
B17: F0 | C17: 1.5 | E17: non attivo | F17: non attivo | G17: =_xlfn.IFNA($C$17+VLOOKUP(G$16,'PUNIndex e PUN per fascia'!$I:$M,2,FALSE),"") -> 58.07 | H17: =_xlfn.IFNA($C$17+VLOOKUP(H$16,'PUNIndex e PUN per fascia'!$I:$M,2,FALSE),"") -> 61.89 | I17: =_xlfn.IFNA($C$17+VLOOKUP(I$16,'PUNIndex e PUN per fascia'!$I:$M,2,FALSE),"") | J17: =_xlfn.IFNA($C$17+VLOOKUP(J$16,'PUNIndex e PUN per fascia'!$I:$M,2,FALSE),"") | K17: =_xlfn.IFNA($C$17+VLOOKUP(K$16,'PUNIndex e PUN per fascia'!$I:$M,2,FALSE),"") | L17: =_xlfn.IFNA($C$17+VLOOKUP(L$16,'PUNIndex e PUN per fascia'!$I:$M,2,FALSE),"") | M17: =_xlfn.IFNA($C$17+VLOOKUP(M$16,'PUNIndex e PUN per fascia'!$I:$M,2,FALSE),"") | N17: =_xlfn.IFNA($C$17+VLOOKUP(N$16,'PUNIndex e PUN per fascia'!$I:$M,2,FALSE),"") | ... Q17: =_xlfn.IFNA($C$17+VLOOKUP(Q$16,'PUNIndex e PUN per fascia'!$I:$M,2,FALSE),"")
B18: F1 | C18: =+C17 -> 1.5 | E18: non attivo | F18: non attivo | G18: =_xlfn.IFNA($C$18+VLOOKUP(G$16,'PUNIndex e PUN per fascia'!$I:$M,3,FALSE),"") -> 68.12 | H18: =_xlfn.IFNA($C$18+VLOOKUP(H$16,'PUNIndex e PUN per fascia'!$I:$M,3,FALSE),"") -> 64.12 | I18: =_xlfn.IFNA($C$18+VLOOKUP(I$16,'PUNIndex e PUN per fascia'!$I:$M,3,FALSE),"") | J18: =_xlfn.IFNA($C$18+VLOOKUP(J$16,'PUNIndex e PUN per fascia'!$I:$M,3,FALSE),"") | K18: =_xlfn.IFNA($C$18+VLOOKUP(K$16,'PUNIndex e PUN per fascia'!$I:$M,3,FALSE),"") | L18: =_xlfn.IFNA($C$18+VLOOKUP(L$16,'PUNIndex e PUN per fascia'!$I:$M,3,FALSE),"") | M18: =_xlfn.IFNA($C$18+VLOOKUP(M$16,'PUNIndex e PUN per fascia'!$I:$M,3,FALSE),"") | N18: =_xlfn.IFNA($C$18+VLOOKUP(N$16,'PUNIndex e PUN per fascia'!$I:$M,3,FALSE),"") | ... Q18: =_xlfn.IFNA($C$18+VLOOKUP(Q$16,'PUNIndex e PUN per fascia'!$I:$M,3,FALSE),"")
B19: F2 | C19: =+C17 -> 1.5 | E19: non attivo | F19: non attivo | G19: =_xlfn.IFNA($C$19+VLOOKUP(G$16,'PUNIndex e PUN per fascia'!$I:$M,4,FALSE),"") -> 64.21 | H19: =_xlfn.IFNA($C$19+VLOOKUP(H$16,'PUNIndex e PUN per fascia'!$I:$M,4,FALSE),"") -> 69.21 | I19: =_xlfn.IFNA($C$19+VLOOKUP(I$16,'PUNIndex e PUN per fascia'!$I:$M,4,FALSE),"") | J19: =_xlfn.IFNA($C$19+VLOOKUP(J$16,'PUNIndex e PUN per fascia'!$I:$M,4,FALSE),"") | K19: =_xlfn.IFNA($C$19+VLOOKUP(K$16,'PUNIndex e PUN per fascia'!$I:$M,4,FALSE),"") | L19: =_xlfn.IFNA($C$19+VLOOKUP(L$16,'PUNIndex e PUN per fascia'!$I:$M,4,FALSE),"") | M19: =_xlfn.IFNA($C$19+VLOOKUP(M$16,'PUNIndex e PUN per fascia'!$I:$M,4,FALSE),"") | N19: =_xlfn.IFNA($C$19+VLOOKUP(N$16,'PUNIndex e PUN per fascia'!$I:$M,4,FALSE),"") | ... Q19: =_xlfn.IFNA($C$19+VLOOKUP(Q$16,'PUNIndex e PUN per fascia'!$I:$M,4,FALSE),"")
B20: F3 | C20: =+C17 -> 1.5 | E20: non attivo | F20: non attivo | G20: =_xlfn.IFNA($C$20+VLOOKUP(G$16,'PUNIndex e PUN per fascia'!$I:$M,5,FALSE),"") -> 46.9 | H20: =_xlfn.IFNA($C$20+VLOOKUP(H$16,'PUNIndex e PUN per fascia'!$I:$M,5,FALSE),"") -> 55.87 | I20: =_xlfn.IFNA($C$20+VLOOKUP(I$16,'PUNIndex e PUN per fascia'!$I:$M,5,FALSE),"") | J20: =_xlfn.IFNA($C$20+VLOOKUP(J$16,'PUNIndex e PUN per fascia'!$I:$M,5,FALSE),"") | K20: =_xlfn.IFNA($C$20+VLOOKUP(K$16,'PUNIndex e PUN per fascia'!$I:$M,5,FALSE),"") | L20: =_xlfn.IFNA($C$20+VLOOKUP(L$16,'PUNIndex e PUN per fascia'!$I:$M,5,FALSE),"") | M20: =_xlfn.IFNA($C$20+VLOOKUP(M$16,'PUNIndex e PUN per fascia'!$I:$M,5,FALSE),"") | N20: =_xlfn.IFNA($C$20+VLOOKUP(N$16,'PUNIndex e PUN per fascia'!$I:$M,5,FALSE),"") | ... Q20: =_xlfn.IFNA($C$20+VLOOKUP(Q$16,'PUNIndex e PUN per fascia'!$I:$M,5,FALSE),"")
A21: LOTTO 6 - Prezzi Variabili al netto delle perdite di rete (Euro/MWh)

Sheet Lotto 7
Q1: torna al SOMMARIO
A4: Energia elettrica 18
A5: Convenzione per la fornitura di energia elettrica a prezzo fisso o a prezzo variabile e servizi connessi per tutte le Pubbliche Amministrazioni
A7: Configuratore corrispettivi a Prezzo Variabile per la fornitura di Energia Elettrica edizione 18
A9: =+SOMMARIO!A16 -> Lotto 7: Sardegna, Liguria
A11: Sconto PA Virtuose S | C11: 0,67 Euro/MWh
A12: Opzione Verde | C12: 0,9 Euro/MWh
A15: Forniture a Prezzo variabile a 12 e 24 mesi
B16: Fascia oraria | C16: ΨVAR | E16: 44166 | F16: 44197 | G16: 44228 | H16: 44256 | I16: 44287 | J16: 44317 | K16: 44348 | L16: 44378 | M16: 44409 | N16: 44440 | O16: 44470 | P16: 44501 | Q16: 44531 | R16: =_xlfn.IFNA($C$17+VLOOKUP(R$14,'PUNIndex e PUN per fascia'!$I:$M,2,FALSE),"") | S16: =_xlfn.IFNA($C$17+VLOOKUP(S$14,'PUNIndex e PUN per fascia'!$I:$M,2,FALSE),"") | T16: =_xlfn.IFNA($C$17+VLOOKUP(T$14,'PUNIndex e PUN per fascia'!$I:$M,2,FALSE),"") | U16: =_xlfn.IFNA($C$17+VLOOKUP(U$14,'PUNIndex e PUN per fascia'!$I:$M,2,FALSE),"") | V16: =_xlfn.IFNA($C$17+VLOOKUP(V$14,'PUNIndex e PUN per fascia'!$I:$M,2,FALSE),"") | W16: =_xlfn.IFNA($C$17+VLOOKUP(W$14,'PUNIndex e PUN per fascia'!$I:$M,2,FALSE),"") | X16: =_xlfn.IFNA($C$17+VLOOKUP(X$14,'PUNIndex e PUN per fascia'!$I:$M,2,FALSE),"") | Y16: =_xlfn.IFNA($C$17+VLOOKUP(Y$14,'PUNIndex e PUN per fascia'!$I:$M,2,FALSE),"") | Z16: =_xlfn.IFNA($C$17+VLOOKUP(Z$14,'PUNIndex e PUN per fascia'!$I:$M,2,FALSE),"")
B17: F0 | C17: 1.64 | E17: =_xlfn.IFNA($C$17+VLOOKUP(E$16,'PUNIndex e PUN per fascia'!$I:$M,2,FALSE),"") -> 55.68 | F17: =_xlfn.IFNA($C$17+VLOOKUP(F$16,'PUNIndex e PUN per fascia'!$I:$M,2,FALSE),"") -> 62.35 | G17: =_xlfn.IFNA($C$17+VLOOKUP(G$16,'PUNIndex e PUN per fascia'!$I:$M,2,FALSE),"") -> 58.21 | H17: =_xlfn.IFNA($C$17+VLOOKUP(H$16,'PUNIndex e PUN per fascia'!$I:$M,2,FALSE),"") -> 62.03 | I17: =_xlfn.IFNA($C$17+VLOOKUP(I$16,'PUNIndex e PUN per fascia'!$I:$M,2,FALSE),"") | J17: =_xlfn.IFNA($C$17+VLOOKUP(J$16,'PUNIndex e PUN per fascia'!$I:$M,2,FALSE),"") | K17: =_xlfn.IFNA($C$17+VLOOKUP(K$16,'PUNIndex e PUN per fascia'!$I:$M,2,FALSE),"") | L17: =_xlfn.IFNA($C$17+VLOOKUP(L$16,'PUNIndex e PUN per fascia'!$I:$M,2,FALSE),"") | ... Q17: =_xlfn.IFNA($C$17+VLOOKUP(Q$16,'PUNIndex e PUN per fascia'!$I:$M,2,FALSE),"")
B18: F1 | C18: =+C17 -> 1.64 | E18: =_xlfn.IFNA($C$18+VLOOKUP(E$16,'PUNIndex e PUN per fascia'!$I:$M,3,FALSE),"") -> 70.1 | F18: =_xlfn.IFNA($C$18+VLOOKUP(F$16,'PUNIndex e PUN per fascia'!$I:$M,3,FALSE),"") -> 75.56 | G18: =_xlfn.IFNA($C$18+VLOOKUP(G$16,'PUNIndex e PUN per fascia'!$I:$M,3,FALSE),"") -> 68.26 | H18: =_xlfn.IFNA($C$18+VLOOKUP(H$16,'PUNIndex e PUN per fascia'!$I:$M,3,FALSE),"") -> 64.26 | I18: =_xlfn.IFNA($C$18+VLOOKUP(I$16,'PUNIndex e PUN per fascia'!$I:$M,3,FALSE),"") | J18: =_xlfn.IFNA($C$18+VLOOKUP(J$16,'PUNIndex e PUN per fascia'!$I:$M,3,FALSE),"") | K18: =_xlfn.IFNA($C$18+VLOOKUP(K$16,'PUNIndex e PUN per fascia'!$I:$M,3,FALSE),"") | L18: =_xlfn.IFNA($C$18+VLOOKUP(L$16,'PUNIndex e PUN per fascia'!$I:$M,3,FALSE),"") | ... Q18: =_xlfn.IFNA($C$18+VLOOKUP(Q$16,'PUNIndex e PUN per fascia'!$I:$M,3,FALSE),"")
B19: F2 | C19: =+C17 -> 1.64 | E19: =_xlfn.IFNA($C$19+VLOOKUP(E$16,'PUNIndex e PUN per fascia'!$I:$M,4,FALSE),"") -> 61.07 | F19: =_xlfn.IFNA($C$19+VLOOKUP(F$16,'PUNIndex e PUN per fascia'!$I:$M,4,FALSE),"") -> 65.43 | G19: =_xlfn.IFNA($C$19+VLOOKUP(G$16,'PUNIndex e PUN per fascia'!$I:$M,4,FALSE),"") -> 64.35 | H19: =_xlfn.IFNA($C$19+VLOOKUP(H$16,'PUNIndex e PUN per fascia'!$I:$M,4,FALSE),"") -> 69.35 | I19: =_xlfn.IFNA($C$19+VLOOKUP(I$16,'PUNIndex e PUN per fascia'!$I:$M,4,FALSE),"") | J19: =_xlfn.IFNA($C$19+VLOOKUP(J$16,'PUNIndex e PUN per fascia'!$I:$M,4,FALSE),"") | K19: =_xlfn.IFNA($C$19+VLOOKUP(K$16,'PUNIndex e PUN per fascia'!$I:$M,4,FALSE),"") | L19: =_xlfn.IFNA($C$19+VLOOKUP(L$16,'PUNIndex e PUN per fascia'!$I:$M,4,FALSE),"") | ... Q19: =_xlfn.IFNA($C$19+VLOOKUP(Q$16,'PUNIndex e PUN per fascia'!$I:$M,4,FALSE),"")
B20: F3 | C20: =+C17 -> 1.64 | E20: =_xlfn.IFNA($C$20+VLOOKUP(E$16,'PUNIndex e PUN per fascia'!$I:$M,5,FALSE),"") -> 44.13 | F20: =_xlfn.IFNA($C$20+VLOOKUP(F$16,'PUNIndex e PUN per fascia'!$I:$M,5,FALSE),"") -> 53.19 | G20: =_xlfn.IFNA($C$20+VLOOKUP(G$16,'PUNIndex e PUN per fascia'!$I:$M,5,FALSE),"") -> 47.04 | H20: =_xlfn.IFNA($C$20+VLOOKUP(H$16,'PUNIndex e PUN per fascia'!$I:$M,5,FALSE),"") -> 56.01 | I20: =_xlfn.IFNA($C$20+VLOOKUP(I$16,'PUNIndex e PUN per fascia'!$I:$M,5,FALSE),"") | J20: =_xlfn.IFNA($C$20+VLOOKUP(J$16,'PUNIndex e PUN per fascia'!$I:$M,5,FALSE),"") | K20: =_xlfn.IFNA($C$20+VLOOKUP(K$16,'PUNIndex e PUN per fascia'!$I:$M,5,FALSE),"") | L20: =_xlfn.IFNA($C$20+VLOOKUP(L$16,'PUNIndex e PUN per fascia'!$I:$M,5,FALSE),"") | ... Q20: =_xlfn.IFNA($C$20+VLOOKUP(Q$16,'PUNIndex e PUN per fascia'!$I:$M,5,FALSE),"")
A21: LOTTO 7 - Prezzi Variabili al netto delle perdite di rete (Euro/MWh)

Sheet Lotto 8
Q1: torna al SOMMARIO
A4: Energia elettrica 18
A5: Convenzione per la fornitura di energia elettrica a prezzo fisso o a prezzo variabile e servizi connessi per tutte le Pubbliche Amministrazioni
A7: Configuratore corrispettivi a Prezzo Variabile per la fornitura di Energia Elettrica edizione 18
A9: =+SOMMARIO!A17 -> Lotto 8: Toscana
A11: Sconto PA Virtuose S | C11: 0,50 Euro/MWh
A12: Opzione Verde | C12: 0,60 Euro/MWh
A15: Forniture a Prezzo variabile a 12 e 24 mesi
B16: Fascia oraria | C16: ΨVAR | E16: 44166 | F16: 44197 | G16: 44228 | H16: 44256 | I16: 44287 | J16: 44317 | K16: 44348 | L16: 44378 | M16: 44409 | N16: 44440 | O16: 44470 | P16: 44501 | Q16: 44531 | R16: =_xlfn.IFNA($C$17+VLOOKUP(R$14,'PUNIndex e PUN per fascia'!$I:$M,2,FALSE),"") | S16: =_xlfn.IFNA($C$17+VLOOKUP(S$14,'PUNIndex e PUN per fascia'!$I:$M,2,FALSE),"") | T16: =_xlfn.IFNA($C$17+VLOOKUP(T$14,'PUNIndex e PUN per fascia'!$I:$M,2,FALSE),"") | U16: =_xlfn.IFNA($C$17+VLOOKUP(U$14,'PUNIndex e PUN per fascia'!$I:$M,2,FALSE),"") | V16: =_xlfn.IFNA($C$17+VLOOKUP(V$14,'PUNIndex e PUN per fascia'!$I:$M,2,FALSE),"") | W16: =_xlfn.IFNA($C$17+VLOOKUP(W$14,'PUNIndex e PUN per fascia'!$I:$M,2,FALSE),"") | X16: =_xlfn.IFNA($C$17+VLOOKUP(X$14,'PUNIndex e PUN per fascia'!$I:$M,2,FALSE),"") | Y16: =_xlfn.IFNA($C$17+VLOOKUP(Y$14,'PUNIndex e PUN per fascia'!$I:$M,2,FALSE),"") | Z16: =_xlfn.IFNA($C$17+VLOOKUP(Z$14,'PUNIndex e PUN per fascia'!$I:$M,2,FALSE),"")
B17: F0 | C17: 2.1 | E17: non attivo | F17: =_xlfn.IFNA($C$17+VLOOKUP(F$16,'PUNIndex e PUN per fascia'!$I:$M,2,FALSE),"") -> 62.81 | G17: =_xlfn.IFNA($C$17+VLOOKUP(G$16,'PUNIndex e PUN per fascia'!$I:$M,2,FALSE),"") -> 58.67 | H17: =_xlfn.IFNA($C$17+VLOOKUP(H$16,'PUNIndex e PUN per fascia'!$I:$M,2,FALSE),"") -> 62.49 | I17: =_xlfn.IFNA($C$17+VLOOKUP(I$16,'PUNIndex e PUN per fascia'!$I:$M,2,FALSE),"") | J17: =_xlfn.IFNA($C$17+VLOOKUP(J$16,'PUNIndex e PUN per fascia'!$I:$M,2,FALSE),"") | K17: =_xlfn.IFNA($C$17+VLOOKUP(K$16,'PUNIndex e PUN per fascia'!$I:$M,2,FALSE),"") | L17: =_xlfn.IFNA($C$17+VLOOKUP(L$16,'PUNIndex e PUN per fascia'!$I:$M,2,FALSE),"") | M17: =_xlfn.IFNA($C$17+VLOOKUP(M$16,'PUNIndex e PUN per fascia'!$I:$M,2,FALSE),"") | ... Q17: =_xlfn.IFNA($C$17+VLOOKUP(Q$16,'PUNIndex e PUN per fascia'!$I:$M,2,FALSE),"")
B18: F1 | C18: =+C17 -> 2.1 | E18: non attivo | F18: =_xlfn.IFNA($C$17+VLOOKUP(F$16,'PUNIndex e PUN per fascia'!$I:$M,3,FALSE),"") -> 76.02 | G18: =_xlfn.IFNA($C$17+VLOOKUP(G$16,'PUNIndex e PUN per fascia'!$I:$M,3,FALSE),"") -> 68.72 | H18: =_xlfn.IFNA($C$17+VLOOKUP(H$16,'PUNIndex e PUN per fascia'!$I:$M,3,FALSE),"") -> 64.72 | I18: =_xlfn.IFNA($C$17+VLOOKUP(I$16,'PUNIndex e PUN per fascia'!$I:$M,3,FALSE),"") | J18: =_xlfn.IFNA($C$17+VLOOKUP(J$16,'PUNIndex e PUN per fascia'!$I:$M,3,FALSE),"") | K18: =_xlfn.IFNA($C$17+VLOOKUP(K$16,'PUNIndex e PUN per fascia'!$I:$M,3,FALSE),"") | L18: =_xlfn.IFNA($C$17+VLOOKUP(L$16,'PUNIndex e PUN per fascia'!$I:$M,3,FALSE),"") | M18: =_xlfn.IFNA($C$17+VLOOKUP(M$16,'PUNIndex e PUN per fascia'!$I:$M,3,FALSE),"") | ... Q18: =_xlfn.IFNA($C$17+VLOOKUP(Q$16,'PUNIndex e PUN per fascia'!$I:$M,3,FALSE),"")
B19: F2 | C19: =+C17 -> 2.1 | E19: non attivo | F19: =_xlfn.IFNA($C$17+VLOOKUP(F$16,'PUNIndex e PUN per fascia'!$I:$M,4,FALSE),"") -> 65.89 | G19: =_xlfn.IFNA($C$17+VLOOKUP(G$16,'PUNIndex e PUN per fascia'!$I:$M,4,FALSE),"") -> 64.81 | H19: =_xlfn.IFNA($C$17+VLOOKUP(H$16,'PUNIndex e PUN per fascia'!$I:$M,4,FALSE),"") -> 69.81 | I19: =_xlfn.IFNA($C$17+VLOOKUP(I$16,'PUNIndex e PUN per fascia'!$I:$M,4,FALSE),"") | J19: =_xlfn.IFNA($C$17+VLOOKUP(J$16,'PUNIndex e PUN per fascia'!$I:$M,4,FALSE),"") | K19: =_xlfn.IFNA($C$17+VLOOKUP(K$16,'PUNIndex e PUN per fascia'!$I:$M,4,FALSE),"") | L19: =_xlfn.IFNA($C$17+VLOOKUP(L$16,'PUNIndex e PUN per fascia'!$I:$M,4,FALSE),"") | M19: =_xlfn.IFNA($C$17+VLOOKUP(M$16,'PUNIndex e PUN per fascia'!$I:$M,4,FALSE),"") | ... Q19: =_xlfn.IFNA($C$17+VLOOKUP(Q$16,'PUNIndex e PUN per fascia'!$I:$M,4,FALSE),"")
B20: F3 | C20: =+C17 -> 2.1 | E20: non attivo | F20: =_xlfn.IFNA($C$17+VLOOKUP(F$16,'PUNIndex e PUN per fascia'!$I:$M,5,FALSE),"") -> 53.65 | G20: =_xlfn.IFNA($C$17+VLOOKUP(G$16,'PUNIndex e PUN per fascia'!$I:$M,5,FALSE),"") -> 47.5 | H20: =_xlfn.IFNA($C$17+VLOOKUP(H$16,'PUNIndex e PUN per fascia'!$I:$M,5,FALSE),"") -> 56.47 | I20: =_xlfn.IFNA($C$17+VLOOKUP(I$16,'PUNIndex e PUN per fascia'!$I:$M,5,FALSE),"") | J20: =_xlfn.IFNA($C$17+VLOOKUP(J$16,'PUNIndex e PUN per fascia'!$I:$M,5,FALSE),"") | K20: =_xlfn.IFNA($C$17+VLOOKUP(K$16,'PUNIndex e PUN per fascia'!$I:$M,5,FALSE),"") | L20: =_xlfn.IFNA($C$17+VLOOKUP(L$16,'PUNIndex e PUN per fascia'!$I:$M,5,FALSE),"") | M20: =_xlfn.IFNA($C$17+VLOOKUP(M$16,'PUNIndex e PUN per fascia'!$I:$M,5,FALSE),"") | ... Q20: =_xlfn.IFNA($C$17+VLOOKUP(Q$16,'PUNIndex e PUN per fascia'!$I:$M,5,FALSE),"")
A21: LOTTO 8 - Prezzi Variabili al netto delle perdite di rete (Euro/MWh)

Sheet Lotto 9
Q1: torna al SOMMARIO
A4: Energia elettrica 18
A5: Convenzione per la fornitura di energia elettrica a prezzo fisso o a prezzo variabile e servizi connessi per tutte le Pubbliche Amministrazioni
A7: Configuratore corrispettivi a Prezzo Variabile per la fornitura di Energia Elettrica edizione 18
A9: =+SOMMARIO!A18 -> Lotto 9: Umbria, Marche
A11: Sconto PA Virtuose S | C11: 0,10 Euro/MWh
A12: Opzione Verde | C12: 0,60 Euro/MWh
A15: Forniture a Prezzo variabile a 12 e 24 mesi
B16: Fascia oraria | C16: ΨVAR | E16: 44166 | F16: 44197 | G16: 44228 | H16: 44256 | I16: 44287 | J16: 44317 | K16: 44348 | L16: 44378 | M16: 44409 | N16: 44440 | O16: 44470 | P16: 44501 | Q16: 44531 | R16: =_xlfn.IFNA($C$17+VLOOKUP(R$14,'PUNIndex e PUN per fascia'!$I:$M,2,FALSE),"") | S16: =_xlfn.IFNA($C$17+VLOOKUP(S$14,'PUNIndex e PUN per fascia'!$I:$M,2,FALSE),"") | T16: =_xlfn.IFNA($C$17+VLOOKUP(T$14,'PUNIndex e PUN per fascia'!$I:$M,2,FALSE),"") | U16: =_xlfn.IFNA($C$17+VLOOKUP(U$14,'PUNIndex e PUN per fascia'!$I:$M,2,FALSE),"") | V16: =_xlfn.IFNA($C$17+VLOOKUP(V$14,'PUNIndex e PUN per fascia'!$I:$M,2,FALSE),"") | W16: =_xlfn.IFNA($C$17+VLOOKUP(W$14,'PUNIndex e PUN per fascia'!$I:$M,2,FALSE),"") | X16: =_xlfn.IFNA($C$17+VLOOKUP(X$14,'PUNIndex e PUN per fascia'!$I:$M,2,FALSE),"") | Y16: =_xlfn.IFNA($C$17+VLOOKUP(Y$14,'PUNIndex e PUN per fascia'!$I:$M,2,FALSE),"") | Z16: =_xlfn.IFNA($C$17+VLOOKUP(Z$14,'PUNIndex e PUN per fascia'!$I:$M,2,FALSE),"")
B17: F0 | C17: 2.1 | E17: non attivo | F17: =_xlfn.IFNA($C$17+VLOOKUP(F$16,'PUNIndex e PUN per fascia'!$I:$M,2,FALSE),"") -> 62.81 | G17: =_xlfn.IFNA($C$17+VLOOKUP(G$16,'PUNIndex e PUN per fascia'!$I:$M,2,FALSE),"") -> 58.67 | H17: =_xlfn.IFNA($C$17+VLOOKUP(H$16,'PUNIndex e PUN per fascia'!$I:$M,2,FALSE),"") -> 62.49 | I17: =_xlfn.IFNA($C$17+VLOOKUP(I$16,'PUNIndex e PUN per fascia'!$I:$M,2,FALSE),"") | J17: =_xlfn.IFNA($C$17+VLOOKUP(J$16,'PUNIndex e PUN per fascia'!$I:$M,2,FALSE),"") | K17: =_xlfn.IFNA($C$17+VLOOKUP(K$16,'PUNIndex e PUN per fascia'!$I:$M,2,FALSE),"") | L17: =_xlfn.IFNA($C$17+VLOOKUP(L$16,'PUNIndex e PUN per fascia'!$I:$M,2,FALSE),"") | M17: =_xlfn.IFNA($C$17+VLOOKUP(M$16,'PUNIndex e PUN per fascia'!$I:$M,2,FALSE),"") | ... Q17: =_xlfn.IFNA($C$17+VLOOKUP(Q$16,'PUNIndex e PUN per fascia'!$I:$M,2,FALSE),"")
B18: F1 | C18: =+C17 -> 2.1 | E18: non attivo | F18: =_xlfn.IFNA($C$17+VLOOKUP(F$16,'PUNIndex e PUN per fascia'!$I:$M,3,FALSE),"") -> 76.02 | G18: =_xlfn.IFNA($C$17+VLOOKUP(G$16,'PUNIndex e PUN per fascia'!$I:$M,3,FALSE),"") -> 68.72 | H18: =_xlfn.IFNA($C$17+VLOOKUP(H$16,'PUNIndex e PUN per fascia'!$I:$M,3,FALSE),"") -> 64.72 | I18: =_xlfn.IFNA($C$17+VLOOKUP(I$16,'PUNIndex e PUN per fascia'!$I:$M,3,FALSE),"") | J18: =_xlfn.IFNA($C$17+VLOOKUP(J$16,'PUNIndex e PUN per fascia'!$I:$M,3,FALSE),"") | K18: =_xlfn.IFNA($C$17+VLOOKUP(K$16,'PUNIndex e PUN per fascia'!$I:$M,3,FALSE),"") | L18: =_xlfn.IFNA($C$17+VLOOKUP(L$16,'PUNIndex e PUN per fascia'!$I:$M,3,FALSE),"") | M18: =_xlfn.IFNA($C$17+VLOOKUP(M$16,'PUNIndex e PUN per fascia'!$I:$M,3,FALSE),"") | ... Q18: =_xlfn.IFNA($C$17+VLOOKUP(Q$16,'PUNIndex e PUN per fascia'!$I:$M,3,FALSE),"")
B19: F2 | C19: =+C17 -> 2.1 | E19: non attivo | F19: =_xlfn.IFNA($C$17+VLOOKUP(F$16,'PUNIndex e PUN per fascia'!$I:$M,4,FALSE),"") -> 65.89 | G19: =_xlfn.IFNA($C$17+VLOOKUP(G$16,'PUNIndex e PUN per fascia'!$I:$M,4,FALSE),"") -> 64.81 | H19: =_xlfn.IFNA($C$17+VLOOKUP(H$16,'PUNIndex e PUN per fascia'!$I:$M,4,FALSE),"") -> 69.81 | I19: =_xlfn.IFNA($C$17+VLOOKUP(I$16,'PUNIndex e PUN per fascia'!$I:$M,4,FALSE),"") | J19: =_xlfn.IFNA($C$17+VLOOKUP(J$16,'PUNIndex e PUN per fascia'!$I:$M,4,FALSE),"") | K19: =_xlfn.IFNA($C$17+VLOOKUP(K$16,'PUNIndex e PUN per fascia'!$I:$M,4,FALSE),"") | L19: =_xlfn.IFNA($C$17+VLOOKUP(L$16,'PUNIndex e PUN per fascia'!$I:$M,4,FALSE),"") | M19: =_xlfn.IFNA($C$17+VLOOKUP(M$16,'PUNIndex e PUN per fascia'!$I:$M,4,FALSE),"") | ... Q19: =_xlfn.IFNA($C$17+VLOOKUP(Q$16,'PUNIndex e PUN per fascia'!$I:$M,4,FALSE),"")
B20: F3 | C20: =+C17 -> 2.1 | E20: non attivo | F20: =_xlfn.IFNA($C$17+VLOOKUP(F$16,'PUNIndex e PUN per fascia'!$I:$M,5,FALSE),"") -> 53.65 | G20: =_xlfn.IFNA($C$17+VLOOKUP(G$16,'PUNIndex e PUN per fascia'!$I:$M,5,FALSE),"") -> 47.5 | H20: =_xlfn.IFNA($C$17+VLOOKUP(H$16,'PUNIndex e PUN per fascia'!$I:$M,5,FALSE),"") -> 56.47 | I20: =_xlfn.IFNA($C$17+VLOOKUP(I$16,'PUNIndex e PUN per fascia'!$I:$M,5,FALSE),"") | J20: =_xlfn.IFNA($C$17+VLOOKUP(J$16,'PUNIndex e PUN per fascia'!$I:$M,5,FALSE),"") | K20: =_xlfn.IFNA($C$17+VLOOKUP(K$16,'PUNIndex e PUN per fascia'!$I:$M,5,FALSE),"") | L20: =_xlfn.IFNA($C$17+VLOOKUP(L$16,'PUNIndex e PUN per fascia'!$I:$M,5,FALSE),"") | M20: =_xlfn.IFNA($C$17+VLOOKUP(M$16,'PUNIndex e PUN per fascia'!$I:$M,5,FALSE),"") | ... Q20: =_xlfn.IFNA($C$17+VLOOKUP(Q$16,'PUNIndex e PUN per fascia'!$I:$M,5,FALSE),"")
A21: LOTTO 9 - Prezzi Variabili al netto delle perdite di rete (Euro/MWh)

Sheet Lotto 10
Q1: torna al SOMMARIO
A4: Energia elettrica 18
A5: Convenzione per la fornitura di energia elettrica a prezzo fisso o a prezzo variabile e servizi connessi per tutte le Pubbliche Amministrazioni
A7: Configuratore corrispettivi a Prezzo Variabile per la fornitura di Energia Elettrica edizione 18
A9: =+SOMMARIO!A19 -> Lotto 10: Provincia di Roma
A11: Sconto PA Virtuose S | C11: 1,33 Euro/MWh
A12: Opzione Verde | C12: 0,9 Euro/MWh
A15: Forniture a Prezzo variabile a 12 e 24 mesi
B16: Fascia oraria | C16: ΨVAR | E16: 44166 | F16: 44197 | G16: 44228 | H16: 44256 | I16: 44287 | J16: 44317 | K16: 44348 | L16: 44378 | M16: 44409 | N16: 44440 | O16: 44470 | P16: 44501 | Q16: 44531 | R16: =_xlfn.IFNA($C$17+VLOOKUP(R$14,'PUNIndex e PUN per fascia'!$I:$M,2,FALSE),"") | S16: =_xlfn.IFNA($C$17+VLOOKUP(S$14,'PUNIndex e PUN per fascia'!$I:$M,2,FALSE),"") | T16: =_xlfn.IFNA($C$17+VLOOKUP(T$14,'PUNIndex e PUN per fascia'!$I:$M,2,FALSE),"") | U16: =_xlfn.IFNA($C$17+VLOOKUP(U$14,'PUNIndex e PUN per fascia'!$I:$M,2,FALSE),"") | V16: =_xlfn.IFNA($C$17+VLOOKUP(V$14,'PUNIndex e PUN per fascia'!$I:$M,2,FALSE),"") | W16: =_xlfn.IFNA($C$17+VLOOKUP(W$14,'PUNIndex e PUN per fascia'!$I:$M,2,FALSE),"") | X16: =_xlfn.IFNA($C$17+VLOOKUP(X$14,'PUNIndex e PUN per fascia'!$I:$M,2,FALSE),"") | Y16: =_xlfn.IFNA($C$17+VLOOKUP(Y$14,'PUNIndex e PUN per fascia'!$I:$M,2,FALSE),"") | Z16: =_xlfn.IFNA($C$17+VLOOKUP(Z$14,'PUNIndex e PUN per fascia'!$I:$M,2,FALSE),"")
B17: F0 | C17: 4.06 | E17: =_xlfn.IFNA($C$17+VLOOKUP(E$16,'PUNIndex e PUN per fascia'!$I:$M,2,FALSE),"") -> 58.1 | F17: =_xlfn.IFNA($C$17+VLOOKUP(F$16,'PUNIndex e PUN per fascia'!$I:$M,2,FALSE),"") -> 64.77 | G17: =_xlfn.IFNA($C$17+VLOOKUP(G$16,'PUNIndex e PUN per fascia'!$I:$M,2,FALSE),"") -> 60.63 | H17: =_xlfn.IFNA($C$17+VLOOKUP(H$16,'PUNIndex e PUN per fascia'!$I:$M,2,FALSE),"") -> 64.45 | I17: =_xlfn.IFNA($C$17+VLOOKUP(I$16,'PUNIndex e PUN per fascia'!$I:$M,2,FALSE),"") | J17: =_xlfn.IFNA($C$17+VLOOKUP(J$16,'PUNIndex e PUN per fascia'!$I:$M,2,FALSE),"") | K17: =_xlfn.IFNA($C$17+VLOOKUP(K$16,'PUNIndex e PUN per fascia'!$I:$M,2,FALSE),"") | L17: =_xlfn.IFNA($C$17+VLOOKUP(L$16,'PUNIndex e PUN per fascia'!$I:$M,2,FALSE),"") | ... Q17: =_xlfn.IFNA($C$17+VLOOKUP(Q$16,'PUNIndex e PUN per fascia'!$I:$M,2,FALSE),"")
B18: F1 | C18: =+C17 -> 4.06 | E18: =_xlfn.IFNA($C$18+VLOOKUP(E$16,'PUNIndex e PUN per fascia'!$I:$M,3,FALSE),"") -> 72.52 | F18: =_xlfn.IFNA($C$18+VLOOKUP(F$16,'PUNIndex e PUN per fascia'!$I:$M,3,FALSE),"") -> 77.98 | G18: =_xlfn.IFNA($C$18+VLOOKUP(G$16,'PUNIndex e PUN per fascia'!$I:$M,3,FALSE),"") -> 70.68 | H18: =_xlfn.IFNA($C$18+VLOOKUP(H$16,'PUNIndex e PUN per fascia'!$I:$M,3,FALSE),"") -> 66.68 | I18: =_xlfn.IFNA($C$18+VLOOKUP(I$16,'PUNIndex e PUN per fascia'!$I:$M,3,FALSE),"") | J18: =_xlfn.IFNA($C$18+VLOOKUP(J$16,'PUNIndex e PUN per fascia'!$I:$M,3,FALSE),"") | K18: =_xlfn.IFNA($C$18+VLOOKUP(K$16,'PUNIndex e PUN per fascia'!$I:$M,3,FALSE),"") | L18: =_xlfn.IFNA($C$18+VLOOKUP(L$16,'PUNIndex e PUN per fascia'!$I:$M,3,FALSE),"") | ... Q18: =_xlfn.IFNA($C$18+VLOOKUP(Q$16,'PUNIndex e PUN per fascia'!$I:$M,3,FALSE),"")
B19: F2 | C19: =+C17 -> 4.06 | E19: =_xlfn.IFNA($C$19+VLOOKUP(E$16,'PUNIndex e PUN per fascia'!$I:$M,4,FALSE),"") -> 63.49 | F19: =_xlfn.IFNA($C$19+VLOOKUP(F$16,'PUNIndex e PUN per fascia'!$I:$M,4,FALSE),"") -> 67.85 | G19: =_xlfn.IFNA($C$19+VLOOKUP(G$16,'PUNIndex e PUN per fascia'!$I:$M,4,FALSE),"") -> 66.77 | H19: =_xlfn.IFNA($C$19+VLOOKUP(H$16,'PUNIndex e PUN per fascia'!$I:$M,4,FALSE),"") -> 71.77 | I19: =_xlfn.IFNA($C$19+VLOOKUP(I$16,'PUNIndex e PUN per fascia'!$I:$M,4,FALSE),"") | J19: =_xlfn.IFNA($C$19+VLOOKUP(J$16,'PUNIndex e PUN per fascia'!$I:$M,4,FALSE),"") | K19: =_xlfn.IFNA($C$19+VLOOKUP(K$16,'PUNIndex e PUN per fascia'!$I:$M,4,FALSE),"") | L19: =_xlfn.IFNA($C$19+VLOOKUP(L$16,'PUNIndex e PUN per fascia'!$I:$M,4,FALSE),"") | ... Q19: =_xlfn.IFNA($C$19+VLOOKUP(Q$16,'PUNIndex e PUN per fascia'!$I:$M,4,FALSE),"")
B20: F3 | C20: =+C17 -> 4.06 | E20: =_xlfn.IFNA($C$20+VLOOKUP(E$16,'PUNIndex e PUN per fascia'!$I:$M,5,FALSE),"") -> 46.55 | F20: =_xlfn.IFNA($C$20+VLOOKUP(F$16,'PUNIndex e PUN per fascia'!$I:$M,5,FALSE),"") -> 55.61 | G20: =_xlfn.IFNA($C$20+VLOOKUP(G$16,'PUNIndex e PUN per fascia'!$I:$M,5,FALSE),"") -> 49.46 | H20: =_xlfn.IFNA($C$20+VLOOKUP(H$16,'PUNIndex e PUN per fascia'!$I:$M,5,FALSE),"") -> 58.43 | I20: =_xlfn.IFNA($C$20+VLOOKUP(I$16,'PUNIndex e PUN per fascia'!$I:$M,5,FALSE),"") | J20: =_xlfn.IFNA($C$20+VLOOKUP(J$16,'PUNIndex e PUN per fascia'!$I:$M,5,FALSE),"") | K20: =_xlfn.IFNA($C$20+VLOOKUP(K$16,'PUNIndex e PUN per fascia'!$I:$M,5,FALSE),"") | L20: =_xlfn.IFNA($C$20+VLOOKUP(L$16,'PUNIndex e PUN per fascia'!$I:$M,5,FALSE),"") | ... Q20: =_xlfn.IFNA($C$20+VLOOKUP(Q$16,'PUNIndex e PUN per fascia'!$I:$M,5,FALSE),"")
A21: LOTTO 10 - Prezzi Variabili al netto delle perdite di rete (Euro/MWh)

Sheet Lotto 11
Q1: torna al SOMMARIO
A4: Energia elettrica 18
A5: Convenzione per la fornitura di energia elettrica a prezzo fisso o a prezzo variabile e servizi connessi per tutte le Pubbliche Amministrazioni
A7: Configuratore corrispettivi a Prezzo Variabile per la fornitura di Energia Elettrica edizione 18
A9: =+SOMMARIO!A20 -> Lotto 11: Lazio esclusa la Provincia di Roma
A11: Sconto PA Virtuose S | C11: 0,50 Euro/MWh
A12: Opzione Verde | C12: 0,60 Euro/MWh
A15: Forniture a Prezzo variabile a 12 e 24 mesi
B16: Fascia oraria | C16: ΨVAR | E16: 44166 | F16: 44197 | G16: 44228 | H16: 44256 | I16: 44287 | J16: 44317 | K16: 44348 | L16: 44378 | M16: 44409 | N16: 44440 | O16: 44470 | P16: 44501 | Q16: 44531 | R16: =_xlfn.IFNA($C$17+VLOOKUP(R$14,'PUNIndex e PUN per fascia'!$I:$M,2,FALSE),"") | S16: =_xlfn.IFNA($C$17+VLOOKUP(S$14,'PUNIndex e PUN per fascia'!$I:$M,2,FALSE),"") | T16: =_xlfn.IFNA($C$17+VLOOKUP(T$14,'PUNIndex e PUN per fascia'!$I:$M,2,FALSE),"") | U16: =_xlfn.IFNA($C$17+VLOOKUP(U$14,'PUNIndex e PUN per fascia'!$I:$M,2,FALSE),"") | V16: =_xlfn.IFNA($C$17+VLOOKUP(V$14,'PUNIndex e PUN per fascia'!$I:$M,2,FALSE),"") | W16: =_xlfn.IFNA($C$17+VLOOKUP(W$14,'PUNIndex e PUN per fascia'!$I:$M,2,FALSE),"") | X16: =_xlfn.IFNA($C$17+VLOOKUP(X$14,'PUNIndex e PUN per fascia'!$I:$M,2,FALSE),"") | Y16: =_xlfn.IFNA($C$17+VLOOKUP(Y$14,'PUNIndex e PUN per fascia'!$I:$M,2,FALSE),"") | Z16: =_xlfn.IFNA($C$17+VLOOKUP(Z$14,'PUNIndex e PUN per fascia'!$I:$M,2,FALSE),"")
